BEGIN:VCALENDAR
VERSION:2.0
PRODID:-//CrossFit Chaparral - ECPv6.15.10//NONSGML v1.0//EN
CALSCALE:GREGORIAN
METHOD:PUBLISH
X-WR-CALNAME:CrossFit Chaparral
X-ORIGINAL-URL:http://crossfitchaparral.com
X-WR-CALDESC:Events for CrossFit Chaparral
REFRESH-INTERVAL;VALUE=DURATION:PT1H
X-Robots-Tag:noindex
X-PUBLISHED-TTL:PT1H
BEGIN:VTIMEZONE
TZID:UTC
BEGIN:STANDARD
TZOFFSETFROM:+0000
TZOFFSETTO:+0000
TZNAME:UTC
DTSTART:20250101T000000
END:STANDARD
END:VTIMEZONE
BEGIN:VEVENT
DTSTART;TZID=UTC:20260824T050000
DTEND;TZID=UTC:20260824T063000
DTSTAMP:20260425T215417
CREATED:20251027T163822Z
LAST-MODIFIED:20251027T164423Z
UID:10000216-1787547600-1787553000@crossfitchaparral.com
SUMMARY:AoG
DESCRIPTION:
URL:http://crossfitchaparral.com/event/aog/2026-08-24/
LOCATION:CrossFit Chaparral\, 6451 E Shea Blvd\, Scottsdale\, AZ\, 85254\, United States
CATEGORIES:AoG
END:VEVENT
BEGIN:VEVENT
DTSTART;TZID=UTC:20260824T053000
DTEND;TZID=UTC:20260824T063000
DTSTAMP:20260425T215417
CREATED:20251027T164919Z
LAST-MODIFIED:20251027T164919Z
UID:10001521-1787549400-1787553000@crossfitchaparral.com
SUMMARY:CrossFit Class
DESCRIPTION:
URL:http://crossfitchaparral.com/event/crossfit-class/2026-08-24/
CATEGORIES:CrossFit Class
END:VEVENT
BEGIN:VEVENT
DTSTART;TZID=UTC:20260824T063000
DTEND;TZID=UTC:20260824T193000
DTSTAMP:20260425T215417
CREATED:20251027T165009Z
LAST-MODIFIED:20251027T165009Z
UID:10002826-1787553000-1787599800@crossfitchaparral.com
SUMMARY:CrossFit Class
DESCRIPTION:
URL:http://crossfitchaparral.com/event/crossfit-class-2/2026-08-24/
CATEGORIES:CrossFit Class
END:VEVENT
BEGIN:VEVENT
DTSTART;TZID=UTC:20260824T083000
DTEND;TZID=UTC:20260824T091500
DTSTAMP:20260425T215417
CREATED:20251027T165103Z
LAST-MODIFIED:20251218T164423Z
UID:10011581-1787560200-1787562900@crossfitchaparral.com
SUMMARY:H.I.I.T
DESCRIPTION:
URL:http://crossfitchaparral.com/event/h-i-i-t/2026-08-24/
CATEGORIES:H.I.I.T
END:VEVENT
BEGIN:VEVENT
DTSTART;TZID=UTC:20260824T153000
DTEND;TZID=UTC:20260824T163000
DTSTAMP:20260425T215417
CREATED:20251027T165854Z
LAST-MODIFIED:20251027T165854Z
UID:10006569-1787585400-1787589000@crossfitchaparral.com
SUMMARY:CrossFit Kids
DESCRIPTION:
URL:http://crossfitchaparral.com/event/crossfit-kids/2026-08-24/
CATEGORIES:CrossFit Kids
END:VEVENT
BEGIN:VEVENT
DTSTART;TZID=UTC:20260824T163000
DTEND;TZID=UTC:20260824T173000
DTSTAMP:20260425T215417
CREATED:20251027T165935Z
LAST-MODIFIED:20251027T165935Z
UID:10007002-1787589000-1787592600@crossfitchaparral.com
SUMMARY:CrossFit Class
DESCRIPTION:
URL:http://crossfitchaparral.com/event/crossfit-class-5/2026-08-24/
CATEGORIES:CrossFit Class
END:VEVENT
BEGIN:VEVENT
DTSTART;TZID=UTC:20260824T173000
DTEND;TZID=UTC:20260824T183000
DTSTAMP:20260425T215417
CREATED:20251027T170752Z
LAST-MODIFIED:20251027T170752Z
UID:10008307-1787592600-1787596200@crossfitchaparral.com
SUMMARY:CrossFit Class
DESCRIPTION:
URL:http://crossfitchaparral.com/event/crossfit-class-6/2026-08-24/
CATEGORIES:CrossFit Class
END:VEVENT
BEGIN:VEVENT
DTSTART;TZID=UTC:20260824T183000
DTEND;TZID=UTC:20260824T193000
DTSTAMP:20260425T215417
CREATED:20251027T170840Z
LAST-MODIFIED:20251027T170858Z
UID:10009569-1787596200-1787599800@crossfitchaparral.com
SUMMARY:CrossFit Class
DESCRIPTION:
URL:http://crossfitchaparral.com/event/crossfit-class-7/2026-08-24/
CATEGORIES:CrossFit Class
END:VEVENT
END:VCALENDAR