BEGIN:VCALENDAR
VERSION:2.0
PRODID:-//CrossFit Chaparral - ECPv6.15.10//NONSGML v1.0//EN
CALSCALE:GREGORIAN
METHOD:PUBLISH
X-ORIGINAL-URL:http://crossfitchaparral.com
X-WR-CALDESC:Events for CrossFit Chaparral
REFRESH-INTERVAL;VALUE=DURATION:PT1H
X-Robots-Tag:noindex
X-PUBLISHED-TTL:PT1H
BEGIN:VTIMEZONE
TZID:UTC
BEGIN:STANDARD
TZOFFSETFROM:+0000
TZOFFSETTO:+0000
TZNAME:UTC
DTSTART:20250101T000000
END:STANDARD
END:VTIMEZONE
BEGIN:VEVENT
DTSTART;TZID=UTC:20261016T050000
DTEND;TZID=UTC:20261016T063000
DTSTAMP:20260423T163459
CREATED:20251027T163822Z
LAST-MODIFIED:20251027T164423Z
UID:10000255-1792126800-1792132200@crossfitchaparral.com
SUMMARY:AoG
DESCRIPTION:
URL:http://crossfitchaparral.com/event/aog/2026-10-16/
LOCATION:CrossFit Chaparral\, 6451 E Shea Blvd\, Scottsdale\, AZ\, 85254\, United States
CATEGORIES:AoG
END:VEVENT
BEGIN:VEVENT
DTSTART;TZID=UTC:20261016T053000
DTEND;TZID=UTC:20261016T063000
DTSTAMP:20260423T163459
CREATED:20251027T164919Z
LAST-MODIFIED:20251027T164919Z
UID:10001560-1792128600-1792132200@crossfitchaparral.com
SUMMARY:CrossFit Class
DESCRIPTION:
URL:http://crossfitchaparral.com/event/crossfit-class/2026-10-16/
CATEGORIES:CrossFit Class
END:VEVENT
BEGIN:VEVENT
DTSTART;TZID=UTC:20261016T063000
DTEND;TZID=UTC:20261016T193000
DTSTAMP:20260423T163459
CREATED:20251027T165009Z
LAST-MODIFIED:20251027T165009Z
UID:10002865-1792132200-1792179000@crossfitchaparral.com
SUMMARY:CrossFit Class
DESCRIPTION:
URL:http://crossfitchaparral.com/event/crossfit-class-2/2026-10-16/
CATEGORIES:CrossFit Class
END:VEVENT
BEGIN:VEVENT
DTSTART;TZID=UTC:20261016T083000
DTEND;TZID=UTC:20261016T093000
DTSTAMP:20260423T163459
CREATED:20251027T165257Z
LAST-MODIFIED:20251027T165257Z
UID:10005271-1792139400-1792143000@crossfitchaparral.com
SUMMARY:CrossFit Class
DESCRIPTION:
URL:http://crossfitchaparral.com/event/crossfit-class-3/2026-10-16/
CATEGORIES:CrossFit Class
END:VEVENT
BEGIN:VEVENT
DTSTART;TZID=UTC:20261016T163000
DTEND;TZID=UTC:20261016T173000
DTSTAMP:20260423T163459
CREATED:20251027T165935Z
LAST-MODIFIED:20251027T165935Z
UID:10007041-1792168200-1792171800@crossfitchaparral.com
SUMMARY:CrossFit Class
DESCRIPTION:
URL:http://crossfitchaparral.com/event/crossfit-class-5/2026-10-16/
CATEGORIES:CrossFit Class
END:VEVENT
BEGIN:VEVENT
DTSTART;TZID=UTC:20261016T173000
DTEND;TZID=UTC:20261016T183000
DTSTAMP:20260423T163459
CREATED:20251027T170752Z
LAST-MODIFIED:20251027T170752Z
UID:10008346-1792171800-1792175400@crossfitchaparral.com
SUMMARY:CrossFit Class
DESCRIPTION:
URL:http://crossfitchaparral.com/event/crossfit-class-6/2026-10-16/
CATEGORIES:CrossFit Class
END:VEVENT
END:VCALENDAR