BEGIN:VCALENDAR
VERSION:2.0
PRODID:-//CrossFit Chaparral - ECPv6.15.10//NONSGML v1.0//EN
CALSCALE:GREGORIAN
METHOD:PUBLISH
X-WR-CALNAME:CrossFit Chaparral
X-ORIGINAL-URL:http://crossfitchaparral.com
X-WR-CALDESC:Events for CrossFit Chaparral
REFRESH-INTERVAL;VALUE=DURATION:PT1H
X-Robots-Tag:noindex
X-PUBLISHED-TTL:PT1H
BEGIN:VTIMEZONE
TZID:UTC
BEGIN:STANDARD
TZOFFSETFROM:+0000
TZOFFSETTO:+0000
TZNAME:UTC
DTSTART:20250101T000000
END:STANDARD
END:VTIMEZONE
BEGIN:VEVENT
DTSTART;TZID=UTC:20260601T053000
DTEND;TZID=UTC:20260601T063000
DTSTAMP:20260419T180026
CREATED:20251027T164919Z
LAST-MODIFIED:20251027T164919Z
UID:10001461-1780291800-1780295400@crossfitchaparral.com
SUMMARY:CrossFit Class
DESCRIPTION:
URL:http://crossfitchaparral.com/event/crossfit-class/2026-06-01/
CATEGORIES:CrossFit Class
END:VEVENT
BEGIN:VEVENT
DTSTART;TZID=UTC:20260601T063000
DTEND;TZID=UTC:20260601T193000
DTSTAMP:20260419T180026
CREATED:20251027T165009Z
LAST-MODIFIED:20251027T165009Z
UID:10002766-1780295400-1780342200@crossfitchaparral.com
SUMMARY:CrossFit Class
DESCRIPTION:
URL:http://crossfitchaparral.com/event/crossfit-class-2/2026-06-01/
CATEGORIES:CrossFit Class
END:VEVENT
BEGIN:VEVENT
DTSTART;TZID=UTC:20260601T163000
DTEND;TZID=UTC:20260601T173000
DTSTAMP:20260419T180026
CREATED:20251027T165935Z
LAST-MODIFIED:20251027T165935Z
UID:10006942-1780331400-1780335000@crossfitchaparral.com
SUMMARY:CrossFit Class
DESCRIPTION:
URL:http://crossfitchaparral.com/event/crossfit-class-5/2026-06-01/
CATEGORIES:CrossFit Class
END:VEVENT
BEGIN:VEVENT
DTSTART;TZID=UTC:20260601T173000
DTEND;TZID=UTC:20260601T183000
DTSTAMP:20260419T180026
CREATED:20251027T170752Z
LAST-MODIFIED:20251027T170752Z
UID:10008247-1780335000-1780338600@crossfitchaparral.com
SUMMARY:CrossFit Class
DESCRIPTION:
URL:http://crossfitchaparral.com/event/crossfit-class-6/2026-06-01/
CATEGORIES:CrossFit Class
END:VEVENT
BEGIN:VEVENT
DTSTART;TZID=UTC:20260601T183000
DTEND;TZID=UTC:20260601T193000
DTSTAMP:20260419T180026
CREATED:20251027T170840Z
LAST-MODIFIED:20251027T170858Z
UID:10009521-1780338600-1780342200@crossfitchaparral.com
SUMMARY:CrossFit Class
DESCRIPTION:
URL:http://crossfitchaparral.com/event/crossfit-class-7/2026-06-01/
CATEGORIES:CrossFit Class
END:VEVENT
BEGIN:VEVENT
DTSTART;TZID=UTC:20260602T053000
DTEND;TZID=UTC:20260602T063000
DTSTAMP:20260419T180026
CREATED:20251027T164919Z
LAST-MODIFIED:20251027T164919Z
UID:10001462-1780378200-1780381800@crossfitchaparral.com
SUMMARY:CrossFit Class
DESCRIPTION:
URL:http://crossfitchaparral.com/event/crossfit-class/2026-06-02/
CATEGORIES:CrossFit Class
END:VEVENT
BEGIN:VEVENT
DTSTART;TZID=UTC:20260602T063000
DTEND;TZID=UTC:20260602T193000
DTSTAMP:20260419T180026
CREATED:20251027T165009Z
LAST-MODIFIED:20251027T165009Z
UID:10002767-1780381800-1780428600@crossfitchaparral.com
SUMMARY:CrossFit Class
DESCRIPTION:
URL:http://crossfitchaparral.com/event/crossfit-class-2/2026-06-02/
CATEGORIES:CrossFit Class
END:VEVENT
BEGIN:VEVENT
DTSTART;TZID=UTC:20260602T163000
DTEND;TZID=UTC:20260602T173000
DTSTAMP:20260419T180026
CREATED:20251027T165935Z
LAST-MODIFIED:20251027T165935Z
UID:10006943-1780417800-1780421400@crossfitchaparral.com
SUMMARY:CrossFit Class
DESCRIPTION:
URL:http://crossfitchaparral.com/event/crossfit-class-5/2026-06-02/
CATEGORIES:CrossFit Class
END:VEVENT
BEGIN:VEVENT
DTSTART;TZID=UTC:20260602T173000
DTEND;TZID=UTC:20260602T183000
DTSTAMP:20260419T180026
CREATED:20251027T170752Z
LAST-MODIFIED:20251027T170752Z
UID:10008248-1780421400-1780425000@crossfitchaparral.com
SUMMARY:CrossFit Class
DESCRIPTION:
URL:http://crossfitchaparral.com/event/crossfit-class-6/2026-06-02/
CATEGORIES:CrossFit Class
END:VEVENT
BEGIN:VEVENT
DTSTART;TZID=UTC:20260602T183000
DTEND;TZID=UTC:20260602T193000
DTSTAMP:20260419T180026
CREATED:20251027T170840Z
LAST-MODIFIED:20251027T170858Z
UID:10009522-1780425000-1780428600@crossfitchaparral.com
SUMMARY:CrossFit Class
DESCRIPTION:
URL:http://crossfitchaparral.com/event/crossfit-class-7/2026-06-02/
CATEGORIES:CrossFit Class
END:VEVENT
BEGIN:VEVENT
DTSTART;TZID=UTC:20260603T053000
DTEND;TZID=UTC:20260603T063000
DTSTAMP:20260419T180026
CREATED:20251027T164919Z
LAST-MODIFIED:20251027T164919Z
UID:10001463-1780464600-1780468200@crossfitchaparral.com
SUMMARY:CrossFit Class
DESCRIPTION:
URL:http://crossfitchaparral.com/event/crossfit-class/2026-06-03/
CATEGORIES:CrossFit Class
END:VEVENT
BEGIN:VEVENT
DTSTART;TZID=UTC:20260603T063000
DTEND;TZID=UTC:20260603T193000
DTSTAMP:20260419T180026
CREATED:20251027T165009Z
LAST-MODIFIED:20251027T165009Z
UID:10002768-1780468200-1780515000@crossfitchaparral.com
SUMMARY:CrossFit Class
DESCRIPTION:
URL:http://crossfitchaparral.com/event/crossfit-class-2/2026-06-03/
CATEGORIES:CrossFit Class
END:VEVENT
BEGIN:VEVENT
DTSTART;TZID=UTC:20260603T163000
DTEND;TZID=UTC:20260603T173000
DTSTAMP:20260419T180026
CREATED:20251027T165935Z
LAST-MODIFIED:20251027T165935Z
UID:10006944-1780504200-1780507800@crossfitchaparral.com
SUMMARY:CrossFit Class
DESCRIPTION:
URL:http://crossfitchaparral.com/event/crossfit-class-5/2026-06-03/
CATEGORIES:CrossFit Class
END:VEVENT
BEGIN:VEVENT
DTSTART;TZID=UTC:20260603T173000
DTEND;TZID=UTC:20260603T183000
DTSTAMP:20260419T180026
CREATED:20251027T170752Z
LAST-MODIFIED:20251027T170752Z
UID:10008249-1780507800-1780511400@crossfitchaparral.com
SUMMARY:CrossFit Class
DESCRIPTION:
URL:http://crossfitchaparral.com/event/crossfit-class-6/2026-06-03/
CATEGORIES:CrossFit Class
END:VEVENT
BEGIN:VEVENT
DTSTART;TZID=UTC:20260603T183000
DTEND;TZID=UTC:20260603T193000
DTSTAMP:20260419T180026
CREATED:20251027T170840Z
LAST-MODIFIED:20251027T170858Z
UID:10009523-1780511400-1780515000@crossfitchaparral.com
SUMMARY:CrossFit Class
DESCRIPTION:
URL:http://crossfitchaparral.com/event/crossfit-class-7/2026-06-03/
CATEGORIES:CrossFit Class
END:VEVENT
BEGIN:VEVENT
DTSTART;TZID=UTC:20260604T053000
DTEND;TZID=UTC:20260604T063000
DTSTAMP:20260419T180026
CREATED:20251027T164919Z
LAST-MODIFIED:20251027T164919Z
UID:10001464-1780551000-1780554600@crossfitchaparral.com
SUMMARY:CrossFit Class
DESCRIPTION:
URL:http://crossfitchaparral.com/event/crossfit-class/2026-06-04/
CATEGORIES:CrossFit Class
END:VEVENT
BEGIN:VEVENT
DTSTART;TZID=UTC:20260604T063000
DTEND;TZID=UTC:20260604T193000
DTSTAMP:20260419T180026
CREATED:20251027T165009Z
LAST-MODIFIED:20251027T165009Z
UID:10002769-1780554600-1780601400@crossfitchaparral.com
SUMMARY:CrossFit Class
DESCRIPTION:
URL:http://crossfitchaparral.com/event/crossfit-class-2/2026-06-04/
CATEGORIES:CrossFit Class
END:VEVENT
BEGIN:VEVENT
DTSTART;TZID=UTC:20260604T163000
DTEND;TZID=UTC:20260604T173000
DTSTAMP:20260419T180026
CREATED:20251027T165935Z
LAST-MODIFIED:20251027T165935Z
UID:10006945-1780590600-1780594200@crossfitchaparral.com
SUMMARY:CrossFit Class
DESCRIPTION:
URL:http://crossfitchaparral.com/event/crossfit-class-5/2026-06-04/
CATEGORIES:CrossFit Class
END:VEVENT
BEGIN:VEVENT
DTSTART;TZID=UTC:20260604T173000
DTEND;TZID=UTC:20260604T183000
DTSTAMP:20260419T180026
CREATED:20251027T170752Z
LAST-MODIFIED:20251027T170752Z
UID:10008250-1780594200-1780597800@crossfitchaparral.com
SUMMARY:CrossFit Class
DESCRIPTION:
URL:http://crossfitchaparral.com/event/crossfit-class-6/2026-06-04/
CATEGORIES:CrossFit Class
END:VEVENT
BEGIN:VEVENT
DTSTART;TZID=UTC:20260604T183000
DTEND;TZID=UTC:20260604T193000
DTSTAMP:20260419T180026
CREATED:20251027T170840Z
LAST-MODIFIED:20251027T170858Z
UID:10009524-1780597800-1780601400@crossfitchaparral.com
SUMMARY:CrossFit Class
DESCRIPTION:
URL:http://crossfitchaparral.com/event/crossfit-class-7/2026-06-04/
CATEGORIES:CrossFit Class
END:VEVENT
BEGIN:VEVENT
DTSTART;TZID=UTC:20260605T053000
DTEND;TZID=UTC:20260605T063000
DTSTAMP:20260419T180026
CREATED:20251027T164919Z
LAST-MODIFIED:20251027T164919Z
UID:10001465-1780637400-1780641000@crossfitchaparral.com
SUMMARY:CrossFit Class
DESCRIPTION:
URL:http://crossfitchaparral.com/event/crossfit-class/2026-06-05/
CATEGORIES:CrossFit Class
END:VEVENT
BEGIN:VEVENT
DTSTART;TZID=UTC:20260605T063000
DTEND;TZID=UTC:20260605T193000
DTSTAMP:20260419T180026
CREATED:20251027T165009Z
LAST-MODIFIED:20251027T165009Z
UID:10002770-1780641000-1780687800@crossfitchaparral.com
SUMMARY:CrossFit Class
DESCRIPTION:
URL:http://crossfitchaparral.com/event/crossfit-class-2/2026-06-05/
CATEGORIES:CrossFit Class
END:VEVENT
BEGIN:VEVENT
DTSTART;TZID=UTC:20260605T083000
DTEND;TZID=UTC:20260605T093000
DTSTAMP:20260419T180026
CREATED:20251027T165257Z
LAST-MODIFIED:20251027T165257Z
UID:10005252-1780648200-1780651800@crossfitchaparral.com
SUMMARY:CrossFit Class
DESCRIPTION:
URL:http://crossfitchaparral.com/event/crossfit-class-3/2026-06-05/
CATEGORIES:CrossFit Class
END:VEVENT
BEGIN:VEVENT
DTSTART;TZID=UTC:20260605T163000
DTEND;TZID=UTC:20260605T173000
DTSTAMP:20260419T180026
CREATED:20251027T165935Z
LAST-MODIFIED:20251027T165935Z
UID:10006946-1780677000-1780680600@crossfitchaparral.com
SUMMARY:CrossFit Class
DESCRIPTION:
URL:http://crossfitchaparral.com/event/crossfit-class-5/2026-06-05/
CATEGORIES:CrossFit Class
END:VEVENT
BEGIN:VEVENT
DTSTART;TZID=UTC:20260605T173000
DTEND;TZID=UTC:20260605T183000
DTSTAMP:20260419T180026
CREATED:20251027T170752Z
LAST-MODIFIED:20251027T170752Z
UID:10008251-1780680600-1780684200@crossfitchaparral.com
SUMMARY:CrossFit Class
DESCRIPTION:
URL:http://crossfitchaparral.com/event/crossfit-class-6/2026-06-05/
CATEGORIES:CrossFit Class
END:VEVENT
BEGIN:VEVENT
DTSTART;TZID=UTC:20260606T080000
DTEND;TZID=UTC:20260606T090000
DTSTAMP:20260419T180026
CREATED:20251027T165352Z
LAST-MODIFIED:20251027T165352Z
UID:10005513-1780732800-1780736400@crossfitchaparral.com
SUMMARY:CrossFit Class
DESCRIPTION:
URL:http://crossfitchaparral.com/event/crossfit-class-4/2026-06-06/
CATEGORIES:CrossFit Class
END:VEVENT
BEGIN:VEVENT
DTSTART;TZID=UTC:20260608T053000
DTEND;TZID=UTC:20260608T063000
DTSTAMP:20260419T180026
CREATED:20251027T164919Z
LAST-MODIFIED:20251027T164919Z
UID:10001466-1780896600-1780900200@crossfitchaparral.com
SUMMARY:CrossFit Class
DESCRIPTION:
URL:http://crossfitchaparral.com/event/crossfit-class/2026-06-08/
CATEGORIES:CrossFit Class
END:VEVENT
BEGIN:VEVENT
DTSTART;TZID=UTC:20260608T063000
DTEND;TZID=UTC:20260608T193000
DTSTAMP:20260419T180026
CREATED:20251027T165009Z
LAST-MODIFIED:20251027T165009Z
UID:10002771-1780900200-1780947000@crossfitchaparral.com
SUMMARY:CrossFit Class
DESCRIPTION:
URL:http://crossfitchaparral.com/event/crossfit-class-2/2026-06-08/
CATEGORIES:CrossFit Class
END:VEVENT
BEGIN:VEVENT
DTSTART;TZID=UTC:20260608T163000
DTEND;TZID=UTC:20260608T173000
DTSTAMP:20260419T180026
CREATED:20251027T165935Z
LAST-MODIFIED:20251027T165935Z
UID:10006947-1780936200-1780939800@crossfitchaparral.com
SUMMARY:CrossFit Class
DESCRIPTION:
URL:http://crossfitchaparral.com/event/crossfit-class-5/2026-06-08/
CATEGORIES:CrossFit Class
END:VEVENT
BEGIN:VEVENT
DTSTART;TZID=UTC:20260608T173000
DTEND;TZID=UTC:20260608T183000
DTSTAMP:20260419T180026
CREATED:20251027T170752Z
LAST-MODIFIED:20251027T170752Z
UID:10008252-1780939800-1780943400@crossfitchaparral.com
SUMMARY:CrossFit Class
DESCRIPTION:
URL:http://crossfitchaparral.com/event/crossfit-class-6/2026-06-08/
CATEGORIES:CrossFit Class
END:VEVENT
END:VCALENDAR