BEGIN:VCALENDAR
VERSION:2.0
PRODID:-//CrossFit Chaparral - ECPv6.15.10//NONSGML v1.0//EN
CALSCALE:GREGORIAN
METHOD:PUBLISH
X-WR-CALNAME:CrossFit Chaparral
X-ORIGINAL-URL:http://crossfitchaparral.com
X-WR-CALDESC:Events for CrossFit Chaparral
REFRESH-INTERVAL;VALUE=DURATION:PT1H
X-Robots-Tag:noindex
X-PUBLISHED-TTL:PT1H
BEGIN:VTIMEZONE
TZID:UTC
BEGIN:STANDARD
TZOFFSETFROM:+0000
TZOFFSETTO:+0000
TZNAME:UTC
DTSTART:20250101T000000
END:STANDARD
END:VTIMEZONE
BEGIN:VEVENT
DTSTART;TZID=UTC:20260227T053000
DTEND;TZID=UTC:20260227T063000
DTSTAMP:20260421T165612
CREATED:20251027T164919Z
LAST-MODIFIED:20251027T164919Z
UID:10001395-1772170200-1772173800@crossfitchaparral.com
SUMMARY:CrossFit Class
DESCRIPTION:
URL:http://crossfitchaparral.com/event/crossfit-class/2026-02-27/
CATEGORIES:CrossFit Class
END:VEVENT
BEGIN:VEVENT
DTSTART;TZID=UTC:20260227T063000
DTEND;TZID=UTC:20260227T193000
DTSTAMP:20260421T165612
CREATED:20251027T165009Z
LAST-MODIFIED:20251027T165009Z
UID:10002700-1772173800-1772220600@crossfitchaparral.com
SUMMARY:CrossFit Class
DESCRIPTION:
URL:http://crossfitchaparral.com/event/crossfit-class-2/2026-02-27/
CATEGORIES:CrossFit Class
END:VEVENT
BEGIN:VEVENT
DTSTART;TZID=UTC:20260227T083000
DTEND;TZID=UTC:20260227T093000
DTSTAMP:20260421T165612
CREATED:20251027T165257Z
LAST-MODIFIED:20251027T165257Z
UID:10005238-1772181000-1772184600@crossfitchaparral.com
SUMMARY:CrossFit Class
DESCRIPTION:
URL:http://crossfitchaparral.com/event/crossfit-class-3/2026-02-27/
CATEGORIES:CrossFit Class
END:VEVENT
BEGIN:VEVENT
DTSTART;TZID=UTC:20260227T163000
DTEND;TZID=UTC:20260227T173000
DTSTAMP:20260421T165612
CREATED:20251027T165935Z
LAST-MODIFIED:20251027T165935Z
UID:10006876-1772209800-1772213400@crossfitchaparral.com
SUMMARY:CrossFit Class
DESCRIPTION:
URL:http://crossfitchaparral.com/event/crossfit-class-5/2026-02-27/
CATEGORIES:CrossFit Class
END:VEVENT
BEGIN:VEVENT
DTSTART;TZID=UTC:20260227T173000
DTEND;TZID=UTC:20260227T183000
DTSTAMP:20260421T165612
CREATED:20251027T170752Z
LAST-MODIFIED:20251027T170752Z
UID:10008181-1772213400-1772217000@crossfitchaparral.com
SUMMARY:CrossFit Class
DESCRIPTION:
URL:http://crossfitchaparral.com/event/crossfit-class-6/2026-02-27/
CATEGORIES:CrossFit Class
END:VEVENT
END:VCALENDAR