BEGIN:VCALENDAR
VERSION:2.0
PRODID:-//CrossFit Chaparral - ECPv6.15.10//NONSGML v1.0//EN
CALSCALE:GREGORIAN
METHOD:PUBLISH
X-WR-CALNAME:CrossFit Chaparral
X-ORIGINAL-URL:http://crossfitchaparral.com
X-WR-CALDESC:Events for CrossFit Chaparral
REFRESH-INTERVAL;VALUE=DURATION:PT1H
X-Robots-Tag:noindex
X-PUBLISHED-TTL:PT1H
BEGIN:VTIMEZONE
TZID:UTC
BEGIN:STANDARD
TZOFFSETFROM:+0000
TZOFFSETTO:+0000
TZNAME:UTC
DTSTART:20250101T000000
END:STANDARD
END:VTIMEZONE
BEGIN:VEVENT
DTSTART;TZID=UTC:20260313T053000
DTEND;TZID=UTC:20260313T063000
DTSTAMP:20260422T234925
CREATED:20251027T164919Z
LAST-MODIFIED:20251027T164919Z
UID:10001405-1773379800-1773383400@crossfitchaparral.com
SUMMARY:CrossFit Class
DESCRIPTION:
URL:http://crossfitchaparral.com/event/crossfit-class/2026-03-13/
CATEGORIES:CrossFit Class
END:VEVENT
BEGIN:VEVENT
DTSTART;TZID=UTC:20260313T063000
DTEND;TZID=UTC:20260313T193000
DTSTAMP:20260422T234925
CREATED:20251027T165009Z
LAST-MODIFIED:20251027T165009Z
UID:10002710-1773383400-1773430200@crossfitchaparral.com
SUMMARY:CrossFit Class
DESCRIPTION:
URL:http://crossfitchaparral.com/event/crossfit-class-2/2026-03-13/
CATEGORIES:CrossFit Class
END:VEVENT
BEGIN:VEVENT
DTSTART;TZID=UTC:20260313T083000
DTEND;TZID=UTC:20260313T093000
DTSTAMP:20260422T234925
CREATED:20251027T165257Z
LAST-MODIFIED:20251027T165257Z
UID:10005240-1773390600-1773394200@crossfitchaparral.com
SUMMARY:CrossFit Class
DESCRIPTION:
URL:http://crossfitchaparral.com/event/crossfit-class-3/2026-03-13/
CATEGORIES:CrossFit Class
END:VEVENT
BEGIN:VEVENT
DTSTART;TZID=UTC:20260313T163000
DTEND;TZID=UTC:20260313T173000
DTSTAMP:20260422T234925
CREATED:20251027T165935Z
LAST-MODIFIED:20251027T165935Z
UID:10006886-1773419400-1773423000@crossfitchaparral.com
SUMMARY:CrossFit Class
DESCRIPTION:
URL:http://crossfitchaparral.com/event/crossfit-class-5/2026-03-13/
CATEGORIES:CrossFit Class
END:VEVENT
BEGIN:VEVENT
DTSTART;TZID=UTC:20260313T173000
DTEND;TZID=UTC:20260313T183000
DTSTAMP:20260422T234925
CREATED:20251027T170752Z
LAST-MODIFIED:20251027T170752Z
UID:10008191-1773423000-1773426600@crossfitchaparral.com
SUMMARY:CrossFit Class
DESCRIPTION:
URL:http://crossfitchaparral.com/event/crossfit-class-6/2026-03-13/
CATEGORIES:CrossFit Class
END:VEVENT
END:VCALENDAR