BEGIN:VCALENDAR
VERSION:2.0
PRODID:-//CrossFit Chaparral - ECPv6.15.10//NONSGML v1.0//EN
CALSCALE:GREGORIAN
METHOD:PUBLISH
X-ORIGINAL-URL:http://crossfitchaparral.com
X-WR-CALDESC:Events for CrossFit Chaparral
REFRESH-INTERVAL;VALUE=DURATION:PT1H
X-Robots-Tag:noindex
X-PUBLISHED-TTL:PT1H
BEGIN:VTIMEZONE
TZID:UTC
BEGIN:STANDARD
TZOFFSETFROM:+0000
TZOFFSETTO:+0000
TZNAME:UTC
DTSTART:20250101T000000
END:STANDARD
END:VTIMEZONE
BEGIN:VEVENT
DTSTART;TZID=UTC:20260406T053000
DTEND;TZID=UTC:20260406T063000
DTSTAMP:20260423T154617
CREATED:20251027T164919Z
LAST-MODIFIED:20251027T164919Z
UID:10001421-1775453400-1775457000@crossfitchaparral.com
SUMMARY:CrossFit Class
DESCRIPTION:
URL:http://crossfitchaparral.com/event/crossfit-class/2026-04-06/
CATEGORIES:CrossFit Class
END:VEVENT
BEGIN:VEVENT
DTSTART;TZID=UTC:20260406T063000
DTEND;TZID=UTC:20260406T193000
DTSTAMP:20260423T154617
CREATED:20251027T165009Z
LAST-MODIFIED:20251027T165009Z
UID:10002726-1775457000-1775503800@crossfitchaparral.com
SUMMARY:CrossFit Class
DESCRIPTION:
URL:http://crossfitchaparral.com/event/crossfit-class-2/2026-04-06/
CATEGORIES:CrossFit Class
END:VEVENT
BEGIN:VEVENT
DTSTART;TZID=UTC:20260406T163000
DTEND;TZID=UTC:20260406T173000
DTSTAMP:20260423T154617
CREATED:20251027T165935Z
LAST-MODIFIED:20251027T165935Z
UID:10006902-1775493000-1775496600@crossfitchaparral.com
SUMMARY:CrossFit Class
DESCRIPTION:
URL:http://crossfitchaparral.com/event/crossfit-class-5/2026-04-06/
CATEGORIES:CrossFit Class
END:VEVENT
BEGIN:VEVENT
DTSTART;TZID=UTC:20260406T173000
DTEND;TZID=UTC:20260406T183000
DTSTAMP:20260423T154617
CREATED:20251027T170752Z
LAST-MODIFIED:20251027T170752Z
UID:10008207-1775496600-1775500200@crossfitchaparral.com
SUMMARY:CrossFit Class
DESCRIPTION:
URL:http://crossfitchaparral.com/event/crossfit-class-6/2026-04-06/
CATEGORIES:CrossFit Class
END:VEVENT
BEGIN:VEVENT
DTSTART;TZID=UTC:20260406T183000
DTEND;TZID=UTC:20260406T193000
DTSTAMP:20260423T154617
CREATED:20251027T170840Z
LAST-MODIFIED:20251027T170858Z
UID:10009489-1775500200-1775503800@crossfitchaparral.com
SUMMARY:CrossFit Class
DESCRIPTION:
URL:http://crossfitchaparral.com/event/crossfit-class-7/2026-04-06/
CATEGORIES:CrossFit Class
END:VEVENT
END:VCALENDAR