BEGIN:VCALENDAR
VERSION:2.0
PRODID:-//CrossFit Chaparral - ECPv6.15.10//NONSGML v1.0//EN
CALSCALE:GREGORIAN
METHOD:PUBLISH
X-ORIGINAL-URL:http://crossfitchaparral.com
X-WR-CALDESC:Events for CrossFit Chaparral
REFRESH-INTERVAL;VALUE=DURATION:PT1H
X-Robots-Tag:noindex
X-PUBLISHED-TTL:PT1H
BEGIN:VTIMEZONE
TZID:UTC
BEGIN:STANDARD
TZOFFSETFROM:+0000
TZOFFSETTO:+0000
TZNAME:UTC
DTSTART:20250101T000000
END:STANDARD
END:VTIMEZONE
BEGIN:VEVENT
DTSTART;TZID=UTC:20260630T053000
DTEND;TZID=UTC:20260630T063000
DTSTAMP:20260423T123743
CREATED:20251027T164919Z
LAST-MODIFIED:20251027T164919Z
UID:10001482-1782797400-1782801000@crossfitchaparral.com
SUMMARY:CrossFit Class
DESCRIPTION:
URL:http://crossfitchaparral.com/event/crossfit-class/2026-06-30/
CATEGORIES:CrossFit Class
END:VEVENT
BEGIN:VEVENT
DTSTART;TZID=UTC:20260630T063000
DTEND;TZID=UTC:20260630T193000
DTSTAMP:20260423T123743
CREATED:20251027T165009Z
LAST-MODIFIED:20251027T165009Z
UID:10002787-1782801000-1782847800@crossfitchaparral.com
SUMMARY:CrossFit Class
DESCRIPTION:
URL:http://crossfitchaparral.com/event/crossfit-class-2/2026-06-30/
CATEGORIES:CrossFit Class
END:VEVENT
BEGIN:VEVENT
DTSTART;TZID=UTC:20260630T163000
DTEND;TZID=UTC:20260630T173000
DTSTAMP:20260423T123743
CREATED:20251027T165935Z
LAST-MODIFIED:20251027T165935Z
UID:10006963-1782837000-1782840600@crossfitchaparral.com
SUMMARY:CrossFit Class
DESCRIPTION:
URL:http://crossfitchaparral.com/event/crossfit-class-5/2026-06-30/
CATEGORIES:CrossFit Class
END:VEVENT
BEGIN:VEVENT
DTSTART;TZID=UTC:20260630T173000
DTEND;TZID=UTC:20260630T183000
DTSTAMP:20260423T123743
CREATED:20251027T170752Z
LAST-MODIFIED:20251027T170752Z
UID:10008268-1782840600-1782844200@crossfitchaparral.com
SUMMARY:CrossFit Class
DESCRIPTION:
URL:http://crossfitchaparral.com/event/crossfit-class-6/2026-06-30/
CATEGORIES:CrossFit Class
END:VEVENT
BEGIN:VEVENT
DTSTART;TZID=UTC:20260630T183000
DTEND;TZID=UTC:20260630T193000
DTSTAMP:20260423T123743
CREATED:20251027T170840Z
LAST-MODIFIED:20251027T170858Z
UID:10009538-1782844200-1782847800@crossfitchaparral.com
SUMMARY:CrossFit Class
DESCRIPTION:
URL:http://crossfitchaparral.com/event/crossfit-class-7/2026-06-30/
CATEGORIES:CrossFit Class
END:VEVENT
END:VCALENDAR