BEGIN:VCALENDAR
VERSION:2.0
PRODID:-//CrossFit Chaparral - ECPv6.15.10//NONSGML v1.0//EN
CALSCALE:GREGORIAN
METHOD:PUBLISH
X-ORIGINAL-URL:http://crossfitchaparral.com
X-WR-CALDESC:Events for CrossFit Chaparral
REFRESH-INTERVAL;VALUE=DURATION:PT1H
X-Robots-Tag:noindex
X-PUBLISHED-TTL:PT1H
BEGIN:VTIMEZONE
TZID:UTC
BEGIN:STANDARD
TZOFFSETFROM:+0000
TZOFFSETTO:+0000
TZNAME:UTC
DTSTART:20250101T000000
END:STANDARD
END:VTIMEZONE
BEGIN:VEVENT
DTSTART;TZID=UTC:20260731T053000
DTEND;TZID=UTC:20260731T063000
DTSTAMP:20260419T183354
CREATED:20251027T164919Z
LAST-MODIFIED:20251027T164919Z
UID:10001505-1785475800-1785479400@crossfitchaparral.com
SUMMARY:CrossFit Class
DESCRIPTION:
URL:http://crossfitchaparral.com/event/crossfit-class/2026-07-31/
CATEGORIES:CrossFit Class
END:VEVENT
BEGIN:VEVENT
DTSTART;TZID=UTC:20260731T063000
DTEND;TZID=UTC:20260731T193000
DTSTAMP:20260419T183354
CREATED:20251027T165009Z
LAST-MODIFIED:20251027T165009Z
UID:10002810-1785479400-1785526200@crossfitchaparral.com
SUMMARY:CrossFit Class
DESCRIPTION:
URL:http://crossfitchaparral.com/event/crossfit-class-2/2026-07-31/
CATEGORIES:CrossFit Class
END:VEVENT
BEGIN:VEVENT
DTSTART;TZID=UTC:20260731T083000
DTEND;TZID=UTC:20260731T093000
DTSTAMP:20260419T183354
CREATED:20251027T165257Z
LAST-MODIFIED:20251027T165257Z
UID:10005260-1785486600-1785490200@crossfitchaparral.com
SUMMARY:CrossFit Class
DESCRIPTION:
URL:http://crossfitchaparral.com/event/crossfit-class-3/2026-07-31/
CATEGORIES:CrossFit Class
END:VEVENT
BEGIN:VEVENT
DTSTART;TZID=UTC:20260731T163000
DTEND;TZID=UTC:20260731T173000
DTSTAMP:20260419T183354
CREATED:20251027T165935Z
LAST-MODIFIED:20251027T165935Z
UID:10006986-1785515400-1785519000@crossfitchaparral.com
SUMMARY:CrossFit Class
DESCRIPTION:
URL:http://crossfitchaparral.com/event/crossfit-class-5/2026-07-31/
CATEGORIES:CrossFit Class
END:VEVENT
BEGIN:VEVENT
DTSTART;TZID=UTC:20260731T173000
DTEND;TZID=UTC:20260731T183000
DTSTAMP:20260419T183354
CREATED:20251027T170752Z
LAST-MODIFIED:20251027T170752Z
UID:10008291-1785519000-1785522600@crossfitchaparral.com
SUMMARY:CrossFit Class
DESCRIPTION:
URL:http://crossfitchaparral.com/event/crossfit-class-6/2026-07-31/
CATEGORIES:CrossFit Class
END:VEVENT
END:VCALENDAR