BEGIN:VCALENDAR
VERSION:2.0
PRODID:-//CrossFit Chaparral - ECPv6.15.10//NONSGML v1.0//EN
CALSCALE:GREGORIAN
METHOD:PUBLISH
X-WR-CALNAME:CrossFit Chaparral
X-ORIGINAL-URL:http://crossfitchaparral.com
X-WR-CALDESC:Events for CrossFit Chaparral
REFRESH-INTERVAL;VALUE=DURATION:PT1H
X-Robots-Tag:noindex
X-PUBLISHED-TTL:PT1H
BEGIN:VTIMEZONE
TZID:UTC
BEGIN:STANDARD
TZOFFSETFROM:+0000
TZOFFSETTO:+0000
TZNAME:UTC
DTSTART:20250101T000000
END:STANDARD
END:VTIMEZONE
BEGIN:VEVENT
DTSTART;TZID=UTC:20260727T063000
DTEND;TZID=UTC:20260727T193000
DTSTAMP:20260423T204559
CREATED:20251027T165009Z
LAST-MODIFIED:20251027T165009Z
UID:10002806-1785133800-1785180600@crossfitchaparral.com
SUMMARY:CrossFit Class
DESCRIPTION:
URL:http://crossfitchaparral.com/event/crossfit-class-2/2026-07-27/
CATEGORIES:CrossFit Class
END:VEVENT
BEGIN:VEVENT
DTSTART;TZID=UTC:20260727T163000
DTEND;TZID=UTC:20260727T173000
DTSTAMP:20260423T204559
CREATED:20251027T165935Z
LAST-MODIFIED:20251027T165935Z
UID:10006982-1785169800-1785173400@crossfitchaparral.com
SUMMARY:CrossFit Class
DESCRIPTION:
URL:http://crossfitchaparral.com/event/crossfit-class-5/2026-07-27/
CATEGORIES:CrossFit Class
END:VEVENT
BEGIN:VEVENT
DTSTART;TZID=UTC:20260727T173000
DTEND;TZID=UTC:20260727T183000
DTSTAMP:20260423T204559
CREATED:20251027T170752Z
LAST-MODIFIED:20251027T170752Z
UID:10008287-1785173400-1785177000@crossfitchaparral.com
SUMMARY:CrossFit Class
DESCRIPTION:
URL:http://crossfitchaparral.com/event/crossfit-class-6/2026-07-27/
CATEGORIES:CrossFit Class
END:VEVENT
BEGIN:VEVENT
DTSTART;TZID=UTC:20260727T183000
DTEND;TZID=UTC:20260727T193000
DTSTAMP:20260423T204559
CREATED:20251027T170840Z
LAST-MODIFIED:20251027T170858Z
UID:10009553-1785177000-1785180600@crossfitchaparral.com
SUMMARY:CrossFit Class
DESCRIPTION:
URL:http://crossfitchaparral.com/event/crossfit-class-7/2026-07-27/
CATEGORIES:CrossFit Class
END:VEVENT
BEGIN:VEVENT
DTSTART;TZID=UTC:20260728T053000
DTEND;TZID=UTC:20260728T063000
DTSTAMP:20260423T204559
CREATED:20251027T164919Z
LAST-MODIFIED:20251027T164919Z
UID:10001502-1785216600-1785220200@crossfitchaparral.com
SUMMARY:CrossFit Class
DESCRIPTION:
URL:http://crossfitchaparral.com/event/crossfit-class/2026-07-28/
CATEGORIES:CrossFit Class
END:VEVENT
BEGIN:VEVENT
DTSTART;TZID=UTC:20260728T063000
DTEND;TZID=UTC:20260728T193000
DTSTAMP:20260423T204559
CREATED:20251027T165009Z
LAST-MODIFIED:20251027T165009Z
UID:10002807-1785220200-1785267000@crossfitchaparral.com
SUMMARY:CrossFit Class
DESCRIPTION:
URL:http://crossfitchaparral.com/event/crossfit-class-2/2026-07-28/
CATEGORIES:CrossFit Class
END:VEVENT
BEGIN:VEVENT
DTSTART;TZID=UTC:20260728T163000
DTEND;TZID=UTC:20260728T173000
DTSTAMP:20260423T204559
CREATED:20251027T165935Z
LAST-MODIFIED:20251027T165935Z
UID:10006983-1785256200-1785259800@crossfitchaparral.com
SUMMARY:CrossFit Class
DESCRIPTION:
URL:http://crossfitchaparral.com/event/crossfit-class-5/2026-07-28/
CATEGORIES:CrossFit Class
END:VEVENT
BEGIN:VEVENT
DTSTART;TZID=UTC:20260728T173000
DTEND;TZID=UTC:20260728T183000
DTSTAMP:20260423T204559
CREATED:20251027T170752Z
LAST-MODIFIED:20251027T170752Z
UID:10008288-1785259800-1785263400@crossfitchaparral.com
SUMMARY:CrossFit Class
DESCRIPTION:
URL:http://crossfitchaparral.com/event/crossfit-class-6/2026-07-28/
CATEGORIES:CrossFit Class
END:VEVENT
BEGIN:VEVENT
DTSTART;TZID=UTC:20260728T183000
DTEND;TZID=UTC:20260728T193000
DTSTAMP:20260423T204559
CREATED:20251027T170840Z
LAST-MODIFIED:20251027T170858Z
UID:10009554-1785263400-1785267000@crossfitchaparral.com
SUMMARY:CrossFit Class
DESCRIPTION:
URL:http://crossfitchaparral.com/event/crossfit-class-7/2026-07-28/
CATEGORIES:CrossFit Class
END:VEVENT
BEGIN:VEVENT
DTSTART;TZID=UTC:20260729T053000
DTEND;TZID=UTC:20260729T063000
DTSTAMP:20260423T204559
CREATED:20251027T164919Z
LAST-MODIFIED:20251027T164919Z
UID:10001503-1785303000-1785306600@crossfitchaparral.com
SUMMARY:CrossFit Class
DESCRIPTION:
URL:http://crossfitchaparral.com/event/crossfit-class/2026-07-29/
CATEGORIES:CrossFit Class
END:VEVENT
BEGIN:VEVENT
DTSTART;TZID=UTC:20260729T063000
DTEND;TZID=UTC:20260729T193000
DTSTAMP:20260423T204559
CREATED:20251027T165009Z
LAST-MODIFIED:20251027T165009Z
UID:10002808-1785306600-1785353400@crossfitchaparral.com
SUMMARY:CrossFit Class
DESCRIPTION:
URL:http://crossfitchaparral.com/event/crossfit-class-2/2026-07-29/
CATEGORIES:CrossFit Class
END:VEVENT
BEGIN:VEVENT
DTSTART;TZID=UTC:20260729T163000
DTEND;TZID=UTC:20260729T173000
DTSTAMP:20260423T204559
CREATED:20251027T165935Z
LAST-MODIFIED:20251027T165935Z
UID:10006984-1785342600-1785346200@crossfitchaparral.com
SUMMARY:CrossFit Class
DESCRIPTION:
URL:http://crossfitchaparral.com/event/crossfit-class-5/2026-07-29/
CATEGORIES:CrossFit Class
END:VEVENT
BEGIN:VEVENT
DTSTART;TZID=UTC:20260729T173000
DTEND;TZID=UTC:20260729T183000
DTSTAMP:20260423T204559
CREATED:20251027T170752Z
LAST-MODIFIED:20251027T170752Z
UID:10008289-1785346200-1785349800@crossfitchaparral.com
SUMMARY:CrossFit Class
DESCRIPTION:
URL:http://crossfitchaparral.com/event/crossfit-class-6/2026-07-29/
CATEGORIES:CrossFit Class
END:VEVENT
BEGIN:VEVENT
DTSTART;TZID=UTC:20260729T183000
DTEND;TZID=UTC:20260729T193000
DTSTAMP:20260423T204559
CREATED:20251027T170840Z
LAST-MODIFIED:20251027T170858Z
UID:10009555-1785349800-1785353400@crossfitchaparral.com
SUMMARY:CrossFit Class
DESCRIPTION:
URL:http://crossfitchaparral.com/event/crossfit-class-7/2026-07-29/
CATEGORIES:CrossFit Class
END:VEVENT
BEGIN:VEVENT
DTSTART;TZID=UTC:20260730T053000
DTEND;TZID=UTC:20260730T063000
DTSTAMP:20260423T204559
CREATED:20251027T164919Z
LAST-MODIFIED:20251027T164919Z
UID:10001504-1785389400-1785393000@crossfitchaparral.com
SUMMARY:CrossFit Class
DESCRIPTION:
URL:http://crossfitchaparral.com/event/crossfit-class/2026-07-30/
CATEGORIES:CrossFit Class
END:VEVENT
BEGIN:VEVENT
DTSTART;TZID=UTC:20260730T063000
DTEND;TZID=UTC:20260730T193000
DTSTAMP:20260423T204559
CREATED:20251027T165009Z
LAST-MODIFIED:20251027T165009Z
UID:10002809-1785393000-1785439800@crossfitchaparral.com
SUMMARY:CrossFit Class
DESCRIPTION:
URL:http://crossfitchaparral.com/event/crossfit-class-2/2026-07-30/
CATEGORIES:CrossFit Class
END:VEVENT
BEGIN:VEVENT
DTSTART;TZID=UTC:20260730T163000
DTEND;TZID=UTC:20260730T173000
DTSTAMP:20260423T204559
CREATED:20251027T165935Z
LAST-MODIFIED:20251027T165935Z
UID:10006985-1785429000-1785432600@crossfitchaparral.com
SUMMARY:CrossFit Class
DESCRIPTION:
URL:http://crossfitchaparral.com/event/crossfit-class-5/2026-07-30/
CATEGORIES:CrossFit Class
END:VEVENT
BEGIN:VEVENT
DTSTART;TZID=UTC:20260730T173000
DTEND;TZID=UTC:20260730T183000
DTSTAMP:20260423T204559
CREATED:20251027T170752Z
LAST-MODIFIED:20251027T170752Z
UID:10008290-1785432600-1785436200@crossfitchaparral.com
SUMMARY:CrossFit Class
DESCRIPTION:
URL:http://crossfitchaparral.com/event/crossfit-class-6/2026-07-30/
CATEGORIES:CrossFit Class
END:VEVENT
BEGIN:VEVENT
DTSTART;TZID=UTC:20260730T183000
DTEND;TZID=UTC:20260730T193000
DTSTAMP:20260423T204559
CREATED:20251027T170840Z
LAST-MODIFIED:20251027T170858Z
UID:10009556-1785436200-1785439800@crossfitchaparral.com
SUMMARY:CrossFit Class
DESCRIPTION:
URL:http://crossfitchaparral.com/event/crossfit-class-7/2026-07-30/
CATEGORIES:CrossFit Class
END:VEVENT
BEGIN:VEVENT
DTSTART;TZID=UTC:20260731T053000
DTEND;TZID=UTC:20260731T063000
DTSTAMP:20260423T204559
CREATED:20251027T164919Z
LAST-MODIFIED:20251027T164919Z
UID:10001505-1785475800-1785479400@crossfitchaparral.com
SUMMARY:CrossFit Class
DESCRIPTION:
URL:http://crossfitchaparral.com/event/crossfit-class/2026-07-31/
CATEGORIES:CrossFit Class
END:VEVENT
BEGIN:VEVENT
DTSTART;TZID=UTC:20260731T063000
DTEND;TZID=UTC:20260731T193000
DTSTAMP:20260423T204559
CREATED:20251027T165009Z
LAST-MODIFIED:20251027T165009Z
UID:10002810-1785479400-1785526200@crossfitchaparral.com
SUMMARY:CrossFit Class
DESCRIPTION:
URL:http://crossfitchaparral.com/event/crossfit-class-2/2026-07-31/
CATEGORIES:CrossFit Class
END:VEVENT
BEGIN:VEVENT
DTSTART;TZID=UTC:20260731T083000
DTEND;TZID=UTC:20260731T093000
DTSTAMP:20260423T204559
CREATED:20251027T165257Z
LAST-MODIFIED:20251027T165257Z
UID:10005260-1785486600-1785490200@crossfitchaparral.com
SUMMARY:CrossFit Class
DESCRIPTION:
URL:http://crossfitchaparral.com/event/crossfit-class-3/2026-07-31/
CATEGORIES:CrossFit Class
END:VEVENT
BEGIN:VEVENT
DTSTART;TZID=UTC:20260731T163000
DTEND;TZID=UTC:20260731T173000
DTSTAMP:20260423T204559
CREATED:20251027T165935Z
LAST-MODIFIED:20251027T165935Z
UID:10006986-1785515400-1785519000@crossfitchaparral.com
SUMMARY:CrossFit Class
DESCRIPTION:
URL:http://crossfitchaparral.com/event/crossfit-class-5/2026-07-31/
CATEGORIES:CrossFit Class
END:VEVENT
BEGIN:VEVENT
DTSTART;TZID=UTC:20260731T173000
DTEND;TZID=UTC:20260731T183000
DTSTAMP:20260423T204559
CREATED:20251027T170752Z
LAST-MODIFIED:20251027T170752Z
UID:10008291-1785519000-1785522600@crossfitchaparral.com
SUMMARY:CrossFit Class
DESCRIPTION:
URL:http://crossfitchaparral.com/event/crossfit-class-6/2026-07-31/
CATEGORIES:CrossFit Class
END:VEVENT
BEGIN:VEVENT
DTSTART;TZID=UTC:20260801T080000
DTEND;TZID=UTC:20260801T090000
DTSTAMP:20260423T204559
CREATED:20251027T165352Z
LAST-MODIFIED:20251027T165352Z
UID:10005521-1785571200-1785574800@crossfitchaparral.com
SUMMARY:CrossFit Class
DESCRIPTION:
URL:http://crossfitchaparral.com/event/crossfit-class-4/2026-08-01/
CATEGORIES:CrossFit Class
END:VEVENT
BEGIN:VEVENT
DTSTART;TZID=UTC:20260803T053000
DTEND;TZID=UTC:20260803T063000
DTSTAMP:20260423T204559
CREATED:20251027T164919Z
LAST-MODIFIED:20251027T164919Z
UID:10001506-1785735000-1785738600@crossfitchaparral.com
SUMMARY:CrossFit Class
DESCRIPTION:
URL:http://crossfitchaparral.com/event/crossfit-class/2026-08-03/
CATEGORIES:CrossFit Class
END:VEVENT
BEGIN:VEVENT
DTSTART;TZID=UTC:20260803T063000
DTEND;TZID=UTC:20260803T193000
DTSTAMP:20260423T204559
CREATED:20251027T165009Z
LAST-MODIFIED:20251027T165009Z
UID:10002811-1785738600-1785785400@crossfitchaparral.com
SUMMARY:CrossFit Class
DESCRIPTION:
URL:http://crossfitchaparral.com/event/crossfit-class-2/2026-08-03/
CATEGORIES:CrossFit Class
END:VEVENT
BEGIN:VEVENT
DTSTART;TZID=UTC:20260803T163000
DTEND;TZID=UTC:20260803T173000
DTSTAMP:20260423T204559
CREATED:20251027T165935Z
LAST-MODIFIED:20251027T165935Z
UID:10006987-1785774600-1785778200@crossfitchaparral.com
SUMMARY:CrossFit Class
DESCRIPTION:
URL:http://crossfitchaparral.com/event/crossfit-class-5/2026-08-03/
CATEGORIES:CrossFit Class
END:VEVENT
BEGIN:VEVENT
DTSTART;TZID=UTC:20260803T173000
DTEND;TZID=UTC:20260803T183000
DTSTAMP:20260423T204559
CREATED:20251027T170752Z
LAST-MODIFIED:20251027T170752Z
UID:10008292-1785778200-1785781800@crossfitchaparral.com
SUMMARY:CrossFit Class
DESCRIPTION:
URL:http://crossfitchaparral.com/event/crossfit-class-6/2026-08-03/
CATEGORIES:CrossFit Class
END:VEVENT
BEGIN:VEVENT
DTSTART;TZID=UTC:20260803T183000
DTEND;TZID=UTC:20260803T193000
DTSTAMP:20260423T204559
CREATED:20251027T170840Z
LAST-MODIFIED:20251027T170858Z
UID:10009557-1785781800-1785785400@crossfitchaparral.com
SUMMARY:CrossFit Class
DESCRIPTION:
URL:http://crossfitchaparral.com/event/crossfit-class-7/2026-08-03/
CATEGORIES:CrossFit Class
END:VEVENT
END:VCALENDAR