BEGIN:VCALENDAR
VERSION:2.0
PRODID:-//CrossFit Chaparral - ECPv6.15.10//NONSGML v1.0//EN
CALSCALE:GREGORIAN
METHOD:PUBLISH
X-ORIGINAL-URL:http://crossfitchaparral.com
X-WR-CALDESC:Events for CrossFit Chaparral
REFRESH-INTERVAL;VALUE=DURATION:PT1H
X-Robots-Tag:noindex
X-PUBLISHED-TTL:PT1H
BEGIN:VTIMEZONE
TZID:UTC
BEGIN:STANDARD
TZOFFSETFROM:+0000
TZOFFSETTO:+0000
TZNAME:UTC
DTSTART:20250101T000000
END:STANDARD
END:VTIMEZONE
BEGIN:VEVENT
DTSTART;TZID=UTC:20260218T063000
DTEND;TZID=UTC:20260218T193000
DTSTAMP:20260425T153513
CREATED:20251027T165009Z
LAST-MODIFIED:20251027T165009Z
UID:10002693-1771396200-1771443000@crossfitchaparral.com
SUMMARY:CrossFit Class
DESCRIPTION:
URL:http://crossfitchaparral.com/event/crossfit-class-2/2026-02-18/
CATEGORIES:CrossFit Class
END:VEVENT
BEGIN:VEVENT
DTSTART;TZID=UTC:20260218T163000
DTEND;TZID=UTC:20260218T173000
DTSTAMP:20260425T153513
CREATED:20251027T165935Z
LAST-MODIFIED:20251027T165935Z
UID:10006869-1771432200-1771435800@crossfitchaparral.com
SUMMARY:CrossFit Class
DESCRIPTION:
URL:http://crossfitchaparral.com/event/crossfit-class-5/2026-02-18/
CATEGORIES:CrossFit Class
END:VEVENT
BEGIN:VEVENT
DTSTART;TZID=UTC:20260218T173000
DTEND;TZID=UTC:20260218T183000
DTSTAMP:20260425T153513
CREATED:20251027T170752Z
LAST-MODIFIED:20251027T170752Z
UID:10008174-1771435800-1771439400@crossfitchaparral.com
SUMMARY:CrossFit Class
DESCRIPTION:
URL:http://crossfitchaparral.com/event/crossfit-class-6/2026-02-18/
CATEGORIES:CrossFit Class
END:VEVENT
BEGIN:VEVENT
DTSTART;TZID=UTC:20260218T183000
DTEND;TZID=UTC:20260218T193000
DTSTAMP:20260425T153513
CREATED:20251027T170840Z
LAST-MODIFIED:20251027T170858Z
UID:10009463-1771439400-1771443000@crossfitchaparral.com
SUMMARY:CrossFit Class
DESCRIPTION:
URL:http://crossfitchaparral.com/event/crossfit-class-7/2026-02-18/
CATEGORIES:CrossFit Class
END:VEVENT
BEGIN:VEVENT
DTSTART;TZID=UTC:20260219T053000
DTEND;TZID=UTC:20260219T063000
DTSTAMP:20260425T153513
CREATED:20251027T164919Z
LAST-MODIFIED:20251027T164919Z
UID:10001389-1771479000-1771482600@crossfitchaparral.com
SUMMARY:CrossFit Class
DESCRIPTION:
URL:http://crossfitchaparral.com/event/crossfit-class/2026-02-19/
CATEGORIES:CrossFit Class
END:VEVENT
BEGIN:VEVENT
DTSTART;TZID=UTC:20260219T063000
DTEND;TZID=UTC:20260219T193000
DTSTAMP:20260425T153513
CREATED:20251027T165009Z
LAST-MODIFIED:20251027T165009Z
UID:10002694-1771482600-1771529400@crossfitchaparral.com
SUMMARY:CrossFit Class
DESCRIPTION:
URL:http://crossfitchaparral.com/event/crossfit-class-2/2026-02-19/
CATEGORIES:CrossFit Class
END:VEVENT
BEGIN:VEVENT
DTSTART;TZID=UTC:20260219T163000
DTEND;TZID=UTC:20260219T173000
DTSTAMP:20260425T153513
CREATED:20251027T165935Z
LAST-MODIFIED:20251027T165935Z
UID:10006870-1771518600-1771522200@crossfitchaparral.com
SUMMARY:CrossFit Class
DESCRIPTION:
URL:http://crossfitchaparral.com/event/crossfit-class-5/2026-02-19/
CATEGORIES:CrossFit Class
END:VEVENT
BEGIN:VEVENT
DTSTART;TZID=UTC:20260219T173000
DTEND;TZID=UTC:20260219T183000
DTSTAMP:20260425T153513
CREATED:20251027T170752Z
LAST-MODIFIED:20251027T170752Z
UID:10008175-1771522200-1771525800@crossfitchaparral.com
SUMMARY:CrossFit Class
DESCRIPTION:
URL:http://crossfitchaparral.com/event/crossfit-class-6/2026-02-19/
CATEGORIES:CrossFit Class
END:VEVENT
BEGIN:VEVENT
DTSTART;TZID=UTC:20260219T183000
DTEND;TZID=UTC:20260219T193000
DTSTAMP:20260425T153513
CREATED:20251027T170840Z
LAST-MODIFIED:20251027T170858Z
UID:10009464-1771525800-1771529400@crossfitchaparral.com
SUMMARY:CrossFit Class
DESCRIPTION:
URL:http://crossfitchaparral.com/event/crossfit-class-7/2026-02-19/
CATEGORIES:CrossFit Class
END:VEVENT
BEGIN:VEVENT
DTSTART;TZID=UTC:20260220T053000
DTEND;TZID=UTC:20260220T063000
DTSTAMP:20260425T153513
CREATED:20251027T164919Z
LAST-MODIFIED:20251027T164919Z
UID:10001390-1771565400-1771569000@crossfitchaparral.com
SUMMARY:CrossFit Class
DESCRIPTION:
URL:http://crossfitchaparral.com/event/crossfit-class/2026-02-20/
CATEGORIES:CrossFit Class
END:VEVENT
BEGIN:VEVENT
DTSTART;TZID=UTC:20260220T063000
DTEND;TZID=UTC:20260220T193000
DTSTAMP:20260425T153513
CREATED:20251027T165009Z
LAST-MODIFIED:20251027T165009Z
UID:10002695-1771569000-1771615800@crossfitchaparral.com
SUMMARY:CrossFit Class
DESCRIPTION:
URL:http://crossfitchaparral.com/event/crossfit-class-2/2026-02-20/
CATEGORIES:CrossFit Class
END:VEVENT
BEGIN:VEVENT
DTSTART;TZID=UTC:20260220T083000
DTEND;TZID=UTC:20260220T093000
DTSTAMP:20260425T153513
CREATED:20251027T165257Z
LAST-MODIFIED:20251027T165257Z
UID:10005237-1771576200-1771579800@crossfitchaparral.com
SUMMARY:CrossFit Class
DESCRIPTION:
URL:http://crossfitchaparral.com/event/crossfit-class-3/2026-02-20/
CATEGORIES:CrossFit Class
END:VEVENT
BEGIN:VEVENT
DTSTART;TZID=UTC:20260220T163000
DTEND;TZID=UTC:20260220T173000
DTSTAMP:20260425T153513
CREATED:20251027T165935Z
LAST-MODIFIED:20251027T165935Z
UID:10006871-1771605000-1771608600@crossfitchaparral.com
SUMMARY:CrossFit Class
DESCRIPTION:
URL:http://crossfitchaparral.com/event/crossfit-class-5/2026-02-20/
CATEGORIES:CrossFit Class
END:VEVENT
BEGIN:VEVENT
DTSTART;TZID=UTC:20260220T173000
DTEND;TZID=UTC:20260220T183000
DTSTAMP:20260425T153513
CREATED:20251027T170752Z
LAST-MODIFIED:20251027T170752Z
UID:10008176-1771608600-1771612200@crossfitchaparral.com
SUMMARY:CrossFit Class
DESCRIPTION:
URL:http://crossfitchaparral.com/event/crossfit-class-6/2026-02-20/
CATEGORIES:CrossFit Class
END:VEVENT
BEGIN:VEVENT
DTSTART;TZID=UTC:20260221T080000
DTEND;TZID=UTC:20260221T090000
DTSTAMP:20260425T153513
CREATED:20251027T165352Z
LAST-MODIFIED:20251027T165352Z
UID:10005498-1771660800-1771664400@crossfitchaparral.com
SUMMARY:CrossFit Class
DESCRIPTION:
URL:http://crossfitchaparral.com/event/crossfit-class-4/2026-02-21/
CATEGORIES:CrossFit Class
END:VEVENT
BEGIN:VEVENT
DTSTART;TZID=UTC:20260223T053000
DTEND;TZID=UTC:20260223T063000
DTSTAMP:20260425T153513
CREATED:20251027T164919Z
LAST-MODIFIED:20251027T164919Z
UID:10001391-1771824600-1771828200@crossfitchaparral.com
SUMMARY:CrossFit Class
DESCRIPTION:
URL:http://crossfitchaparral.com/event/crossfit-class/2026-02-23/
CATEGORIES:CrossFit Class
END:VEVENT
BEGIN:VEVENT
DTSTART;TZID=UTC:20260223T063000
DTEND;TZID=UTC:20260223T193000
DTSTAMP:20260425T153513
CREATED:20251027T165009Z
LAST-MODIFIED:20251027T165009Z
UID:10002696-1771828200-1771875000@crossfitchaparral.com
SUMMARY:CrossFit Class
DESCRIPTION:
URL:http://crossfitchaparral.com/event/crossfit-class-2/2026-02-23/
CATEGORIES:CrossFit Class
END:VEVENT
BEGIN:VEVENT
DTSTART;TZID=UTC:20260223T163000
DTEND;TZID=UTC:20260223T173000
DTSTAMP:20260425T153513
CREATED:20251027T165935Z
LAST-MODIFIED:20251027T165935Z
UID:10006872-1771864200-1771867800@crossfitchaparral.com
SUMMARY:CrossFit Class
DESCRIPTION:
URL:http://crossfitchaparral.com/event/crossfit-class-5/2026-02-23/
CATEGORIES:CrossFit Class
END:VEVENT
BEGIN:VEVENT
DTSTART;TZID=UTC:20260223T173000
DTEND;TZID=UTC:20260223T183000
DTSTAMP:20260425T153513
CREATED:20251027T170752Z
LAST-MODIFIED:20251027T170752Z
UID:10008177-1771867800-1771871400@crossfitchaparral.com
SUMMARY:CrossFit Class
DESCRIPTION:
URL:http://crossfitchaparral.com/event/crossfit-class-6/2026-02-23/
CATEGORIES:CrossFit Class
END:VEVENT
BEGIN:VEVENT
DTSTART;TZID=UTC:20260223T183000
DTEND;TZID=UTC:20260223T193000
DTSTAMP:20260425T153513
CREATED:20251027T170840Z
LAST-MODIFIED:20251027T170858Z
UID:10009465-1771871400-1771875000@crossfitchaparral.com
SUMMARY:CrossFit Class
DESCRIPTION:
URL:http://crossfitchaparral.com/event/crossfit-class-7/2026-02-23/
CATEGORIES:CrossFit Class
END:VEVENT
BEGIN:VEVENT
DTSTART;TZID=UTC:20260224T053000
DTEND;TZID=UTC:20260224T063000
DTSTAMP:20260425T153513
CREATED:20251027T164919Z
LAST-MODIFIED:20251027T164919Z
UID:10001392-1771911000-1771914600@crossfitchaparral.com
SUMMARY:CrossFit Class
DESCRIPTION:
URL:http://crossfitchaparral.com/event/crossfit-class/2026-02-24/
CATEGORIES:CrossFit Class
END:VEVENT
BEGIN:VEVENT
DTSTART;TZID=UTC:20260224T063000
DTEND;TZID=UTC:20260224T193000
DTSTAMP:20260425T153513
CREATED:20251027T165009Z
LAST-MODIFIED:20251027T165009Z
UID:10002697-1771914600-1771961400@crossfitchaparral.com
SUMMARY:CrossFit Class
DESCRIPTION:
URL:http://crossfitchaparral.com/event/crossfit-class-2/2026-02-24/
CATEGORIES:CrossFit Class
END:VEVENT
BEGIN:VEVENT
DTSTART;TZID=UTC:20260224T163000
DTEND;TZID=UTC:20260224T173000
DTSTAMP:20260425T153513
CREATED:20251027T165935Z
LAST-MODIFIED:20251027T165935Z
UID:10006873-1771950600-1771954200@crossfitchaparral.com
SUMMARY:CrossFit Class
DESCRIPTION:
URL:http://crossfitchaparral.com/event/crossfit-class-5/2026-02-24/
CATEGORIES:CrossFit Class
END:VEVENT
BEGIN:VEVENT
DTSTART;TZID=UTC:20260224T173000
DTEND;TZID=UTC:20260224T183000
DTSTAMP:20260425T153513
CREATED:20251027T170752Z
LAST-MODIFIED:20251027T170752Z
UID:10008178-1771954200-1771957800@crossfitchaparral.com
SUMMARY:CrossFit Class
DESCRIPTION:
URL:http://crossfitchaparral.com/event/crossfit-class-6/2026-02-24/
CATEGORIES:CrossFit Class
END:VEVENT
BEGIN:VEVENT
DTSTART;TZID=UTC:20260224T183000
DTEND;TZID=UTC:20260224T193000
DTSTAMP:20260425T153513
CREATED:20251027T170840Z
LAST-MODIFIED:20251027T170858Z
UID:10009466-1771957800-1771961400@crossfitchaparral.com
SUMMARY:CrossFit Class
DESCRIPTION:
URL:http://crossfitchaparral.com/event/crossfit-class-7/2026-02-24/
CATEGORIES:CrossFit Class
END:VEVENT
BEGIN:VEVENT
DTSTART;TZID=UTC:20260225T053000
DTEND;TZID=UTC:20260225T063000
DTSTAMP:20260425T153513
CREATED:20251027T164919Z
LAST-MODIFIED:20251027T164919Z
UID:10001393-1771997400-1772001000@crossfitchaparral.com
SUMMARY:CrossFit Class
DESCRIPTION:
URL:http://crossfitchaparral.com/event/crossfit-class/2026-02-25/
CATEGORIES:CrossFit Class
END:VEVENT
BEGIN:VEVENT
DTSTART;TZID=UTC:20260225T063000
DTEND;TZID=UTC:20260225T193000
DTSTAMP:20260425T153513
CREATED:20251027T165009Z
LAST-MODIFIED:20251027T165009Z
UID:10002698-1772001000-1772047800@crossfitchaparral.com
SUMMARY:CrossFit Class
DESCRIPTION:
URL:http://crossfitchaparral.com/event/crossfit-class-2/2026-02-25/
CATEGORIES:CrossFit Class
END:VEVENT
BEGIN:VEVENT
DTSTART;TZID=UTC:20260225T163000
DTEND;TZID=UTC:20260225T173000
DTSTAMP:20260425T153513
CREATED:20251027T165935Z
LAST-MODIFIED:20251027T165935Z
UID:10006874-1772037000-1772040600@crossfitchaparral.com
SUMMARY:CrossFit Class
DESCRIPTION:
URL:http://crossfitchaparral.com/event/crossfit-class-5/2026-02-25/
CATEGORIES:CrossFit Class
END:VEVENT
BEGIN:VEVENT
DTSTART;TZID=UTC:20260225T173000
DTEND;TZID=UTC:20260225T183000
DTSTAMP:20260425T153513
CREATED:20251027T170752Z
LAST-MODIFIED:20251027T170752Z
UID:10008179-1772040600-1772044200@crossfitchaparral.com
SUMMARY:CrossFit Class
DESCRIPTION:
URL:http://crossfitchaparral.com/event/crossfit-class-6/2026-02-25/
CATEGORIES:CrossFit Class
END:VEVENT
BEGIN:VEVENT
DTSTART;TZID=UTC:20260225T183000
DTEND;TZID=UTC:20260225T193000
DTSTAMP:20260425T153513
CREATED:20251027T170840Z
LAST-MODIFIED:20251027T170858Z
UID:10009467-1772044200-1772047800@crossfitchaparral.com
SUMMARY:CrossFit Class
DESCRIPTION:
URL:http://crossfitchaparral.com/event/crossfit-class-7/2026-02-25/
CATEGORIES:CrossFit Class
END:VEVENT
END:VCALENDAR