BEGIN:VCALENDAR
VERSION:2.0
PRODID:-//CrossFit Chaparral - ECPv6.15.10//NONSGML v1.0//EN
CALSCALE:GREGORIAN
METHOD:PUBLISH
X-ORIGINAL-URL:http://crossfitchaparral.com
X-WR-CALDESC:Events for CrossFit Chaparral
REFRESH-INTERVAL;VALUE=DURATION:PT1H
X-Robots-Tag:noindex
X-PUBLISHED-TTL:PT1H
BEGIN:VTIMEZONE
TZID:UTC
BEGIN:STANDARD
TZOFFSETFROM:+0000
TZOFFSETTO:+0000
TZNAME:UTC
DTSTART:20250101T000000
END:STANDARD
END:VTIMEZONE
BEGIN:VEVENT
DTSTART;TZID=UTC:20260311T163000
DTEND;TZID=UTC:20260311T173000
DTSTAMP:20260421T180734
CREATED:20251027T165935Z
LAST-MODIFIED:20251027T165935Z
UID:10006884-1773246600-1773250200@crossfitchaparral.com
SUMMARY:CrossFit Class
DESCRIPTION:
URL:http://crossfitchaparral.com/event/crossfit-class-5/2026-03-11/
CATEGORIES:CrossFit Class
END:VEVENT
BEGIN:VEVENT
DTSTART;TZID=UTC:20260311T173000
DTEND;TZID=UTC:20260311T183000
DTSTAMP:20260421T180734
CREATED:20251027T170752Z
LAST-MODIFIED:20251027T170752Z
UID:10008189-1773250200-1773253800@crossfitchaparral.com
SUMMARY:CrossFit Class
DESCRIPTION:
URL:http://crossfitchaparral.com/event/crossfit-class-6/2026-03-11/
CATEGORIES:CrossFit Class
END:VEVENT
BEGIN:VEVENT
DTSTART;TZID=UTC:20260311T183000
DTEND;TZID=UTC:20260311T193000
DTSTAMP:20260421T180734
CREATED:20251027T170840Z
LAST-MODIFIED:20251027T170858Z
UID:10009475-1773253800-1773257400@crossfitchaparral.com
SUMMARY:CrossFit Class
DESCRIPTION:
URL:http://crossfitchaparral.com/event/crossfit-class-7/2026-03-11/
CATEGORIES:CrossFit Class
END:VEVENT
BEGIN:VEVENT
DTSTART;TZID=UTC:20260312T053000
DTEND;TZID=UTC:20260312T063000
DTSTAMP:20260421T180734
CREATED:20251027T164919Z
LAST-MODIFIED:20251027T164919Z
UID:10001404-1773293400-1773297000@crossfitchaparral.com
SUMMARY:CrossFit Class
DESCRIPTION:
URL:http://crossfitchaparral.com/event/crossfit-class/2026-03-12/
CATEGORIES:CrossFit Class
END:VEVENT
BEGIN:VEVENT
DTSTART;TZID=UTC:20260312T063000
DTEND;TZID=UTC:20260312T193000
DTSTAMP:20260421T180734
CREATED:20251027T165009Z
LAST-MODIFIED:20251027T165009Z
UID:10002709-1773297000-1773343800@crossfitchaparral.com
SUMMARY:CrossFit Class
DESCRIPTION:
URL:http://crossfitchaparral.com/event/crossfit-class-2/2026-03-12/
CATEGORIES:CrossFit Class
END:VEVENT
BEGIN:VEVENT
DTSTART;TZID=UTC:20260312T163000
DTEND;TZID=UTC:20260312T173000
DTSTAMP:20260421T180734
CREATED:20251027T165935Z
LAST-MODIFIED:20251027T165935Z
UID:10006885-1773333000-1773336600@crossfitchaparral.com
SUMMARY:CrossFit Class
DESCRIPTION:
URL:http://crossfitchaparral.com/event/crossfit-class-5/2026-03-12/
CATEGORIES:CrossFit Class
END:VEVENT
BEGIN:VEVENT
DTSTART;TZID=UTC:20260312T173000
DTEND;TZID=UTC:20260312T183000
DTSTAMP:20260421T180734
CREATED:20251027T170752Z
LAST-MODIFIED:20251027T170752Z
UID:10008190-1773336600-1773340200@crossfitchaparral.com
SUMMARY:CrossFit Class
DESCRIPTION:
URL:http://crossfitchaparral.com/event/crossfit-class-6/2026-03-12/
CATEGORIES:CrossFit Class
END:VEVENT
BEGIN:VEVENT
DTSTART;TZID=UTC:20260312T183000
DTEND;TZID=UTC:20260312T193000
DTSTAMP:20260421T180734
CREATED:20251027T170840Z
LAST-MODIFIED:20251027T170858Z
UID:10009476-1773340200-1773343800@crossfitchaparral.com
SUMMARY:CrossFit Class
DESCRIPTION:
URL:http://crossfitchaparral.com/event/crossfit-class-7/2026-03-12/
CATEGORIES:CrossFit Class
END:VEVENT
BEGIN:VEVENT
DTSTART;TZID=UTC:20260313T053000
DTEND;TZID=UTC:20260313T063000
DTSTAMP:20260421T180734
CREATED:20251027T164919Z
LAST-MODIFIED:20251027T164919Z
UID:10001405-1773379800-1773383400@crossfitchaparral.com
SUMMARY:CrossFit Class
DESCRIPTION:
URL:http://crossfitchaparral.com/event/crossfit-class/2026-03-13/
CATEGORIES:CrossFit Class
END:VEVENT
BEGIN:VEVENT
DTSTART;TZID=UTC:20260313T063000
DTEND;TZID=UTC:20260313T193000
DTSTAMP:20260421T180734
CREATED:20251027T165009Z
LAST-MODIFIED:20251027T165009Z
UID:10002710-1773383400-1773430200@crossfitchaparral.com
SUMMARY:CrossFit Class
DESCRIPTION:
URL:http://crossfitchaparral.com/event/crossfit-class-2/2026-03-13/
CATEGORIES:CrossFit Class
END:VEVENT
BEGIN:VEVENT
DTSTART;TZID=UTC:20260313T083000
DTEND;TZID=UTC:20260313T093000
DTSTAMP:20260421T180734
CREATED:20251027T165257Z
LAST-MODIFIED:20251027T165257Z
UID:10005240-1773390600-1773394200@crossfitchaparral.com
SUMMARY:CrossFit Class
DESCRIPTION:
URL:http://crossfitchaparral.com/event/crossfit-class-3/2026-03-13/
CATEGORIES:CrossFit Class
END:VEVENT
BEGIN:VEVENT
DTSTART;TZID=UTC:20260313T163000
DTEND;TZID=UTC:20260313T173000
DTSTAMP:20260421T180734
CREATED:20251027T165935Z
LAST-MODIFIED:20251027T165935Z
UID:10006886-1773419400-1773423000@crossfitchaparral.com
SUMMARY:CrossFit Class
DESCRIPTION:
URL:http://crossfitchaparral.com/event/crossfit-class-5/2026-03-13/
CATEGORIES:CrossFit Class
END:VEVENT
BEGIN:VEVENT
DTSTART;TZID=UTC:20260313T173000
DTEND;TZID=UTC:20260313T183000
DTSTAMP:20260421T180734
CREATED:20251027T170752Z
LAST-MODIFIED:20251027T170752Z
UID:10008191-1773423000-1773426600@crossfitchaparral.com
SUMMARY:CrossFit Class
DESCRIPTION:
URL:http://crossfitchaparral.com/event/crossfit-class-6/2026-03-13/
CATEGORIES:CrossFit Class
END:VEVENT
BEGIN:VEVENT
DTSTART;TZID=UTC:20260314T080000
DTEND;TZID=UTC:20260314T090000
DTSTAMP:20260421T180734
CREATED:20251027T165352Z
LAST-MODIFIED:20251027T165352Z
UID:10005501-1773475200-1773478800@crossfitchaparral.com
SUMMARY:CrossFit Class
DESCRIPTION:
URL:http://crossfitchaparral.com/event/crossfit-class-4/2026-03-14/
CATEGORIES:CrossFit Class
END:VEVENT
BEGIN:VEVENT
DTSTART;TZID=UTC:20260316T053000
DTEND;TZID=UTC:20260316T063000
DTSTAMP:20260421T180734
CREATED:20251027T164919Z
LAST-MODIFIED:20251027T164919Z
UID:10001406-1773639000-1773642600@crossfitchaparral.com
SUMMARY:CrossFit Class
DESCRIPTION:
URL:http://crossfitchaparral.com/event/crossfit-class/2026-03-16/
CATEGORIES:CrossFit Class
END:VEVENT
BEGIN:VEVENT
DTSTART;TZID=UTC:20260316T063000
DTEND;TZID=UTC:20260316T193000
DTSTAMP:20260421T180734
CREATED:20251027T165009Z
LAST-MODIFIED:20251027T165009Z
UID:10002711-1773642600-1773689400@crossfitchaparral.com
SUMMARY:CrossFit Class
DESCRIPTION:
URL:http://crossfitchaparral.com/event/crossfit-class-2/2026-03-16/
CATEGORIES:CrossFit Class
END:VEVENT
BEGIN:VEVENT
DTSTART;TZID=UTC:20260316T163000
DTEND;TZID=UTC:20260316T173000
DTSTAMP:20260421T180734
CREATED:20251027T165935Z
LAST-MODIFIED:20251027T165935Z
UID:10006887-1773678600-1773682200@crossfitchaparral.com
SUMMARY:CrossFit Class
DESCRIPTION:
URL:http://crossfitchaparral.com/event/crossfit-class-5/2026-03-16/
CATEGORIES:CrossFit Class
END:VEVENT
BEGIN:VEVENT
DTSTART;TZID=UTC:20260316T173000
DTEND;TZID=UTC:20260316T183000
DTSTAMP:20260421T180734
CREATED:20251027T170752Z
LAST-MODIFIED:20251027T170752Z
UID:10008192-1773682200-1773685800@crossfitchaparral.com
SUMMARY:CrossFit Class
DESCRIPTION:
URL:http://crossfitchaparral.com/event/crossfit-class-6/2026-03-16/
CATEGORIES:CrossFit Class
END:VEVENT
BEGIN:VEVENT
DTSTART;TZID=UTC:20260316T183000
DTEND;TZID=UTC:20260316T193000
DTSTAMP:20260421T180734
CREATED:20251027T170840Z
LAST-MODIFIED:20251027T170858Z
UID:10009477-1773685800-1773689400@crossfitchaparral.com
SUMMARY:CrossFit Class
DESCRIPTION:
URL:http://crossfitchaparral.com/event/crossfit-class-7/2026-03-16/
CATEGORIES:CrossFit Class
END:VEVENT
BEGIN:VEVENT
DTSTART;TZID=UTC:20260317T053000
DTEND;TZID=UTC:20260317T063000
DTSTAMP:20260421T180734
CREATED:20251027T164919Z
LAST-MODIFIED:20251027T164919Z
UID:10001407-1773725400-1773729000@crossfitchaparral.com
SUMMARY:CrossFit Class
DESCRIPTION:
URL:http://crossfitchaparral.com/event/crossfit-class/2026-03-17/
CATEGORIES:CrossFit Class
END:VEVENT
BEGIN:VEVENT
DTSTART;TZID=UTC:20260317T063000
DTEND;TZID=UTC:20260317T193000
DTSTAMP:20260421T180734
CREATED:20251027T165009Z
LAST-MODIFIED:20251027T165009Z
UID:10002712-1773729000-1773775800@crossfitchaparral.com
SUMMARY:CrossFit Class
DESCRIPTION:
URL:http://crossfitchaparral.com/event/crossfit-class-2/2026-03-17/
CATEGORIES:CrossFit Class
END:VEVENT
BEGIN:VEVENT
DTSTART;TZID=UTC:20260317T163000
DTEND;TZID=UTC:20260317T173000
DTSTAMP:20260421T180734
CREATED:20251027T165935Z
LAST-MODIFIED:20251027T165935Z
UID:10006888-1773765000-1773768600@crossfitchaparral.com
SUMMARY:CrossFit Class
DESCRIPTION:
URL:http://crossfitchaparral.com/event/crossfit-class-5/2026-03-17/
CATEGORIES:CrossFit Class
END:VEVENT
BEGIN:VEVENT
DTSTART;TZID=UTC:20260317T173000
DTEND;TZID=UTC:20260317T183000
DTSTAMP:20260421T180734
CREATED:20251027T170752Z
LAST-MODIFIED:20251027T170752Z
UID:10008193-1773768600-1773772200@crossfitchaparral.com
SUMMARY:CrossFit Class
DESCRIPTION:
URL:http://crossfitchaparral.com/event/crossfit-class-6/2026-03-17/
CATEGORIES:CrossFit Class
END:VEVENT
BEGIN:VEVENT
DTSTART;TZID=UTC:20260317T183000
DTEND;TZID=UTC:20260317T193000
DTSTAMP:20260421T180734
CREATED:20251027T170840Z
LAST-MODIFIED:20251027T170858Z
UID:10009478-1773772200-1773775800@crossfitchaparral.com
SUMMARY:CrossFit Class
DESCRIPTION:
URL:http://crossfitchaparral.com/event/crossfit-class-7/2026-03-17/
CATEGORIES:CrossFit Class
END:VEVENT
BEGIN:VEVENT
DTSTART;TZID=UTC:20260318T053000
DTEND;TZID=UTC:20260318T063000
DTSTAMP:20260421T180734
CREATED:20251027T164919Z
LAST-MODIFIED:20251027T164919Z
UID:10001408-1773811800-1773815400@crossfitchaparral.com
SUMMARY:CrossFit Class
DESCRIPTION:
URL:http://crossfitchaparral.com/event/crossfit-class/2026-03-18/
CATEGORIES:CrossFit Class
END:VEVENT
BEGIN:VEVENT
DTSTART;TZID=UTC:20260318T063000
DTEND;TZID=UTC:20260318T193000
DTSTAMP:20260421T180734
CREATED:20251027T165009Z
LAST-MODIFIED:20251027T165009Z
UID:10002713-1773815400-1773862200@crossfitchaparral.com
SUMMARY:CrossFit Class
DESCRIPTION:
URL:http://crossfitchaparral.com/event/crossfit-class-2/2026-03-18/
CATEGORIES:CrossFit Class
END:VEVENT
BEGIN:VEVENT
DTSTART;TZID=UTC:20260318T163000
DTEND;TZID=UTC:20260318T173000
DTSTAMP:20260421T180734
CREATED:20251027T165935Z
LAST-MODIFIED:20251027T165935Z
UID:10006889-1773851400-1773855000@crossfitchaparral.com
SUMMARY:CrossFit Class
DESCRIPTION:
URL:http://crossfitchaparral.com/event/crossfit-class-5/2026-03-18/
CATEGORIES:CrossFit Class
END:VEVENT
BEGIN:VEVENT
DTSTART;TZID=UTC:20260318T173000
DTEND;TZID=UTC:20260318T183000
DTSTAMP:20260421T180734
CREATED:20251027T170752Z
LAST-MODIFIED:20251027T170752Z
UID:10008194-1773855000-1773858600@crossfitchaparral.com
SUMMARY:CrossFit Class
DESCRIPTION:
URL:http://crossfitchaparral.com/event/crossfit-class-6/2026-03-18/
CATEGORIES:CrossFit Class
END:VEVENT
BEGIN:VEVENT
DTSTART;TZID=UTC:20260318T183000
DTEND;TZID=UTC:20260318T193000
DTSTAMP:20260421T180734
CREATED:20251027T170840Z
LAST-MODIFIED:20251027T170858Z
UID:10009479-1773858600-1773862200@crossfitchaparral.com
SUMMARY:CrossFit Class
DESCRIPTION:
URL:http://crossfitchaparral.com/event/crossfit-class-7/2026-03-18/
CATEGORIES:CrossFit Class
END:VEVENT
BEGIN:VEVENT
DTSTART;TZID=UTC:20260319T053000
DTEND;TZID=UTC:20260319T063000
DTSTAMP:20260421T180734
CREATED:20251027T164919Z
LAST-MODIFIED:20251027T164919Z
UID:10001409-1773898200-1773901800@crossfitchaparral.com
SUMMARY:CrossFit Class
DESCRIPTION:
URL:http://crossfitchaparral.com/event/crossfit-class/2026-03-19/
CATEGORIES:CrossFit Class
END:VEVENT
END:VCALENDAR