BEGIN:VCALENDAR
VERSION:2.0
PRODID:-//CrossFit Chaparral - ECPv6.15.10//NONSGML v1.0//EN
CALSCALE:GREGORIAN
METHOD:PUBLISH
X-ORIGINAL-URL:http://crossfitchaparral.com
X-WR-CALDESC:Events for CrossFit Chaparral
REFRESH-INTERVAL;VALUE=DURATION:PT1H
X-Robots-Tag:noindex
X-PUBLISHED-TTL:PT1H
BEGIN:VTIMEZONE
TZID:UTC
BEGIN:STANDARD
TZOFFSETFROM:+0000
TZOFFSETTO:+0000
TZNAME:UTC
DTSTART:20250101T000000
END:STANDARD
END:VTIMEZONE
BEGIN:VEVENT
DTSTART;TZID=UTC:20260709T163000
DTEND;TZID=UTC:20260709T173000
DTSTAMP:20260423T214322
CREATED:20251027T165935Z
LAST-MODIFIED:20251027T165935Z
UID:10006970-1783614600-1783618200@crossfitchaparral.com
SUMMARY:CrossFit Class
DESCRIPTION:
URL:http://crossfitchaparral.com/event/crossfit-class-5/2026-07-09/
CATEGORIES:CrossFit Class
END:VEVENT
BEGIN:VEVENT
DTSTART;TZID=UTC:20260709T173000
DTEND;TZID=UTC:20260709T183000
DTSTAMP:20260423T214322
CREATED:20251027T170752Z
LAST-MODIFIED:20251027T170752Z
UID:10008275-1783618200-1783621800@crossfitchaparral.com
SUMMARY:CrossFit Class
DESCRIPTION:
URL:http://crossfitchaparral.com/event/crossfit-class-6/2026-07-09/
CATEGORIES:CrossFit Class
END:VEVENT
BEGIN:VEVENT
DTSTART;TZID=UTC:20260709T183000
DTEND;TZID=UTC:20260709T193000
DTSTAMP:20260423T214322
CREATED:20251027T170840Z
LAST-MODIFIED:20251027T170858Z
UID:10009544-1783621800-1783625400@crossfitchaparral.com
SUMMARY:CrossFit Class
DESCRIPTION:
URL:http://crossfitchaparral.com/event/crossfit-class-7/2026-07-09/
CATEGORIES:CrossFit Class
END:VEVENT
BEGIN:VEVENT
DTSTART;TZID=UTC:20260710T053000
DTEND;TZID=UTC:20260710T063000
DTSTAMP:20260423T214322
CREATED:20251027T164919Z
LAST-MODIFIED:20251027T164919Z
UID:10001490-1783661400-1783665000@crossfitchaparral.com
SUMMARY:CrossFit Class
DESCRIPTION:
URL:http://crossfitchaparral.com/event/crossfit-class/2026-07-10/
CATEGORIES:CrossFit Class
END:VEVENT
BEGIN:VEVENT
DTSTART;TZID=UTC:20260710T063000
DTEND;TZID=UTC:20260710T193000
DTSTAMP:20260423T214322
CREATED:20251027T165009Z
LAST-MODIFIED:20251027T165009Z
UID:10002795-1783665000-1783711800@crossfitchaparral.com
SUMMARY:CrossFit Class
DESCRIPTION:
URL:http://crossfitchaparral.com/event/crossfit-class-2/2026-07-10/
CATEGORIES:CrossFit Class
END:VEVENT
BEGIN:VEVENT
DTSTART;TZID=UTC:20260710T083000
DTEND;TZID=UTC:20260710T093000
DTSTAMP:20260423T214322
CREATED:20251027T165257Z
LAST-MODIFIED:20251027T165257Z
UID:10005257-1783672200-1783675800@crossfitchaparral.com
SUMMARY:CrossFit Class
DESCRIPTION:
URL:http://crossfitchaparral.com/event/crossfit-class-3/2026-07-10/
CATEGORIES:CrossFit Class
END:VEVENT
BEGIN:VEVENT
DTSTART;TZID=UTC:20260710T163000
DTEND;TZID=UTC:20260710T173000
DTSTAMP:20260423T214322
CREATED:20251027T165935Z
LAST-MODIFIED:20251027T165935Z
UID:10006971-1783701000-1783704600@crossfitchaparral.com
SUMMARY:CrossFit Class
DESCRIPTION:
URL:http://crossfitchaparral.com/event/crossfit-class-5/2026-07-10/
CATEGORIES:CrossFit Class
END:VEVENT
BEGIN:VEVENT
DTSTART;TZID=UTC:20260710T173000
DTEND;TZID=UTC:20260710T183000
DTSTAMP:20260423T214322
CREATED:20251027T170752Z
LAST-MODIFIED:20251027T170752Z
UID:10008276-1783704600-1783708200@crossfitchaparral.com
SUMMARY:CrossFit Class
DESCRIPTION:
URL:http://crossfitchaparral.com/event/crossfit-class-6/2026-07-10/
CATEGORIES:CrossFit Class
END:VEVENT
BEGIN:VEVENT
DTSTART;TZID=UTC:20260711T080000
DTEND;TZID=UTC:20260711T090000
DTSTAMP:20260423T214322
CREATED:20251027T165352Z
LAST-MODIFIED:20251027T165352Z
UID:10005518-1783756800-1783760400@crossfitchaparral.com
SUMMARY:CrossFit Class
DESCRIPTION:
URL:http://crossfitchaparral.com/event/crossfit-class-4/2026-07-11/
CATEGORIES:CrossFit Class
END:VEVENT
BEGIN:VEVENT
DTSTART;TZID=UTC:20260713T053000
DTEND;TZID=UTC:20260713T063000
DTSTAMP:20260423T214322
CREATED:20251027T164919Z
LAST-MODIFIED:20251027T164919Z
UID:10001491-1783920600-1783924200@crossfitchaparral.com
SUMMARY:CrossFit Class
DESCRIPTION:
URL:http://crossfitchaparral.com/event/crossfit-class/2026-07-13/
CATEGORIES:CrossFit Class
END:VEVENT
BEGIN:VEVENT
DTSTART;TZID=UTC:20260713T063000
DTEND;TZID=UTC:20260713T193000
DTSTAMP:20260423T214322
CREATED:20251027T165009Z
LAST-MODIFIED:20251027T165009Z
UID:10002796-1783924200-1783971000@crossfitchaparral.com
SUMMARY:CrossFit Class
DESCRIPTION:
URL:http://crossfitchaparral.com/event/crossfit-class-2/2026-07-13/
CATEGORIES:CrossFit Class
END:VEVENT
BEGIN:VEVENT
DTSTART;TZID=UTC:20260713T163000
DTEND;TZID=UTC:20260713T173000
DTSTAMP:20260423T214322
CREATED:20251027T165935Z
LAST-MODIFIED:20251027T165935Z
UID:10006972-1783960200-1783963800@crossfitchaparral.com
SUMMARY:CrossFit Class
DESCRIPTION:
URL:http://crossfitchaparral.com/event/crossfit-class-5/2026-07-13/
CATEGORIES:CrossFit Class
END:VEVENT
BEGIN:VEVENT
DTSTART;TZID=UTC:20260713T173000
DTEND;TZID=UTC:20260713T183000
DTSTAMP:20260423T214322
CREATED:20251027T170752Z
LAST-MODIFIED:20251027T170752Z
UID:10008277-1783963800-1783967400@crossfitchaparral.com
SUMMARY:CrossFit Class
DESCRIPTION:
URL:http://crossfitchaparral.com/event/crossfit-class-6/2026-07-13/
CATEGORIES:CrossFit Class
END:VEVENT
BEGIN:VEVENT
DTSTART;TZID=UTC:20260713T183000
DTEND;TZID=UTC:20260713T193000
DTSTAMP:20260423T214322
CREATED:20251027T170840Z
LAST-MODIFIED:20251027T170858Z
UID:10009545-1783967400-1783971000@crossfitchaparral.com
SUMMARY:CrossFit Class
DESCRIPTION:
URL:http://crossfitchaparral.com/event/crossfit-class-7/2026-07-13/
CATEGORIES:CrossFit Class
END:VEVENT
BEGIN:VEVENT
DTSTART;TZID=UTC:20260714T053000
DTEND;TZID=UTC:20260714T063000
DTSTAMP:20260423T214322
CREATED:20251027T164919Z
LAST-MODIFIED:20251027T164919Z
UID:10001492-1784007000-1784010600@crossfitchaparral.com
SUMMARY:CrossFit Class
DESCRIPTION:
URL:http://crossfitchaparral.com/event/crossfit-class/2026-07-14/
CATEGORIES:CrossFit Class
END:VEVENT
BEGIN:VEVENT
DTSTART;TZID=UTC:20260714T063000
DTEND;TZID=UTC:20260714T193000
DTSTAMP:20260423T214322
CREATED:20251027T165009Z
LAST-MODIFIED:20251027T165009Z
UID:10002797-1784010600-1784057400@crossfitchaparral.com
SUMMARY:CrossFit Class
DESCRIPTION:
URL:http://crossfitchaparral.com/event/crossfit-class-2/2026-07-14/
CATEGORIES:CrossFit Class
END:VEVENT
BEGIN:VEVENT
DTSTART;TZID=UTC:20260714T163000
DTEND;TZID=UTC:20260714T173000
DTSTAMP:20260423T214322
CREATED:20251027T165935Z
LAST-MODIFIED:20251027T165935Z
UID:10006973-1784046600-1784050200@crossfitchaparral.com
SUMMARY:CrossFit Class
DESCRIPTION:
URL:http://crossfitchaparral.com/event/crossfit-class-5/2026-07-14/
CATEGORIES:CrossFit Class
END:VEVENT
BEGIN:VEVENT
DTSTART;TZID=UTC:20260714T173000
DTEND;TZID=UTC:20260714T183000
DTSTAMP:20260423T214322
CREATED:20251027T170752Z
LAST-MODIFIED:20251027T170752Z
UID:10008278-1784050200-1784053800@crossfitchaparral.com
SUMMARY:CrossFit Class
DESCRIPTION:
URL:http://crossfitchaparral.com/event/crossfit-class-6/2026-07-14/
CATEGORIES:CrossFit Class
END:VEVENT
BEGIN:VEVENT
DTSTART;TZID=UTC:20260714T183000
DTEND;TZID=UTC:20260714T193000
DTSTAMP:20260423T214322
CREATED:20251027T170840Z
LAST-MODIFIED:20251027T170858Z
UID:10009546-1784053800-1784057400@crossfitchaparral.com
SUMMARY:CrossFit Class
DESCRIPTION:
URL:http://crossfitchaparral.com/event/crossfit-class-7/2026-07-14/
CATEGORIES:CrossFit Class
END:VEVENT
BEGIN:VEVENT
DTSTART;TZID=UTC:20260715T053000
DTEND;TZID=UTC:20260715T063000
DTSTAMP:20260423T214322
CREATED:20251027T164919Z
LAST-MODIFIED:20251027T164919Z
UID:10001493-1784093400-1784097000@crossfitchaparral.com
SUMMARY:CrossFit Class
DESCRIPTION:
URL:http://crossfitchaparral.com/event/crossfit-class/2026-07-15/
CATEGORIES:CrossFit Class
END:VEVENT
BEGIN:VEVENT
DTSTART;TZID=UTC:20260715T063000
DTEND;TZID=UTC:20260715T193000
DTSTAMP:20260423T214322
CREATED:20251027T165009Z
LAST-MODIFIED:20251027T165009Z
UID:10002798-1784097000-1784143800@crossfitchaparral.com
SUMMARY:CrossFit Class
DESCRIPTION:
URL:http://crossfitchaparral.com/event/crossfit-class-2/2026-07-15/
CATEGORIES:CrossFit Class
END:VEVENT
BEGIN:VEVENT
DTSTART;TZID=UTC:20260715T163000
DTEND;TZID=UTC:20260715T173000
DTSTAMP:20260423T214322
CREATED:20251027T165935Z
LAST-MODIFIED:20251027T165935Z
UID:10006974-1784133000-1784136600@crossfitchaparral.com
SUMMARY:CrossFit Class
DESCRIPTION:
URL:http://crossfitchaparral.com/event/crossfit-class-5/2026-07-15/
CATEGORIES:CrossFit Class
END:VEVENT
BEGIN:VEVENT
DTSTART;TZID=UTC:20260715T173000
DTEND;TZID=UTC:20260715T183000
DTSTAMP:20260423T214322
CREATED:20251027T170752Z
LAST-MODIFIED:20251027T170752Z
UID:10008279-1784136600-1784140200@crossfitchaparral.com
SUMMARY:CrossFit Class
DESCRIPTION:
URL:http://crossfitchaparral.com/event/crossfit-class-6/2026-07-15/
CATEGORIES:CrossFit Class
END:VEVENT
BEGIN:VEVENT
DTSTART;TZID=UTC:20260715T183000
DTEND;TZID=UTC:20260715T193000
DTSTAMP:20260423T214322
CREATED:20251027T170840Z
LAST-MODIFIED:20251027T170858Z
UID:10009547-1784140200-1784143800@crossfitchaparral.com
SUMMARY:CrossFit Class
DESCRIPTION:
URL:http://crossfitchaparral.com/event/crossfit-class-7/2026-07-15/
CATEGORIES:CrossFit Class
END:VEVENT
BEGIN:VEVENT
DTSTART;TZID=UTC:20260716T053000
DTEND;TZID=UTC:20260716T063000
DTSTAMP:20260423T214322
CREATED:20251027T164919Z
LAST-MODIFIED:20251027T164919Z
UID:10001494-1784179800-1784183400@crossfitchaparral.com
SUMMARY:CrossFit Class
DESCRIPTION:
URL:http://crossfitchaparral.com/event/crossfit-class/2026-07-16/
CATEGORIES:CrossFit Class
END:VEVENT
BEGIN:VEVENT
DTSTART;TZID=UTC:20260716T063000
DTEND;TZID=UTC:20260716T193000
DTSTAMP:20260423T214322
CREATED:20251027T165009Z
LAST-MODIFIED:20251027T165009Z
UID:10002799-1784183400-1784230200@crossfitchaparral.com
SUMMARY:CrossFit Class
DESCRIPTION:
URL:http://crossfitchaparral.com/event/crossfit-class-2/2026-07-16/
CATEGORIES:CrossFit Class
END:VEVENT
BEGIN:VEVENT
DTSTART;TZID=UTC:20260716T163000
DTEND;TZID=UTC:20260716T173000
DTSTAMP:20260423T214322
CREATED:20251027T165935Z
LAST-MODIFIED:20251027T165935Z
UID:10006975-1784219400-1784223000@crossfitchaparral.com
SUMMARY:CrossFit Class
DESCRIPTION:
URL:http://crossfitchaparral.com/event/crossfit-class-5/2026-07-16/
CATEGORIES:CrossFit Class
END:VEVENT
BEGIN:VEVENT
DTSTART;TZID=UTC:20260716T173000
DTEND;TZID=UTC:20260716T183000
DTSTAMP:20260423T214322
CREATED:20251027T170752Z
LAST-MODIFIED:20251027T170752Z
UID:10008280-1784223000-1784226600@crossfitchaparral.com
SUMMARY:CrossFit Class
DESCRIPTION:
URL:http://crossfitchaparral.com/event/crossfit-class-6/2026-07-16/
CATEGORIES:CrossFit Class
END:VEVENT
BEGIN:VEVENT
DTSTART;TZID=UTC:20260716T183000
DTEND;TZID=UTC:20260716T193000
DTSTAMP:20260423T214322
CREATED:20251027T170840Z
LAST-MODIFIED:20251027T170858Z
UID:10009548-1784226600-1784230200@crossfitchaparral.com
SUMMARY:CrossFit Class
DESCRIPTION:
URL:http://crossfitchaparral.com/event/crossfit-class-7/2026-07-16/
CATEGORIES:CrossFit Class
END:VEVENT
BEGIN:VEVENT
DTSTART;TZID=UTC:20260717T053000
DTEND;TZID=UTC:20260717T063000
DTSTAMP:20260423T214322
CREATED:20251027T164919Z
LAST-MODIFIED:20251027T164919Z
UID:10001495-1784266200-1784269800@crossfitchaparral.com
SUMMARY:CrossFit Class
DESCRIPTION:
URL:http://crossfitchaparral.com/event/crossfit-class/2026-07-17/
CATEGORIES:CrossFit Class
END:VEVENT
END:VCALENDAR