BEGIN:VCALENDAR
VERSION:2.0
PRODID:-//CrossFit Chaparral - ECPv6.15.10//NONSGML v1.0//EN
CALSCALE:GREGORIAN
METHOD:PUBLISH
X-ORIGINAL-URL:http://crossfitchaparral.com
X-WR-CALDESC:Events for CrossFit Chaparral
REFRESH-INTERVAL;VALUE=DURATION:PT1H
X-Robots-Tag:noindex
X-PUBLISHED-TTL:PT1H
BEGIN:VTIMEZONE
TZID:UTC
BEGIN:STANDARD
TZOFFSETFROM:+0000
TZOFFSETTO:+0000
TZNAME:UTC
DTSTART:20250101T000000
END:STANDARD
END:VTIMEZONE
BEGIN:VEVENT
DTSTART;TZID=UTC:20260620T080000
DTEND;TZID=UTC:20260620T090000
DTSTAMP:20260422T091249
CREATED:20251027T165352Z
LAST-MODIFIED:20251027T165352Z
UID:10005515-1781942400-1781946000@crossfitchaparral.com
SUMMARY:CrossFit Class
DESCRIPTION:
URL:http://crossfitchaparral.com/event/crossfit-class-4/2026-06-20/
CATEGORIES:CrossFit Class
END:VEVENT
BEGIN:VEVENT
DTSTART;TZID=UTC:20260622T053000
DTEND;TZID=UTC:20260622T063000
DTSTAMP:20260422T091249
CREATED:20251027T164919Z
LAST-MODIFIED:20251027T164919Z
UID:10001476-1782106200-1782109800@crossfitchaparral.com
SUMMARY:CrossFit Class
DESCRIPTION:
URL:http://crossfitchaparral.com/event/crossfit-class/2026-06-22/
CATEGORIES:CrossFit Class
END:VEVENT
BEGIN:VEVENT
DTSTART;TZID=UTC:20260622T063000
DTEND;TZID=UTC:20260622T193000
DTSTAMP:20260422T091249
CREATED:20251027T165009Z
LAST-MODIFIED:20251027T165009Z
UID:10002781-1782109800-1782156600@crossfitchaparral.com
SUMMARY:CrossFit Class
DESCRIPTION:
URL:http://crossfitchaparral.com/event/crossfit-class-2/2026-06-22/
CATEGORIES:CrossFit Class
END:VEVENT
BEGIN:VEVENT
DTSTART;TZID=UTC:20260622T163000
DTEND;TZID=UTC:20260622T173000
DTSTAMP:20260422T091249
CREATED:20251027T165935Z
LAST-MODIFIED:20251027T165935Z
UID:10006957-1782145800-1782149400@crossfitchaparral.com
SUMMARY:CrossFit Class
DESCRIPTION:
URL:http://crossfitchaparral.com/event/crossfit-class-5/2026-06-22/
CATEGORIES:CrossFit Class
END:VEVENT
BEGIN:VEVENT
DTSTART;TZID=UTC:20260622T173000
DTEND;TZID=UTC:20260622T183000
DTSTAMP:20260422T091249
CREATED:20251027T170752Z
LAST-MODIFIED:20251027T170752Z
UID:10008262-1782149400-1782153000@crossfitchaparral.com
SUMMARY:CrossFit Class
DESCRIPTION:
URL:http://crossfitchaparral.com/event/crossfit-class-6/2026-06-22/
CATEGORIES:CrossFit Class
END:VEVENT
BEGIN:VEVENT
DTSTART;TZID=UTC:20260622T183000
DTEND;TZID=UTC:20260622T193000
DTSTAMP:20260422T091249
CREATED:20251027T170840Z
LAST-MODIFIED:20251027T170858Z
UID:10009533-1782153000-1782156600@crossfitchaparral.com
SUMMARY:CrossFit Class
DESCRIPTION:
URL:http://crossfitchaparral.com/event/crossfit-class-7/2026-06-22/
CATEGORIES:CrossFit Class
END:VEVENT
BEGIN:VEVENT
DTSTART;TZID=UTC:20260623T053000
DTEND;TZID=UTC:20260623T063000
DTSTAMP:20260422T091249
CREATED:20251027T164919Z
LAST-MODIFIED:20251027T164919Z
UID:10001477-1782192600-1782196200@crossfitchaparral.com
SUMMARY:CrossFit Class
DESCRIPTION:
URL:http://crossfitchaparral.com/event/crossfit-class/2026-06-23/
CATEGORIES:CrossFit Class
END:VEVENT
BEGIN:VEVENT
DTSTART;TZID=UTC:20260623T063000
DTEND;TZID=UTC:20260623T193000
DTSTAMP:20260422T091249
CREATED:20251027T165009Z
LAST-MODIFIED:20251027T165009Z
UID:10002782-1782196200-1782243000@crossfitchaparral.com
SUMMARY:CrossFit Class
DESCRIPTION:
URL:http://crossfitchaparral.com/event/crossfit-class-2/2026-06-23/
CATEGORIES:CrossFit Class
END:VEVENT
BEGIN:VEVENT
DTSTART;TZID=UTC:20260623T163000
DTEND;TZID=UTC:20260623T173000
DTSTAMP:20260422T091249
CREATED:20251027T165935Z
LAST-MODIFIED:20251027T165935Z
UID:10006958-1782232200-1782235800@crossfitchaparral.com
SUMMARY:CrossFit Class
DESCRIPTION:
URL:http://crossfitchaparral.com/event/crossfit-class-5/2026-06-23/
CATEGORIES:CrossFit Class
END:VEVENT
BEGIN:VEVENT
DTSTART;TZID=UTC:20260623T173000
DTEND;TZID=UTC:20260623T183000
DTSTAMP:20260422T091249
CREATED:20251027T170752Z
LAST-MODIFIED:20251027T170752Z
UID:10008263-1782235800-1782239400@crossfitchaparral.com
SUMMARY:CrossFit Class
DESCRIPTION:
URL:http://crossfitchaparral.com/event/crossfit-class-6/2026-06-23/
CATEGORIES:CrossFit Class
END:VEVENT
BEGIN:VEVENT
DTSTART;TZID=UTC:20260623T183000
DTEND;TZID=UTC:20260623T193000
DTSTAMP:20260422T091249
CREATED:20251027T170840Z
LAST-MODIFIED:20251027T170858Z
UID:10009534-1782239400-1782243000@crossfitchaparral.com
SUMMARY:CrossFit Class
DESCRIPTION:
URL:http://crossfitchaparral.com/event/crossfit-class-7/2026-06-23/
CATEGORIES:CrossFit Class
END:VEVENT
BEGIN:VEVENT
DTSTART;TZID=UTC:20260624T053000
DTEND;TZID=UTC:20260624T063000
DTSTAMP:20260422T091249
CREATED:20251027T164919Z
LAST-MODIFIED:20251027T164919Z
UID:10001478-1782279000-1782282600@crossfitchaparral.com
SUMMARY:CrossFit Class
DESCRIPTION:
URL:http://crossfitchaparral.com/event/crossfit-class/2026-06-24/
CATEGORIES:CrossFit Class
END:VEVENT
BEGIN:VEVENT
DTSTART;TZID=UTC:20260624T063000
DTEND;TZID=UTC:20260624T193000
DTSTAMP:20260422T091249
CREATED:20251027T165009Z
LAST-MODIFIED:20251027T165009Z
UID:10002783-1782282600-1782329400@crossfitchaparral.com
SUMMARY:CrossFit Class
DESCRIPTION:
URL:http://crossfitchaparral.com/event/crossfit-class-2/2026-06-24/
CATEGORIES:CrossFit Class
END:VEVENT
BEGIN:VEVENT
DTSTART;TZID=UTC:20260624T163000
DTEND;TZID=UTC:20260624T173000
DTSTAMP:20260422T091249
CREATED:20251027T165935Z
LAST-MODIFIED:20251027T165935Z
UID:10006959-1782318600-1782322200@crossfitchaparral.com
SUMMARY:CrossFit Class
DESCRIPTION:
URL:http://crossfitchaparral.com/event/crossfit-class-5/2026-06-24/
CATEGORIES:CrossFit Class
END:VEVENT
BEGIN:VEVENT
DTSTART;TZID=UTC:20260624T173000
DTEND;TZID=UTC:20260624T183000
DTSTAMP:20260422T091249
CREATED:20251027T170752Z
LAST-MODIFIED:20251027T170752Z
UID:10008264-1782322200-1782325800@crossfitchaparral.com
SUMMARY:CrossFit Class
DESCRIPTION:
URL:http://crossfitchaparral.com/event/crossfit-class-6/2026-06-24/
CATEGORIES:CrossFit Class
END:VEVENT
BEGIN:VEVENT
DTSTART;TZID=UTC:20260624T183000
DTEND;TZID=UTC:20260624T193000
DTSTAMP:20260422T091249
CREATED:20251027T170840Z
LAST-MODIFIED:20251027T170858Z
UID:10009535-1782325800-1782329400@crossfitchaparral.com
SUMMARY:CrossFit Class
DESCRIPTION:
URL:http://crossfitchaparral.com/event/crossfit-class-7/2026-06-24/
CATEGORIES:CrossFit Class
END:VEVENT
BEGIN:VEVENT
DTSTART;TZID=UTC:20260625T053000
DTEND;TZID=UTC:20260625T063000
DTSTAMP:20260422T091249
CREATED:20251027T164919Z
LAST-MODIFIED:20251027T164919Z
UID:10001479-1782365400-1782369000@crossfitchaparral.com
SUMMARY:CrossFit Class
DESCRIPTION:
URL:http://crossfitchaparral.com/event/crossfit-class/2026-06-25/
CATEGORIES:CrossFit Class
END:VEVENT
BEGIN:VEVENT
DTSTART;TZID=UTC:20260625T063000
DTEND;TZID=UTC:20260625T193000
DTSTAMP:20260422T091249
CREATED:20251027T165009Z
LAST-MODIFIED:20251027T165009Z
UID:10002784-1782369000-1782415800@crossfitchaparral.com
SUMMARY:CrossFit Class
DESCRIPTION:
URL:http://crossfitchaparral.com/event/crossfit-class-2/2026-06-25/
CATEGORIES:CrossFit Class
END:VEVENT
BEGIN:VEVENT
DTSTART;TZID=UTC:20260625T163000
DTEND;TZID=UTC:20260625T173000
DTSTAMP:20260422T091249
CREATED:20251027T165935Z
LAST-MODIFIED:20251027T165935Z
UID:10006960-1782405000-1782408600@crossfitchaparral.com
SUMMARY:CrossFit Class
DESCRIPTION:
URL:http://crossfitchaparral.com/event/crossfit-class-5/2026-06-25/
CATEGORIES:CrossFit Class
END:VEVENT
BEGIN:VEVENT
DTSTART;TZID=UTC:20260625T173000
DTEND;TZID=UTC:20260625T183000
DTSTAMP:20260422T091249
CREATED:20251027T170752Z
LAST-MODIFIED:20251027T170752Z
UID:10008265-1782408600-1782412200@crossfitchaparral.com
SUMMARY:CrossFit Class
DESCRIPTION:
URL:http://crossfitchaparral.com/event/crossfit-class-6/2026-06-25/
CATEGORIES:CrossFit Class
END:VEVENT
BEGIN:VEVENT
DTSTART;TZID=UTC:20260625T183000
DTEND;TZID=UTC:20260625T193000
DTSTAMP:20260422T091249
CREATED:20251027T170840Z
LAST-MODIFIED:20251027T170858Z
UID:10009536-1782412200-1782415800@crossfitchaparral.com
SUMMARY:CrossFit Class
DESCRIPTION:
URL:http://crossfitchaparral.com/event/crossfit-class-7/2026-06-25/
CATEGORIES:CrossFit Class
END:VEVENT
BEGIN:VEVENT
DTSTART;TZID=UTC:20260626T053000
DTEND;TZID=UTC:20260626T063000
DTSTAMP:20260422T091249
CREATED:20251027T164919Z
LAST-MODIFIED:20251027T164919Z
UID:10001480-1782451800-1782455400@crossfitchaparral.com
SUMMARY:CrossFit Class
DESCRIPTION:
URL:http://crossfitchaparral.com/event/crossfit-class/2026-06-26/
CATEGORIES:CrossFit Class
END:VEVENT
BEGIN:VEVENT
DTSTART;TZID=UTC:20260626T063000
DTEND;TZID=UTC:20260626T193000
DTSTAMP:20260422T091249
CREATED:20251027T165009Z
LAST-MODIFIED:20251027T165009Z
UID:10002785-1782455400-1782502200@crossfitchaparral.com
SUMMARY:CrossFit Class
DESCRIPTION:
URL:http://crossfitchaparral.com/event/crossfit-class-2/2026-06-26/
CATEGORIES:CrossFit Class
END:VEVENT
BEGIN:VEVENT
DTSTART;TZID=UTC:20260626T083000
DTEND;TZID=UTC:20260626T093000
DTSTAMP:20260422T091249
CREATED:20251027T165257Z
LAST-MODIFIED:20251027T165257Z
UID:10005255-1782462600-1782466200@crossfitchaparral.com
SUMMARY:CrossFit Class
DESCRIPTION:
URL:http://crossfitchaparral.com/event/crossfit-class-3/2026-06-26/
CATEGORIES:CrossFit Class
END:VEVENT
BEGIN:VEVENT
DTSTART;TZID=UTC:20260626T163000
DTEND;TZID=UTC:20260626T173000
DTSTAMP:20260422T091249
CREATED:20251027T165935Z
LAST-MODIFIED:20251027T165935Z
UID:10006961-1782491400-1782495000@crossfitchaparral.com
SUMMARY:CrossFit Class
DESCRIPTION:
URL:http://crossfitchaparral.com/event/crossfit-class-5/2026-06-26/
CATEGORIES:CrossFit Class
END:VEVENT
BEGIN:VEVENT
DTSTART;TZID=UTC:20260626T173000
DTEND;TZID=UTC:20260626T183000
DTSTAMP:20260422T091249
CREATED:20251027T170752Z
LAST-MODIFIED:20251027T170752Z
UID:10008266-1782495000-1782498600@crossfitchaparral.com
SUMMARY:CrossFit Class
DESCRIPTION:
URL:http://crossfitchaparral.com/event/crossfit-class-6/2026-06-26/
CATEGORIES:CrossFit Class
END:VEVENT
BEGIN:VEVENT
DTSTART;TZID=UTC:20260627T080000
DTEND;TZID=UTC:20260627T090000
DTSTAMP:20260422T091249
CREATED:20251027T165352Z
LAST-MODIFIED:20251027T165352Z
UID:10005516-1782547200-1782550800@crossfitchaparral.com
SUMMARY:CrossFit Class
DESCRIPTION:
URL:http://crossfitchaparral.com/event/crossfit-class-4/2026-06-27/
CATEGORIES:CrossFit Class
END:VEVENT
BEGIN:VEVENT
DTSTART;TZID=UTC:20260629T053000
DTEND;TZID=UTC:20260629T063000
DTSTAMP:20260422T091249
CREATED:20251027T164919Z
LAST-MODIFIED:20251027T164919Z
UID:10001481-1782711000-1782714600@crossfitchaparral.com
SUMMARY:CrossFit Class
DESCRIPTION:
URL:http://crossfitchaparral.com/event/crossfit-class/2026-06-29/
CATEGORIES:CrossFit Class
END:VEVENT
BEGIN:VEVENT
DTSTART;TZID=UTC:20260629T063000
DTEND;TZID=UTC:20260629T193000
DTSTAMP:20260422T091249
CREATED:20251027T165009Z
LAST-MODIFIED:20251027T165009Z
UID:10002786-1782714600-1782761400@crossfitchaparral.com
SUMMARY:CrossFit Class
DESCRIPTION:
URL:http://crossfitchaparral.com/event/crossfit-class-2/2026-06-29/
CATEGORIES:CrossFit Class
END:VEVENT
BEGIN:VEVENT
DTSTART;TZID=UTC:20260629T163000
DTEND;TZID=UTC:20260629T173000
DTSTAMP:20260422T091249
CREATED:20251027T165935Z
LAST-MODIFIED:20251027T165935Z
UID:10006962-1782750600-1782754200@crossfitchaparral.com
SUMMARY:CrossFit Class
DESCRIPTION:
URL:http://crossfitchaparral.com/event/crossfit-class-5/2026-06-29/
CATEGORIES:CrossFit Class
END:VEVENT
END:VCALENDAR