BEGIN:VCALENDAR
VERSION:2.0
PRODID:-//CrossFit Chaparral - ECPv6.15.10//NONSGML v1.0//EN
CALSCALE:GREGORIAN
METHOD:PUBLISH
X-WR-CALNAME:CrossFit Chaparral
X-ORIGINAL-URL:http://crossfitchaparral.com
X-WR-CALDESC:Events for CrossFit Chaparral
REFRESH-INTERVAL;VALUE=DURATION:PT1H
X-Robots-Tag:noindex
X-PUBLISHED-TTL:PT1H
BEGIN:VTIMEZONE
TZID:UTC
BEGIN:STANDARD
TZOFFSETFROM:+0000
TZOFFSETTO:+0000
TZNAME:UTC
DTSTART:20250101T000000
END:STANDARD
END:VTIMEZONE
BEGIN:VEVENT
DTSTART;TZID=UTC:20260604T063000
DTEND;TZID=UTC:20260604T193000
DTSTAMP:20260423T024529
CREATED:20251027T165009Z
LAST-MODIFIED:20251027T165009Z
UID:10002769-1780554600-1780601400@crossfitchaparral.com
SUMMARY:CrossFit Class
DESCRIPTION:
URL:http://crossfitchaparral.com/event/crossfit-class-2/2026-06-04/
CATEGORIES:CrossFit Class
END:VEVENT
BEGIN:VEVENT
DTSTART;TZID=UTC:20260604T163000
DTEND;TZID=UTC:20260604T173000
DTSTAMP:20260423T024529
CREATED:20251027T165935Z
LAST-MODIFIED:20251027T165935Z
UID:10006945-1780590600-1780594200@crossfitchaparral.com
SUMMARY:CrossFit Class
DESCRIPTION:
URL:http://crossfitchaparral.com/event/crossfit-class-5/2026-06-04/
CATEGORIES:CrossFit Class
END:VEVENT
BEGIN:VEVENT
DTSTART;TZID=UTC:20260604T173000
DTEND;TZID=UTC:20260604T183000
DTSTAMP:20260423T024529
CREATED:20251027T170752Z
LAST-MODIFIED:20251027T170752Z
UID:10008250-1780594200-1780597800@crossfitchaparral.com
SUMMARY:CrossFit Class
DESCRIPTION:
URL:http://crossfitchaparral.com/event/crossfit-class-6/2026-06-04/
CATEGORIES:CrossFit Class
END:VEVENT
BEGIN:VEVENT
DTSTART;TZID=UTC:20260604T183000
DTEND;TZID=UTC:20260604T193000
DTSTAMP:20260423T024529
CREATED:20251027T170840Z
LAST-MODIFIED:20251027T170858Z
UID:10009524-1780597800-1780601400@crossfitchaparral.com
SUMMARY:CrossFit Class
DESCRIPTION:
URL:http://crossfitchaparral.com/event/crossfit-class-7/2026-06-04/
CATEGORIES:CrossFit Class
END:VEVENT
BEGIN:VEVENT
DTSTART;TZID=UTC:20260605T053000
DTEND;TZID=UTC:20260605T063000
DTSTAMP:20260423T024529
CREATED:20251027T164919Z
LAST-MODIFIED:20251027T164919Z
UID:10001465-1780637400-1780641000@crossfitchaparral.com
SUMMARY:CrossFit Class
DESCRIPTION:
URL:http://crossfitchaparral.com/event/crossfit-class/2026-06-05/
CATEGORIES:CrossFit Class
END:VEVENT
BEGIN:VEVENT
DTSTART;TZID=UTC:20260605T063000
DTEND;TZID=UTC:20260605T193000
DTSTAMP:20260423T024529
CREATED:20251027T165009Z
LAST-MODIFIED:20251027T165009Z
UID:10002770-1780641000-1780687800@crossfitchaparral.com
SUMMARY:CrossFit Class
DESCRIPTION:
URL:http://crossfitchaparral.com/event/crossfit-class-2/2026-06-05/
CATEGORIES:CrossFit Class
END:VEVENT
BEGIN:VEVENT
DTSTART;TZID=UTC:20260605T083000
DTEND;TZID=UTC:20260605T093000
DTSTAMP:20260423T024529
CREATED:20251027T165257Z
LAST-MODIFIED:20251027T165257Z
UID:10005252-1780648200-1780651800@crossfitchaparral.com
SUMMARY:CrossFit Class
DESCRIPTION:
URL:http://crossfitchaparral.com/event/crossfit-class-3/2026-06-05/
CATEGORIES:CrossFit Class
END:VEVENT
BEGIN:VEVENT
DTSTART;TZID=UTC:20260605T163000
DTEND;TZID=UTC:20260605T173000
DTSTAMP:20260423T024529
CREATED:20251027T165935Z
LAST-MODIFIED:20251027T165935Z
UID:10006946-1780677000-1780680600@crossfitchaparral.com
SUMMARY:CrossFit Class
DESCRIPTION:
URL:http://crossfitchaparral.com/event/crossfit-class-5/2026-06-05/
CATEGORIES:CrossFit Class
END:VEVENT
BEGIN:VEVENT
DTSTART;TZID=UTC:20260605T173000
DTEND;TZID=UTC:20260605T183000
DTSTAMP:20260423T024529
CREATED:20251027T170752Z
LAST-MODIFIED:20251027T170752Z
UID:10008251-1780680600-1780684200@crossfitchaparral.com
SUMMARY:CrossFit Class
DESCRIPTION:
URL:http://crossfitchaparral.com/event/crossfit-class-6/2026-06-05/
CATEGORIES:CrossFit Class
END:VEVENT
BEGIN:VEVENT
DTSTART;TZID=UTC:20260606T080000
DTEND;TZID=UTC:20260606T090000
DTSTAMP:20260423T024529
CREATED:20251027T165352Z
LAST-MODIFIED:20251027T165352Z
UID:10005513-1780732800-1780736400@crossfitchaparral.com
SUMMARY:CrossFit Class
DESCRIPTION:
URL:http://crossfitchaparral.com/event/crossfit-class-4/2026-06-06/
CATEGORIES:CrossFit Class
END:VEVENT
BEGIN:VEVENT
DTSTART;TZID=UTC:20260608T053000
DTEND;TZID=UTC:20260608T063000
DTSTAMP:20260423T024529
CREATED:20251027T164919Z
LAST-MODIFIED:20251027T164919Z
UID:10001466-1780896600-1780900200@crossfitchaparral.com
SUMMARY:CrossFit Class
DESCRIPTION:
URL:http://crossfitchaparral.com/event/crossfit-class/2026-06-08/
CATEGORIES:CrossFit Class
END:VEVENT
BEGIN:VEVENT
DTSTART;TZID=UTC:20260608T063000
DTEND;TZID=UTC:20260608T193000
DTSTAMP:20260423T024529
CREATED:20251027T165009Z
LAST-MODIFIED:20251027T165009Z
UID:10002771-1780900200-1780947000@crossfitchaparral.com
SUMMARY:CrossFit Class
DESCRIPTION:
URL:http://crossfitchaparral.com/event/crossfit-class-2/2026-06-08/
CATEGORIES:CrossFit Class
END:VEVENT
BEGIN:VEVENT
DTSTART;TZID=UTC:20260608T163000
DTEND;TZID=UTC:20260608T173000
DTSTAMP:20260423T024529
CREATED:20251027T165935Z
LAST-MODIFIED:20251027T165935Z
UID:10006947-1780936200-1780939800@crossfitchaparral.com
SUMMARY:CrossFit Class
DESCRIPTION:
URL:http://crossfitchaparral.com/event/crossfit-class-5/2026-06-08/
CATEGORIES:CrossFit Class
END:VEVENT
BEGIN:VEVENT
DTSTART;TZID=UTC:20260608T173000
DTEND;TZID=UTC:20260608T183000
DTSTAMP:20260423T024529
CREATED:20251027T170752Z
LAST-MODIFIED:20251027T170752Z
UID:10008252-1780939800-1780943400@crossfitchaparral.com
SUMMARY:CrossFit Class
DESCRIPTION:
URL:http://crossfitchaparral.com/event/crossfit-class-6/2026-06-08/
CATEGORIES:CrossFit Class
END:VEVENT
BEGIN:VEVENT
DTSTART;TZID=UTC:20260608T183000
DTEND;TZID=UTC:20260608T193000
DTSTAMP:20260423T024529
CREATED:20251027T170840Z
LAST-MODIFIED:20251027T170858Z
UID:10009525-1780943400-1780947000@crossfitchaparral.com
SUMMARY:CrossFit Class
DESCRIPTION:
URL:http://crossfitchaparral.com/event/crossfit-class-7/2026-06-08/
CATEGORIES:CrossFit Class
END:VEVENT
BEGIN:VEVENT
DTSTART;TZID=UTC:20260609T053000
DTEND;TZID=UTC:20260609T063000
DTSTAMP:20260423T024529
CREATED:20251027T164919Z
LAST-MODIFIED:20251027T164919Z
UID:10001467-1780983000-1780986600@crossfitchaparral.com
SUMMARY:CrossFit Class
DESCRIPTION:
URL:http://crossfitchaparral.com/event/crossfit-class/2026-06-09/
CATEGORIES:CrossFit Class
END:VEVENT
BEGIN:VEVENT
DTSTART;TZID=UTC:20260609T063000
DTEND;TZID=UTC:20260609T193000
DTSTAMP:20260423T024529
CREATED:20251027T165009Z
LAST-MODIFIED:20251027T165009Z
UID:10002772-1780986600-1781033400@crossfitchaparral.com
SUMMARY:CrossFit Class
DESCRIPTION:
URL:http://crossfitchaparral.com/event/crossfit-class-2/2026-06-09/
CATEGORIES:CrossFit Class
END:VEVENT
BEGIN:VEVENT
DTSTART;TZID=UTC:20260609T163000
DTEND;TZID=UTC:20260609T173000
DTSTAMP:20260423T024529
CREATED:20251027T165935Z
LAST-MODIFIED:20251027T165935Z
UID:10006948-1781022600-1781026200@crossfitchaparral.com
SUMMARY:CrossFit Class
DESCRIPTION:
URL:http://crossfitchaparral.com/event/crossfit-class-5/2026-06-09/
CATEGORIES:CrossFit Class
END:VEVENT
BEGIN:VEVENT
DTSTART;TZID=UTC:20260609T173000
DTEND;TZID=UTC:20260609T183000
DTSTAMP:20260423T024529
CREATED:20251027T170752Z
LAST-MODIFIED:20251027T170752Z
UID:10008253-1781026200-1781029800@crossfitchaparral.com
SUMMARY:CrossFit Class
DESCRIPTION:
URL:http://crossfitchaparral.com/event/crossfit-class-6/2026-06-09/
CATEGORIES:CrossFit Class
END:VEVENT
BEGIN:VEVENT
DTSTART;TZID=UTC:20260609T183000
DTEND;TZID=UTC:20260609T193000
DTSTAMP:20260423T024529
CREATED:20251027T170840Z
LAST-MODIFIED:20251027T170858Z
UID:10009526-1781029800-1781033400@crossfitchaparral.com
SUMMARY:CrossFit Class
DESCRIPTION:
URL:http://crossfitchaparral.com/event/crossfit-class-7/2026-06-09/
CATEGORIES:CrossFit Class
END:VEVENT
BEGIN:VEVENT
DTSTART;TZID=UTC:20260610T053000
DTEND;TZID=UTC:20260610T063000
DTSTAMP:20260423T024529
CREATED:20251027T164919Z
LAST-MODIFIED:20251027T164919Z
UID:10001468-1781069400-1781073000@crossfitchaparral.com
SUMMARY:CrossFit Class
DESCRIPTION:
URL:http://crossfitchaparral.com/event/crossfit-class/2026-06-10/
CATEGORIES:CrossFit Class
END:VEVENT
BEGIN:VEVENT
DTSTART;TZID=UTC:20260610T063000
DTEND;TZID=UTC:20260610T193000
DTSTAMP:20260423T024529
CREATED:20251027T165009Z
LAST-MODIFIED:20251027T165009Z
UID:10002773-1781073000-1781119800@crossfitchaparral.com
SUMMARY:CrossFit Class
DESCRIPTION:
URL:http://crossfitchaparral.com/event/crossfit-class-2/2026-06-10/
CATEGORIES:CrossFit Class
END:VEVENT
BEGIN:VEVENT
DTSTART;TZID=UTC:20260610T163000
DTEND;TZID=UTC:20260610T173000
DTSTAMP:20260423T024529
CREATED:20251027T165935Z
LAST-MODIFIED:20251027T165935Z
UID:10006949-1781109000-1781112600@crossfitchaparral.com
SUMMARY:CrossFit Class
DESCRIPTION:
URL:http://crossfitchaparral.com/event/crossfit-class-5/2026-06-10/
CATEGORIES:CrossFit Class
END:VEVENT
BEGIN:VEVENT
DTSTART;TZID=UTC:20260610T173000
DTEND;TZID=UTC:20260610T183000
DTSTAMP:20260423T024529
CREATED:20251027T170752Z
LAST-MODIFIED:20251027T170752Z
UID:10008254-1781112600-1781116200@crossfitchaparral.com
SUMMARY:CrossFit Class
DESCRIPTION:
URL:http://crossfitchaparral.com/event/crossfit-class-6/2026-06-10/
CATEGORIES:CrossFit Class
END:VEVENT
BEGIN:VEVENT
DTSTART;TZID=UTC:20260610T183000
DTEND;TZID=UTC:20260610T193000
DTSTAMP:20260423T024529
CREATED:20251027T170840Z
LAST-MODIFIED:20251027T170858Z
UID:10009527-1781116200-1781119800@crossfitchaparral.com
SUMMARY:CrossFit Class
DESCRIPTION:
URL:http://crossfitchaparral.com/event/crossfit-class-7/2026-06-10/
CATEGORIES:CrossFit Class
END:VEVENT
BEGIN:VEVENT
DTSTART;TZID=UTC:20260611T053000
DTEND;TZID=UTC:20260611T063000
DTSTAMP:20260423T024529
CREATED:20251027T164919Z
LAST-MODIFIED:20251027T164919Z
UID:10001469-1781155800-1781159400@crossfitchaparral.com
SUMMARY:CrossFit Class
DESCRIPTION:
URL:http://crossfitchaparral.com/event/crossfit-class/2026-06-11/
CATEGORIES:CrossFit Class
END:VEVENT
BEGIN:VEVENT
DTSTART;TZID=UTC:20260611T063000
DTEND;TZID=UTC:20260611T193000
DTSTAMP:20260423T024529
CREATED:20251027T165009Z
LAST-MODIFIED:20251027T165009Z
UID:10002774-1781159400-1781206200@crossfitchaparral.com
SUMMARY:CrossFit Class
DESCRIPTION:
URL:http://crossfitchaparral.com/event/crossfit-class-2/2026-06-11/
CATEGORIES:CrossFit Class
END:VEVENT
BEGIN:VEVENT
DTSTART;TZID=UTC:20260611T163000
DTEND;TZID=UTC:20260611T173000
DTSTAMP:20260423T024529
CREATED:20251027T165935Z
LAST-MODIFIED:20251027T165935Z
UID:10006950-1781195400-1781199000@crossfitchaparral.com
SUMMARY:CrossFit Class
DESCRIPTION:
URL:http://crossfitchaparral.com/event/crossfit-class-5/2026-06-11/
CATEGORIES:CrossFit Class
END:VEVENT
BEGIN:VEVENT
DTSTART;TZID=UTC:20260611T173000
DTEND;TZID=UTC:20260611T183000
DTSTAMP:20260423T024529
CREATED:20251027T170752Z
LAST-MODIFIED:20251027T170752Z
UID:10008255-1781199000-1781202600@crossfitchaparral.com
SUMMARY:CrossFit Class
DESCRIPTION:
URL:http://crossfitchaparral.com/event/crossfit-class-6/2026-06-11/
CATEGORIES:CrossFit Class
END:VEVENT
BEGIN:VEVENT
DTSTART;TZID=UTC:20260611T183000
DTEND;TZID=UTC:20260611T193000
DTSTAMP:20260423T024529
CREATED:20251027T170840Z
LAST-MODIFIED:20251027T170858Z
UID:10009528-1781202600-1781206200@crossfitchaparral.com
SUMMARY:CrossFit Class
DESCRIPTION:
URL:http://crossfitchaparral.com/event/crossfit-class-7/2026-06-11/
CATEGORIES:CrossFit Class
END:VEVENT
END:VCALENDAR