BEGIN:VCALENDAR
VERSION:2.0
PRODID:-//CrossFit Chaparral - ECPv6.15.10//NONSGML v1.0//EN
CALSCALE:GREGORIAN
METHOD:PUBLISH
X-ORIGINAL-URL:http://crossfitchaparral.com
X-WR-CALDESC:Events for CrossFit Chaparral
REFRESH-INTERVAL;VALUE=DURATION:PT1H
X-Robots-Tag:noindex
X-PUBLISHED-TTL:PT1H
BEGIN:VTIMEZONE
TZID:UTC
BEGIN:STANDARD
TZOFFSETFROM:+0000
TZOFFSETTO:+0000
TZNAME:UTC
DTSTART:20270101T000000
END:STANDARD
END:VTIMEZONE
BEGIN:VEVENT
DTSTART;TZID=UTC:20281105T130000
DTEND;TZID=UTC:20281105T143000
DTSTAMP:20260422T120940
CREATED:20251027T165734Z
LAST-MODIFIED:20251027T165734Z
UID:10006161-1857042000-1857047400@crossfitchaparral.com
SUMMARY:Fit for the Cross
DESCRIPTION:
URL:http://crossfitchaparral.com/event/fit-for-the-cross/2028-11-05/
CATEGORIES:Fit for the Cross
END:VEVENT
BEGIN:VEVENT
DTSTART;TZID=UTC:20281112T130000
DTEND;TZID=UTC:20281112T143000
DTSTAMP:20260422T120940
CREATED:20251027T165734Z
LAST-MODIFIED:20251027T165734Z
UID:10006162-1857646800-1857652200@crossfitchaparral.com
SUMMARY:Fit for the Cross
DESCRIPTION:
URL:http://crossfitchaparral.com/event/fit-for-the-cross/2028-11-12/
CATEGORIES:Fit for the Cross
END:VEVENT
BEGIN:VEVENT
DTSTART;TZID=UTC:20281119T130000
DTEND;TZID=UTC:20281119T143000
DTSTAMP:20260422T120940
CREATED:20251027T165734Z
LAST-MODIFIED:20251027T165734Z
UID:10006163-1858251600-1858257000@crossfitchaparral.com
SUMMARY:Fit for the Cross
DESCRIPTION:
URL:http://crossfitchaparral.com/event/fit-for-the-cross/2028-11-19/
CATEGORIES:Fit for the Cross
END:VEVENT
BEGIN:VEVENT
DTSTART;TZID=UTC:20281126T130000
DTEND;TZID=UTC:20281126T143000
DTSTAMP:20260422T120940
CREATED:20251027T165734Z
LAST-MODIFIED:20251027T165734Z
UID:10006164-1858856400-1858861800@crossfitchaparral.com
SUMMARY:Fit for the Cross
DESCRIPTION:
URL:http://crossfitchaparral.com/event/fit-for-the-cross/2028-11-26/
CATEGORIES:Fit for the Cross
END:VEVENT
BEGIN:VEVENT
DTSTART;TZID=UTC:20281203T130000
DTEND;TZID=UTC:20281203T143000
DTSTAMP:20260422T120940
CREATED:20251027T165734Z
LAST-MODIFIED:20251027T165734Z
UID:10006165-1859461200-1859466600@crossfitchaparral.com
SUMMARY:Fit for the Cross
DESCRIPTION:
URL:http://crossfitchaparral.com/event/fit-for-the-cross/2028-12-03/
CATEGORIES:Fit for the Cross
END:VEVENT
BEGIN:VEVENT
DTSTART;TZID=UTC:20281210T130000
DTEND;TZID=UTC:20281210T143000
DTSTAMP:20260422T120940
CREATED:20251027T165734Z
LAST-MODIFIED:20251027T165734Z
UID:10006166-1860066000-1860071400@crossfitchaparral.com
SUMMARY:Fit for the Cross
DESCRIPTION:
URL:http://crossfitchaparral.com/event/fit-for-the-cross/2028-12-10/
CATEGORIES:Fit for the Cross
END:VEVENT
BEGIN:VEVENT
DTSTART;TZID=UTC:20281217T130000
DTEND;TZID=UTC:20281217T143000
DTSTAMP:20260422T120940
CREATED:20251027T165734Z
LAST-MODIFIED:20251027T165734Z
UID:10006167-1860670800-1860676200@crossfitchaparral.com
SUMMARY:Fit for the Cross
DESCRIPTION:
URL:http://crossfitchaparral.com/event/fit-for-the-cross/2028-12-17/
CATEGORIES:Fit for the Cross
END:VEVENT
BEGIN:VEVENT
DTSTART;TZID=UTC:20281224T130000
DTEND;TZID=UTC:20281224T143000
DTSTAMP:20260422T120940
CREATED:20251027T165734Z
LAST-MODIFIED:20251027T165734Z
UID:10006168-1861275600-1861281000@crossfitchaparral.com
SUMMARY:Fit for the Cross
DESCRIPTION:
URL:http://crossfitchaparral.com/event/fit-for-the-cross/2028-12-24/
CATEGORIES:Fit for the Cross
END:VEVENT
BEGIN:VEVENT
DTSTART;TZID=UTC:20281231T130000
DTEND;TZID=UTC:20281231T143000
DTSTAMP:20260422T120940
CREATED:20251027T165734Z
LAST-MODIFIED:20251027T165734Z
UID:10006169-1861880400-1861885800@crossfitchaparral.com
SUMMARY:Fit for the Cross
DESCRIPTION:
URL:http://crossfitchaparral.com/event/fit-for-the-cross/2028-12-31/
CATEGORIES:Fit for the Cross
END:VEVENT
BEGIN:VEVENT
DTSTART;TZID=UTC:20290107T130000
DTEND;TZID=UTC:20290107T143000
DTSTAMP:20260422T120940
CREATED:20251027T165734Z
LAST-MODIFIED:20251027T165734Z
UID:10006170-1862485200-1862490600@crossfitchaparral.com
SUMMARY:Fit for the Cross
DESCRIPTION:
URL:http://crossfitchaparral.com/event/fit-for-the-cross/2029-01-07/
CATEGORIES:Fit for the Cross
END:VEVENT
BEGIN:VEVENT
DTSTART;TZID=UTC:20290114T130000
DTEND;TZID=UTC:20290114T143000
DTSTAMP:20260422T120940
CREATED:20251027T165734Z
LAST-MODIFIED:20251027T165734Z
UID:10006171-1863090000-1863095400@crossfitchaparral.com
SUMMARY:Fit for the Cross
DESCRIPTION:
URL:http://crossfitchaparral.com/event/fit-for-the-cross/2029-01-14/
CATEGORIES:Fit for the Cross
END:VEVENT
BEGIN:VEVENT
DTSTART;TZID=UTC:20290121T130000
DTEND;TZID=UTC:20290121T143000
DTSTAMP:20260422T120940
CREATED:20251027T165734Z
LAST-MODIFIED:20251027T165734Z
UID:10006172-1863694800-1863700200@crossfitchaparral.com
SUMMARY:Fit for the Cross
DESCRIPTION:
URL:http://crossfitchaparral.com/event/fit-for-the-cross/2029-01-21/
CATEGORIES:Fit for the Cross
END:VEVENT
BEGIN:VEVENT
DTSTART;TZID=UTC:20290128T130000
DTEND;TZID=UTC:20290128T143000
DTSTAMP:20260422T120940
CREATED:20251027T165734Z
LAST-MODIFIED:20251027T165734Z
UID:10006173-1864299600-1864305000@crossfitchaparral.com
SUMMARY:Fit for the Cross
DESCRIPTION:
URL:http://crossfitchaparral.com/event/fit-for-the-cross/2029-01-28/
CATEGORIES:Fit for the Cross
END:VEVENT
BEGIN:VEVENT
DTSTART;TZID=UTC:20290204T130000
DTEND;TZID=UTC:20290204T143000
DTSTAMP:20260422T120940
CREATED:20251027T165734Z
LAST-MODIFIED:20251027T165734Z
UID:10006174-1864904400-1864909800@crossfitchaparral.com
SUMMARY:Fit for the Cross
DESCRIPTION:
URL:http://crossfitchaparral.com/event/fit-for-the-cross/2029-02-04/
CATEGORIES:Fit for the Cross
END:VEVENT
BEGIN:VEVENT
DTSTART;TZID=UTC:20290211T130000
DTEND;TZID=UTC:20290211T143000
DTSTAMP:20260422T120940
CREATED:20251027T165734Z
LAST-MODIFIED:20251027T165734Z
UID:10006175-1865509200-1865514600@crossfitchaparral.com
SUMMARY:Fit for the Cross
DESCRIPTION:
URL:http://crossfitchaparral.com/event/fit-for-the-cross/2029-02-11/
CATEGORIES:Fit for the Cross
END:VEVENT
BEGIN:VEVENT
DTSTART;TZID=UTC:20290218T130000
DTEND;TZID=UTC:20290218T143000
DTSTAMP:20260422T120940
CREATED:20251027T165734Z
LAST-MODIFIED:20251027T165734Z
UID:10006176-1866114000-1866119400@crossfitchaparral.com
SUMMARY:Fit for the Cross
DESCRIPTION:
URL:http://crossfitchaparral.com/event/fit-for-the-cross/2029-02-18/
CATEGORIES:Fit for the Cross
END:VEVENT
BEGIN:VEVENT
DTSTART;TZID=UTC:20290225T130000
DTEND;TZID=UTC:20290225T143000
DTSTAMP:20260422T120940
CREATED:20251027T165734Z
LAST-MODIFIED:20251027T165734Z
UID:10006177-1866718800-1866724200@crossfitchaparral.com
SUMMARY:Fit for the Cross
DESCRIPTION:
URL:http://crossfitchaparral.com/event/fit-for-the-cross/2029-02-25/
CATEGORIES:Fit for the Cross
END:VEVENT
BEGIN:VEVENT
DTSTART;TZID=UTC:20290304T130000
DTEND;TZID=UTC:20290304T143000
DTSTAMP:20260422T120940
CREATED:20251027T165734Z
LAST-MODIFIED:20251027T165734Z
UID:10006178-1867323600-1867329000@crossfitchaparral.com
SUMMARY:Fit for the Cross
DESCRIPTION:
URL:http://crossfitchaparral.com/event/fit-for-the-cross/2029-03-04/
CATEGORIES:Fit for the Cross
END:VEVENT
BEGIN:VEVENT
DTSTART;TZID=UTC:20290311T130000
DTEND;TZID=UTC:20290311T143000
DTSTAMP:20260422T120940
CREATED:20251027T165734Z
LAST-MODIFIED:20251027T165734Z
UID:10006179-1867928400-1867933800@crossfitchaparral.com
SUMMARY:Fit for the Cross
DESCRIPTION:
URL:http://crossfitchaparral.com/event/fit-for-the-cross/2029-03-11/
CATEGORIES:Fit for the Cross
END:VEVENT
BEGIN:VEVENT
DTSTART;TZID=UTC:20290318T130000
DTEND;TZID=UTC:20290318T143000
DTSTAMP:20260422T120940
CREATED:20251027T165734Z
LAST-MODIFIED:20251027T165734Z
UID:10006180-1868533200-1868538600@crossfitchaparral.com
SUMMARY:Fit for the Cross
DESCRIPTION:
URL:http://crossfitchaparral.com/event/fit-for-the-cross/2029-03-18/
CATEGORIES:Fit for the Cross
END:VEVENT
BEGIN:VEVENT
DTSTART;TZID=UTC:20290325T130000
DTEND;TZID=UTC:20290325T143000
DTSTAMP:20260422T120940
CREATED:20251027T165734Z
LAST-MODIFIED:20251027T165734Z
UID:10006181-1869138000-1869143400@crossfitchaparral.com
SUMMARY:Fit for the Cross
DESCRIPTION:
URL:http://crossfitchaparral.com/event/fit-for-the-cross/2029-03-25/
CATEGORIES:Fit for the Cross
END:VEVENT
BEGIN:VEVENT
DTSTART;TZID=UTC:20290401T130000
DTEND;TZID=UTC:20290401T143000
DTSTAMP:20260422T120940
CREATED:20251027T165734Z
LAST-MODIFIED:20251027T165734Z
UID:10006182-1869742800-1869748200@crossfitchaparral.com
SUMMARY:Fit for the Cross
DESCRIPTION:
URL:http://crossfitchaparral.com/event/fit-for-the-cross/2029-04-01/
CATEGORIES:Fit for the Cross
END:VEVENT
BEGIN:VEVENT
DTSTART;TZID=UTC:20290408T130000
DTEND;TZID=UTC:20290408T143000
DTSTAMP:20260422T120940
CREATED:20251027T165734Z
LAST-MODIFIED:20251027T165734Z
UID:10006183-1870347600-1870353000@crossfitchaparral.com
SUMMARY:Fit for the Cross
DESCRIPTION:
URL:http://crossfitchaparral.com/event/fit-for-the-cross/2029-04-08/
CATEGORIES:Fit for the Cross
END:VEVENT
BEGIN:VEVENT
DTSTART;TZID=UTC:20290415T130000
DTEND;TZID=UTC:20290415T143000
DTSTAMP:20260422T120940
CREATED:20251027T165734Z
LAST-MODIFIED:20251027T165734Z
UID:10006184-1870952400-1870957800@crossfitchaparral.com
SUMMARY:Fit for the Cross
DESCRIPTION:
URL:http://crossfitchaparral.com/event/fit-for-the-cross/2029-04-15/
CATEGORIES:Fit for the Cross
END:VEVENT
BEGIN:VEVENT
DTSTART;TZID=UTC:20290422T130000
DTEND;TZID=UTC:20290422T143000
DTSTAMP:20260422T120940
CREATED:20251027T165734Z
LAST-MODIFIED:20251027T165734Z
UID:10006185-1871557200-1871562600@crossfitchaparral.com
SUMMARY:Fit for the Cross
DESCRIPTION:
URL:http://crossfitchaparral.com/event/fit-for-the-cross/2029-04-22/
CATEGORIES:Fit for the Cross
END:VEVENT
BEGIN:VEVENT
DTSTART;TZID=UTC:20290429T130000
DTEND;TZID=UTC:20290429T143000
DTSTAMP:20260422T120940
CREATED:20251027T165734Z
LAST-MODIFIED:20251027T165734Z
UID:10006186-1872162000-1872167400@crossfitchaparral.com
SUMMARY:Fit for the Cross
DESCRIPTION:
URL:http://crossfitchaparral.com/event/fit-for-the-cross/2029-04-29/
CATEGORIES:Fit for the Cross
END:VEVENT
BEGIN:VEVENT
DTSTART;TZID=UTC:20290506T130000
DTEND;TZID=UTC:20290506T143000
DTSTAMP:20260422T120940
CREATED:20251027T165734Z
LAST-MODIFIED:20251027T165734Z
UID:10006187-1872766800-1872772200@crossfitchaparral.com
SUMMARY:Fit for the Cross
DESCRIPTION:
URL:http://crossfitchaparral.com/event/fit-for-the-cross/2029-05-06/
CATEGORIES:Fit for the Cross
END:VEVENT
BEGIN:VEVENT
DTSTART;TZID=UTC:20290513T130000
DTEND;TZID=UTC:20290513T143000
DTSTAMP:20260422T120940
CREATED:20251027T165734Z
LAST-MODIFIED:20251027T165734Z
UID:10006188-1873371600-1873377000@crossfitchaparral.com
SUMMARY:Fit for the Cross
DESCRIPTION:
URL:http://crossfitchaparral.com/event/fit-for-the-cross/2029-05-13/
CATEGORIES:Fit for the Cross
END:VEVENT
BEGIN:VEVENT
DTSTART;TZID=UTC:20290520T130000
DTEND;TZID=UTC:20290520T143000
DTSTAMP:20260422T120940
CREATED:20251027T165734Z
LAST-MODIFIED:20251027T165734Z
UID:10006189-1873976400-1873981800@crossfitchaparral.com
SUMMARY:Fit for the Cross
DESCRIPTION:
URL:http://crossfitchaparral.com/event/fit-for-the-cross/2029-05-20/
CATEGORIES:Fit for the Cross
END:VEVENT
BEGIN:VEVENT
DTSTART;TZID=UTC:20290527T130000
DTEND;TZID=UTC:20290527T143000
DTSTAMP:20260422T120940
CREATED:20251027T165734Z
LAST-MODIFIED:20251027T165734Z
UID:10006190-1874581200-1874586600@crossfitchaparral.com
SUMMARY:Fit for the Cross
DESCRIPTION:
URL:http://crossfitchaparral.com/event/fit-for-the-cross/2029-05-27/
CATEGORIES:Fit for the Cross
END:VEVENT
END:VCALENDAR