BEGIN:VCALENDAR
VERSION:2.0
PRODID:-//CrossFit Chaparral - ECPv6.15.10//NONSGML v1.0//EN
CALSCALE:GREGORIAN
METHOD:PUBLISH
X-WR-CALNAME:CrossFit Chaparral
X-ORIGINAL-URL:http://crossfitchaparral.com
X-WR-CALDESC:Events for CrossFit Chaparral
REFRESH-INTERVAL;VALUE=DURATION:PT1H
X-Robots-Tag:noindex
X-PUBLISHED-TTL:PT1H
BEGIN:VTIMEZONE
TZID:UTC
BEGIN:STANDARD
TZOFFSETFROM:+0000
TZOFFSETTO:+0000
TZNAME:UTC
DTSTART:20260101T000000
END:STANDARD
END:VTIMEZONE
BEGIN:VEVENT
DTSTART;TZID=UTC:20270328T130000
DTEND;TZID=UTC:20270328T143000
DTSTAMP:20260422T133859
CREATED:20251027T165734Z
LAST-MODIFIED:20251027T165734Z
UID:10006077-1806238800-1806244200@crossfitchaparral.com
SUMMARY:Fit for the Cross
DESCRIPTION:
URL:http://crossfitchaparral.com/event/fit-for-the-cross/2027-03-28/
CATEGORIES:Fit for the Cross
END:VEVENT
BEGIN:VEVENT
DTSTART;TZID=UTC:20270404T130000
DTEND;TZID=UTC:20270404T143000
DTSTAMP:20260422T133859
CREATED:20251027T165734Z
LAST-MODIFIED:20251027T165734Z
UID:10006078-1806843600-1806849000@crossfitchaparral.com
SUMMARY:Fit for the Cross
DESCRIPTION:
URL:http://crossfitchaparral.com/event/fit-for-the-cross/2027-04-04/
CATEGORIES:Fit for the Cross
END:VEVENT
BEGIN:VEVENT
DTSTART;TZID=UTC:20270411T130000
DTEND;TZID=UTC:20270411T143000
DTSTAMP:20260422T133859
CREATED:20251027T165734Z
LAST-MODIFIED:20251027T165734Z
UID:10006079-1807448400-1807453800@crossfitchaparral.com
SUMMARY:Fit for the Cross
DESCRIPTION:
URL:http://crossfitchaparral.com/event/fit-for-the-cross/2027-04-11/
CATEGORIES:Fit for the Cross
END:VEVENT
BEGIN:VEVENT
DTSTART;TZID=UTC:20270418T130000
DTEND;TZID=UTC:20270418T143000
DTSTAMP:20260422T133859
CREATED:20251027T165734Z
LAST-MODIFIED:20251027T165734Z
UID:10006080-1808053200-1808058600@crossfitchaparral.com
SUMMARY:Fit for the Cross
DESCRIPTION:
URL:http://crossfitchaparral.com/event/fit-for-the-cross/2027-04-18/
CATEGORIES:Fit for the Cross
END:VEVENT
BEGIN:VEVENT
DTSTART;TZID=UTC:20270425T130000
DTEND;TZID=UTC:20270425T143000
DTSTAMP:20260422T133859
CREATED:20251027T165734Z
LAST-MODIFIED:20251027T165734Z
UID:10006081-1808658000-1808663400@crossfitchaparral.com
SUMMARY:Fit for the Cross
DESCRIPTION:
URL:http://crossfitchaparral.com/event/fit-for-the-cross/2027-04-25/
CATEGORIES:Fit for the Cross
END:VEVENT
BEGIN:VEVENT
DTSTART;TZID=UTC:20270502T130000
DTEND;TZID=UTC:20270502T143000
DTSTAMP:20260422T133859
CREATED:20251027T165734Z
LAST-MODIFIED:20251027T165734Z
UID:10006082-1809262800-1809268200@crossfitchaparral.com
SUMMARY:Fit for the Cross
DESCRIPTION:
URL:http://crossfitchaparral.com/event/fit-for-the-cross/2027-05-02/
CATEGORIES:Fit for the Cross
END:VEVENT
BEGIN:VEVENT
DTSTART;TZID=UTC:20270509T130000
DTEND;TZID=UTC:20270509T143000
DTSTAMP:20260422T133859
CREATED:20251027T165734Z
LAST-MODIFIED:20251027T165734Z
UID:10006083-1809867600-1809873000@crossfitchaparral.com
SUMMARY:Fit for the Cross
DESCRIPTION:
URL:http://crossfitchaparral.com/event/fit-for-the-cross/2027-05-09/
CATEGORIES:Fit for the Cross
END:VEVENT
BEGIN:VEVENT
DTSTART;TZID=UTC:20270516T130000
DTEND;TZID=UTC:20270516T143000
DTSTAMP:20260422T133859
CREATED:20251027T165734Z
LAST-MODIFIED:20251027T165734Z
UID:10006084-1810472400-1810477800@crossfitchaparral.com
SUMMARY:Fit for the Cross
DESCRIPTION:
URL:http://crossfitchaparral.com/event/fit-for-the-cross/2027-05-16/
CATEGORIES:Fit for the Cross
END:VEVENT
BEGIN:VEVENT
DTSTART;TZID=UTC:20270523T130000
DTEND;TZID=UTC:20270523T143000
DTSTAMP:20260422T133859
CREATED:20251027T165734Z
LAST-MODIFIED:20251027T165734Z
UID:10006085-1811077200-1811082600@crossfitchaparral.com
SUMMARY:Fit for the Cross
DESCRIPTION:
URL:http://crossfitchaparral.com/event/fit-for-the-cross/2027-05-23/
CATEGORIES:Fit for the Cross
END:VEVENT
BEGIN:VEVENT
DTSTART;TZID=UTC:20270530T130000
DTEND;TZID=UTC:20270530T143000
DTSTAMP:20260422T133859
CREATED:20251027T165734Z
LAST-MODIFIED:20251027T165734Z
UID:10006086-1811682000-1811687400@crossfitchaparral.com
SUMMARY:Fit for the Cross
DESCRIPTION:
URL:http://crossfitchaparral.com/event/fit-for-the-cross/2027-05-30/
CATEGORIES:Fit for the Cross
END:VEVENT
BEGIN:VEVENT
DTSTART;TZID=UTC:20270606T130000
DTEND;TZID=UTC:20270606T143000
DTSTAMP:20260422T133859
CREATED:20251027T165734Z
LAST-MODIFIED:20251027T165734Z
UID:10006087-1812286800-1812292200@crossfitchaparral.com
SUMMARY:Fit for the Cross
DESCRIPTION:
URL:http://crossfitchaparral.com/event/fit-for-the-cross/2027-06-06/
CATEGORIES:Fit for the Cross
END:VEVENT
BEGIN:VEVENT
DTSTART;TZID=UTC:20270613T130000
DTEND;TZID=UTC:20270613T143000
DTSTAMP:20260422T133859
CREATED:20251027T165734Z
LAST-MODIFIED:20251027T165734Z
UID:10006088-1812891600-1812897000@crossfitchaparral.com
SUMMARY:Fit for the Cross
DESCRIPTION:
URL:http://crossfitchaparral.com/event/fit-for-the-cross/2027-06-13/
CATEGORIES:Fit for the Cross
END:VEVENT
BEGIN:VEVENT
DTSTART;TZID=UTC:20270620T130000
DTEND;TZID=UTC:20270620T143000
DTSTAMP:20260422T133859
CREATED:20251027T165734Z
LAST-MODIFIED:20251027T165734Z
UID:10006089-1813496400-1813501800@crossfitchaparral.com
SUMMARY:Fit for the Cross
DESCRIPTION:
URL:http://crossfitchaparral.com/event/fit-for-the-cross/2027-06-20/
CATEGORIES:Fit for the Cross
END:VEVENT
BEGIN:VEVENT
DTSTART;TZID=UTC:20270627T130000
DTEND;TZID=UTC:20270627T143000
DTSTAMP:20260422T133859
CREATED:20251027T165734Z
LAST-MODIFIED:20251027T165734Z
UID:10006090-1814101200-1814106600@crossfitchaparral.com
SUMMARY:Fit for the Cross
DESCRIPTION:
URL:http://crossfitchaparral.com/event/fit-for-the-cross/2027-06-27/
CATEGORIES:Fit for the Cross
END:VEVENT
BEGIN:VEVENT
DTSTART;TZID=UTC:20270704T130000
DTEND;TZID=UTC:20270704T143000
DTSTAMP:20260422T133859
CREATED:20251027T165734Z
LAST-MODIFIED:20251027T165734Z
UID:10006091-1814706000-1814711400@crossfitchaparral.com
SUMMARY:Fit for the Cross
DESCRIPTION:
URL:http://crossfitchaparral.com/event/fit-for-the-cross/2027-07-04/
CATEGORIES:Fit for the Cross
END:VEVENT
BEGIN:VEVENT
DTSTART;TZID=UTC:20270711T130000
DTEND;TZID=UTC:20270711T143000
DTSTAMP:20260422T133859
CREATED:20251027T165734Z
LAST-MODIFIED:20251027T165734Z
UID:10006092-1815310800-1815316200@crossfitchaparral.com
SUMMARY:Fit for the Cross
DESCRIPTION:
URL:http://crossfitchaparral.com/event/fit-for-the-cross/2027-07-11/
CATEGORIES:Fit for the Cross
END:VEVENT
BEGIN:VEVENT
DTSTART;TZID=UTC:20270718T130000
DTEND;TZID=UTC:20270718T143000
DTSTAMP:20260422T133859
CREATED:20251027T165734Z
LAST-MODIFIED:20251027T165734Z
UID:10006093-1815915600-1815921000@crossfitchaparral.com
SUMMARY:Fit for the Cross
DESCRIPTION:
URL:http://crossfitchaparral.com/event/fit-for-the-cross/2027-07-18/
CATEGORIES:Fit for the Cross
END:VEVENT
BEGIN:VEVENT
DTSTART;TZID=UTC:20270725T130000
DTEND;TZID=UTC:20270725T143000
DTSTAMP:20260422T133859
CREATED:20251027T165734Z
LAST-MODIFIED:20251027T165734Z
UID:10006094-1816520400-1816525800@crossfitchaparral.com
SUMMARY:Fit for the Cross
DESCRIPTION:
URL:http://crossfitchaparral.com/event/fit-for-the-cross/2027-07-25/
CATEGORIES:Fit for the Cross
END:VEVENT
BEGIN:VEVENT
DTSTART;TZID=UTC:20270801T130000
DTEND;TZID=UTC:20270801T143000
DTSTAMP:20260422T133859
CREATED:20251027T165734Z
LAST-MODIFIED:20251027T165734Z
UID:10006095-1817125200-1817130600@crossfitchaparral.com
SUMMARY:Fit for the Cross
DESCRIPTION:
URL:http://crossfitchaparral.com/event/fit-for-the-cross/2027-08-01/
CATEGORIES:Fit for the Cross
END:VEVENT
BEGIN:VEVENT
DTSTART;TZID=UTC:20270808T130000
DTEND;TZID=UTC:20270808T143000
DTSTAMP:20260422T133859
CREATED:20251027T165734Z
LAST-MODIFIED:20251027T165734Z
UID:10006096-1817730000-1817735400@crossfitchaparral.com
SUMMARY:Fit for the Cross
DESCRIPTION:
URL:http://crossfitchaparral.com/event/fit-for-the-cross/2027-08-08/
CATEGORIES:Fit for the Cross
END:VEVENT
BEGIN:VEVENT
DTSTART;TZID=UTC:20270815T130000
DTEND;TZID=UTC:20270815T143000
DTSTAMP:20260422T133859
CREATED:20251027T165734Z
LAST-MODIFIED:20251027T165734Z
UID:10006097-1818334800-1818340200@crossfitchaparral.com
SUMMARY:Fit for the Cross
DESCRIPTION:
URL:http://crossfitchaparral.com/event/fit-for-the-cross/2027-08-15/
CATEGORIES:Fit for the Cross
END:VEVENT
BEGIN:VEVENT
DTSTART;TZID=UTC:20270822T130000
DTEND;TZID=UTC:20270822T143000
DTSTAMP:20260422T133859
CREATED:20251027T165734Z
LAST-MODIFIED:20251027T165734Z
UID:10006098-1818939600-1818945000@crossfitchaparral.com
SUMMARY:Fit for the Cross
DESCRIPTION:
URL:http://crossfitchaparral.com/event/fit-for-the-cross/2027-08-22/
CATEGORIES:Fit for the Cross
END:VEVENT
BEGIN:VEVENT
DTSTART;TZID=UTC:20270829T130000
DTEND;TZID=UTC:20270829T143000
DTSTAMP:20260422T133859
CREATED:20251027T165734Z
LAST-MODIFIED:20251027T165734Z
UID:10006099-1819544400-1819549800@crossfitchaparral.com
SUMMARY:Fit for the Cross
DESCRIPTION:
URL:http://crossfitchaparral.com/event/fit-for-the-cross/2027-08-29/
CATEGORIES:Fit for the Cross
END:VEVENT
BEGIN:VEVENT
DTSTART;TZID=UTC:20270905T130000
DTEND;TZID=UTC:20270905T143000
DTSTAMP:20260422T133859
CREATED:20251027T165734Z
LAST-MODIFIED:20251027T165734Z
UID:10006100-1820149200-1820154600@crossfitchaparral.com
SUMMARY:Fit for the Cross
DESCRIPTION:
URL:http://crossfitchaparral.com/event/fit-for-the-cross/2027-09-05/
CATEGORIES:Fit for the Cross
END:VEVENT
BEGIN:VEVENT
DTSTART;TZID=UTC:20270912T130000
DTEND;TZID=UTC:20270912T143000
DTSTAMP:20260422T133859
CREATED:20251027T165734Z
LAST-MODIFIED:20251027T165734Z
UID:10006101-1820754000-1820759400@crossfitchaparral.com
SUMMARY:Fit for the Cross
DESCRIPTION:
URL:http://crossfitchaparral.com/event/fit-for-the-cross/2027-09-12/
CATEGORIES:Fit for the Cross
END:VEVENT
BEGIN:VEVENT
DTSTART;TZID=UTC:20270919T130000
DTEND;TZID=UTC:20270919T143000
DTSTAMP:20260422T133859
CREATED:20251027T165734Z
LAST-MODIFIED:20251027T165734Z
UID:10006102-1821358800-1821364200@crossfitchaparral.com
SUMMARY:Fit for the Cross
DESCRIPTION:
URL:http://crossfitchaparral.com/event/fit-for-the-cross/2027-09-19/
CATEGORIES:Fit for the Cross
END:VEVENT
BEGIN:VEVENT
DTSTART;TZID=UTC:20270926T130000
DTEND;TZID=UTC:20270926T143000
DTSTAMP:20260422T133859
CREATED:20251027T165734Z
LAST-MODIFIED:20251027T165734Z
UID:10006103-1821963600-1821969000@crossfitchaparral.com
SUMMARY:Fit for the Cross
DESCRIPTION:
URL:http://crossfitchaparral.com/event/fit-for-the-cross/2027-09-26/
CATEGORIES:Fit for the Cross
END:VEVENT
BEGIN:VEVENT
DTSTART;TZID=UTC:20271003T130000
DTEND;TZID=UTC:20271003T143000
DTSTAMP:20260422T133859
CREATED:20251027T165734Z
LAST-MODIFIED:20251027T165734Z
UID:10006104-1822568400-1822573800@crossfitchaparral.com
SUMMARY:Fit for the Cross
DESCRIPTION:
URL:http://crossfitchaparral.com/event/fit-for-the-cross/2027-10-03/
CATEGORIES:Fit for the Cross
END:VEVENT
BEGIN:VEVENT
DTSTART;TZID=UTC:20271010T130000
DTEND;TZID=UTC:20271010T143000
DTSTAMP:20260422T133859
CREATED:20251027T165734Z
LAST-MODIFIED:20251027T165734Z
UID:10006105-1823173200-1823178600@crossfitchaparral.com
SUMMARY:Fit for the Cross
DESCRIPTION:
URL:http://crossfitchaparral.com/event/fit-for-the-cross/2027-10-10/
CATEGORIES:Fit for the Cross
END:VEVENT
BEGIN:VEVENT
DTSTART;TZID=UTC:20271017T130000
DTEND;TZID=UTC:20271017T143000
DTSTAMP:20260422T133859
CREATED:20251027T165734Z
LAST-MODIFIED:20251027T165734Z
UID:10006106-1823778000-1823783400@crossfitchaparral.com
SUMMARY:Fit for the Cross
DESCRIPTION:
URL:http://crossfitchaparral.com/event/fit-for-the-cross/2027-10-17/
CATEGORIES:Fit for the Cross
END:VEVENT
END:VCALENDAR