BEGIN:VCALENDAR
VERSION:2.0
PRODID:-//CrossFit Chaparral - ECPv6.15.10//NONSGML v1.0//EN
CALSCALE:GREGORIAN
METHOD:PUBLISH
X-WR-CALNAME:CrossFit Chaparral
X-ORIGINAL-URL:http://crossfitchaparral.com
X-WR-CALDESC:Events for CrossFit Chaparral
REFRESH-INTERVAL;VALUE=DURATION:PT1H
X-Robots-Tag:noindex
X-PUBLISHED-TTL:PT1H
BEGIN:VTIMEZONE
TZID:UTC
BEGIN:STANDARD
TZOFFSETFROM:+0000
TZOFFSETTO:+0000
TZNAME:UTC
DTSTART:20250101T000000
END:STANDARD
END:VTIMEZONE
BEGIN:VEVENT
DTSTART;TZID=UTC:20260619T173000
DTEND;TZID=UTC:20260619T183000
DTSTAMP:20260423T060231
CREATED:20251027T170752Z
LAST-MODIFIED:20251027T170752Z
UID:10008261-1781890200-1781893800@crossfitchaparral.com
SUMMARY:CrossFit Class
DESCRIPTION:
URL:http://crossfitchaparral.com/event/crossfit-class-6/2026-06-19/
CATEGORIES:CrossFit Class
END:VEVENT
BEGIN:VEVENT
DTSTART;TZID=UTC:20260619T163000
DTEND;TZID=UTC:20260619T173000
DTSTAMP:20260423T060231
CREATED:20251027T165935Z
LAST-MODIFIED:20251027T165935Z
UID:10006956-1781886600-1781890200@crossfitchaparral.com
SUMMARY:CrossFit Class
DESCRIPTION:
URL:http://crossfitchaparral.com/event/crossfit-class-5/2026-06-19/
CATEGORIES:CrossFit Class
END:VEVENT
BEGIN:VEVENT
DTSTART;TZID=UTC:20260619T083000
DTEND;TZID=UTC:20260619T093000
DTSTAMP:20260423T060231
CREATED:20251027T165257Z
LAST-MODIFIED:20251027T165257Z
UID:10005254-1781857800-1781861400@crossfitchaparral.com
SUMMARY:CrossFit Class
DESCRIPTION:
URL:http://crossfitchaparral.com/event/crossfit-class-3/2026-06-19/
CATEGORIES:CrossFit Class
END:VEVENT
BEGIN:VEVENT
DTSTART;TZID=UTC:20260619T063000
DTEND;TZID=UTC:20260619T193000
DTSTAMP:20260423T060231
CREATED:20251027T165009Z
LAST-MODIFIED:20251027T165009Z
UID:10002780-1781850600-1781897400@crossfitchaparral.com
SUMMARY:CrossFit Class
DESCRIPTION:
URL:http://crossfitchaparral.com/event/crossfit-class-2/2026-06-19/
CATEGORIES:CrossFit Class
END:VEVENT
BEGIN:VEVENT
DTSTART;TZID=UTC:20260619T053000
DTEND;TZID=UTC:20260619T063000
DTSTAMP:20260423T060231
CREATED:20251027T164919Z
LAST-MODIFIED:20251027T164919Z
UID:10001475-1781847000-1781850600@crossfitchaparral.com
SUMMARY:CrossFit Class
DESCRIPTION:
URL:http://crossfitchaparral.com/event/crossfit-class/2026-06-19/
CATEGORIES:CrossFit Class
END:VEVENT
BEGIN:VEVENT
DTSTART;TZID=UTC:20260619T050000
DTEND;TZID=UTC:20260619T063000
DTSTAMP:20260423T060231
CREATED:20251027T163822Z
LAST-MODIFIED:20251027T164423Z
UID:10000170-1781845200-1781850600@crossfitchaparral.com
SUMMARY:AoG
DESCRIPTION:
URL:http://crossfitchaparral.com/event/aog/2026-06-19/
LOCATION:CrossFit Chaparral\, 6451 E Shea Blvd\, Scottsdale\, AZ\, 85254\, United States
CATEGORIES:AoG
END:VEVENT
BEGIN:VEVENT
DTSTART;TZID=UTC:20260618T183000
DTEND;TZID=UTC:20260618T193000
DTSTAMP:20260423T060231
CREATED:20251027T170840Z
LAST-MODIFIED:20251027T170858Z
UID:10009532-1781807400-1781811000@crossfitchaparral.com
SUMMARY:CrossFit Class
DESCRIPTION:
URL:http://crossfitchaparral.com/event/crossfit-class-7/2026-06-18/
CATEGORIES:CrossFit Class
END:VEVENT
BEGIN:VEVENT
DTSTART;TZID=UTC:20260618T173000
DTEND;TZID=UTC:20260618T183000
DTSTAMP:20260423T060231
CREATED:20251027T170752Z
LAST-MODIFIED:20251027T170752Z
UID:10008260-1781803800-1781807400@crossfitchaparral.com
SUMMARY:CrossFit Class
DESCRIPTION:
URL:http://crossfitchaparral.com/event/crossfit-class-6/2026-06-18/
CATEGORIES:CrossFit Class
END:VEVENT
BEGIN:VEVENT
DTSTART;TZID=UTC:20260618T163000
DTEND;TZID=UTC:20260618T173000
DTSTAMP:20260423T060231
CREATED:20251027T165935Z
LAST-MODIFIED:20251027T165935Z
UID:10006955-1781800200-1781803800@crossfitchaparral.com
SUMMARY:CrossFit Class
DESCRIPTION:
URL:http://crossfitchaparral.com/event/crossfit-class-5/2026-06-18/
CATEGORIES:CrossFit Class
END:VEVENT
BEGIN:VEVENT
DTSTART;TZID=UTC:20260618T083000
DTEND;TZID=UTC:20260618T093000
DTSTAMP:20260423T060231
CREATED:20251027T165150Z
LAST-MODIFIED:20251027T165500Z
UID:10004538-1781771400-1781775000@crossfitchaparral.com
SUMMARY:Open Gym
DESCRIPTION:
URL:http://crossfitchaparral.com/event/open-gym/2026-06-18/
CATEGORIES:Open Gym
END:VEVENT
BEGIN:VEVENT
DTSTART;TZID=UTC:20260618T063000
DTEND;TZID=UTC:20260618T193000
DTSTAMP:20260423T060231
CREATED:20251027T165009Z
LAST-MODIFIED:20251027T165009Z
UID:10002779-1781764200-1781811000@crossfitchaparral.com
SUMMARY:CrossFit Class
DESCRIPTION:
URL:http://crossfitchaparral.com/event/crossfit-class-2/2026-06-18/
CATEGORIES:CrossFit Class
END:VEVENT
BEGIN:VEVENT
DTSTART;TZID=UTC:20260618T053000
DTEND;TZID=UTC:20260618T063000
DTSTAMP:20260423T060231
CREATED:20251027T164919Z
LAST-MODIFIED:20251027T164919Z
UID:10001474-1781760600-1781764200@crossfitchaparral.com
SUMMARY:CrossFit Class
DESCRIPTION:
URL:http://crossfitchaparral.com/event/crossfit-class/2026-06-18/
CATEGORIES:CrossFit Class
END:VEVENT
BEGIN:VEVENT
DTSTART;TZID=UTC:20260618T050000
DTEND;TZID=UTC:20260618T063000
DTSTAMP:20260423T060231
CREATED:20251027T163822Z
LAST-MODIFIED:20251027T164423Z
UID:10000169-1781758800-1781764200@crossfitchaparral.com
SUMMARY:AoG
DESCRIPTION:
URL:http://crossfitchaparral.com/event/aog/2026-06-18/
LOCATION:CrossFit Chaparral\, 6451 E Shea Blvd\, Scottsdale\, AZ\, 85254\, United States
CATEGORIES:AoG
END:VEVENT
BEGIN:VEVENT
DTSTART;TZID=UTC:20260617T183000
DTEND;TZID=UTC:20260617T193000
DTSTAMP:20260423T060231
CREATED:20251027T170840Z
LAST-MODIFIED:20251027T170858Z
UID:10009531-1781721000-1781724600@crossfitchaparral.com
SUMMARY:CrossFit Class
DESCRIPTION:
URL:http://crossfitchaparral.com/event/crossfit-class-7/2026-06-17/
CATEGORIES:CrossFit Class
END:VEVENT
BEGIN:VEVENT
DTSTART;TZID=UTC:20260617T173000
DTEND;TZID=UTC:20260617T183000
DTSTAMP:20260423T060231
CREATED:20251027T170752Z
LAST-MODIFIED:20251027T170752Z
UID:10008259-1781717400-1781721000@crossfitchaparral.com
SUMMARY:CrossFit Class
DESCRIPTION:
URL:http://crossfitchaparral.com/event/crossfit-class-6/2026-06-17/
CATEGORIES:CrossFit Class
END:VEVENT
BEGIN:VEVENT
DTSTART;TZID=UTC:20260617T163000
DTEND;TZID=UTC:20260617T173000
DTSTAMP:20260423T060231
CREATED:20251027T165935Z
LAST-MODIFIED:20251027T165935Z
UID:10006954-1781713800-1781717400@crossfitchaparral.com
SUMMARY:CrossFit Class
DESCRIPTION:
URL:http://crossfitchaparral.com/event/crossfit-class-5/2026-06-17/
CATEGORIES:CrossFit Class
END:VEVENT
BEGIN:VEVENT
DTSTART;TZID=UTC:20260617T083000
DTEND;TZID=UTC:20260617T091500
DTSTAMP:20260423T060231
CREATED:20251027T165103Z
LAST-MODIFIED:20251218T164423Z
UID:10011562-1781685000-1781687700@crossfitchaparral.com
SUMMARY:H.I.I.T
DESCRIPTION:
URL:http://crossfitchaparral.com/event/h-i-i-t/2026-06-17/
CATEGORIES:H.I.I.T
END:VEVENT
BEGIN:VEVENT
DTSTART;TZID=UTC:20260617T063000
DTEND;TZID=UTC:20260617T193000
DTSTAMP:20260423T060231
CREATED:20251027T165009Z
LAST-MODIFIED:20251027T165009Z
UID:10002778-1781677800-1781724600@crossfitchaparral.com
SUMMARY:CrossFit Class
DESCRIPTION:
URL:http://crossfitchaparral.com/event/crossfit-class-2/2026-06-17/
CATEGORIES:CrossFit Class
END:VEVENT
BEGIN:VEVENT
DTSTART;TZID=UTC:20260617T053000
DTEND;TZID=UTC:20260617T063000
DTSTAMP:20260423T060231
CREATED:20251027T164919Z
LAST-MODIFIED:20251027T164919Z
UID:10001473-1781674200-1781677800@crossfitchaparral.com
SUMMARY:CrossFit Class
DESCRIPTION:
URL:http://crossfitchaparral.com/event/crossfit-class/2026-06-17/
CATEGORIES:CrossFit Class
END:VEVENT
BEGIN:VEVENT
DTSTART;TZID=UTC:20260617T050000
DTEND;TZID=UTC:20260617T063000
DTSTAMP:20260423T060231
CREATED:20251027T163822Z
LAST-MODIFIED:20251027T164423Z
UID:10000168-1781672400-1781677800@crossfitchaparral.com
SUMMARY:AoG
DESCRIPTION:
URL:http://crossfitchaparral.com/event/aog/2026-06-17/
LOCATION:CrossFit Chaparral\, 6451 E Shea Blvd\, Scottsdale\, AZ\, 85254\, United States
CATEGORIES:AoG
END:VEVENT
BEGIN:VEVENT
DTSTART;TZID=UTC:20260616T183000
DTEND;TZID=UTC:20260616T193000
DTSTAMP:20260423T060231
CREATED:20251027T170840Z
LAST-MODIFIED:20251027T170858Z
UID:10009530-1781634600-1781638200@crossfitchaparral.com
SUMMARY:CrossFit Class
DESCRIPTION:
URL:http://crossfitchaparral.com/event/crossfit-class-7/2026-06-16/
CATEGORIES:CrossFit Class
END:VEVENT
BEGIN:VEVENT
DTSTART;TZID=UTC:20260616T173000
DTEND;TZID=UTC:20260616T183000
DTSTAMP:20260423T060231
CREATED:20251027T170752Z
LAST-MODIFIED:20251027T170752Z
UID:10008258-1781631000-1781634600@crossfitchaparral.com
SUMMARY:CrossFit Class
DESCRIPTION:
URL:http://crossfitchaparral.com/event/crossfit-class-6/2026-06-16/
CATEGORIES:CrossFit Class
END:VEVENT
BEGIN:VEVENT
DTSTART;TZID=UTC:20260616T163000
DTEND;TZID=UTC:20260616T173000
DTSTAMP:20260423T060231
CREATED:20251027T165935Z
LAST-MODIFIED:20251027T165935Z
UID:10006953-1781627400-1781631000@crossfitchaparral.com
SUMMARY:CrossFit Class
DESCRIPTION:
URL:http://crossfitchaparral.com/event/crossfit-class-5/2026-06-16/
CATEGORIES:CrossFit Class
END:VEVENT
BEGIN:VEVENT
DTSTART;TZID=UTC:20260616T083000
DTEND;TZID=UTC:20260616T093000
DTSTAMP:20260423T060231
CREATED:20251027T165150Z
LAST-MODIFIED:20251027T165500Z
UID:10004537-1781598600-1781602200@crossfitchaparral.com
SUMMARY:Open Gym
DESCRIPTION:
URL:http://crossfitchaparral.com/event/open-gym/2026-06-16/
CATEGORIES:Open Gym
END:VEVENT
BEGIN:VEVENT
DTSTART;TZID=UTC:20260616T063000
DTEND;TZID=UTC:20260616T193000
DTSTAMP:20260423T060231
CREATED:20251027T165009Z
LAST-MODIFIED:20251027T165009Z
UID:10002777-1781591400-1781638200@crossfitchaparral.com
SUMMARY:CrossFit Class
DESCRIPTION:
URL:http://crossfitchaparral.com/event/crossfit-class-2/2026-06-16/
CATEGORIES:CrossFit Class
END:VEVENT
BEGIN:VEVENT
DTSTART;TZID=UTC:20260616T053000
DTEND;TZID=UTC:20260616T063000
DTSTAMP:20260423T060231
CREATED:20251027T164919Z
LAST-MODIFIED:20251027T164919Z
UID:10001472-1781587800-1781591400@crossfitchaparral.com
SUMMARY:CrossFit Class
DESCRIPTION:
URL:http://crossfitchaparral.com/event/crossfit-class/2026-06-16/
CATEGORIES:CrossFit Class
END:VEVENT
BEGIN:VEVENT
DTSTART;TZID=UTC:20260616T050000
DTEND;TZID=UTC:20260616T063000
DTSTAMP:20260423T060231
CREATED:20251027T163822Z
LAST-MODIFIED:20251027T164423Z
UID:10000167-1781586000-1781591400@crossfitchaparral.com
SUMMARY:AoG
DESCRIPTION:
URL:http://crossfitchaparral.com/event/aog/2026-06-16/
LOCATION:CrossFit Chaparral\, 6451 E Shea Blvd\, Scottsdale\, AZ\, 85254\, United States
CATEGORIES:AoG
END:VEVENT
BEGIN:VEVENT
DTSTART;TZID=UTC:20260615T183000
DTEND;TZID=UTC:20260615T193000
DTSTAMP:20260423T060231
CREATED:20251027T170840Z
LAST-MODIFIED:20251027T170858Z
UID:10009529-1781548200-1781551800@crossfitchaparral.com
SUMMARY:CrossFit Class
DESCRIPTION:
URL:http://crossfitchaparral.com/event/crossfit-class-7/2026-06-15/
CATEGORIES:CrossFit Class
END:VEVENT
BEGIN:VEVENT
DTSTART;TZID=UTC:20260615T173000
DTEND;TZID=UTC:20260615T183000
DTSTAMP:20260423T060231
CREATED:20251027T170752Z
LAST-MODIFIED:20251027T170752Z
UID:10008257-1781544600-1781548200@crossfitchaparral.com
SUMMARY:CrossFit Class
DESCRIPTION:
URL:http://crossfitchaparral.com/event/crossfit-class-6/2026-06-15/
CATEGORIES:CrossFit Class
END:VEVENT
BEGIN:VEVENT
DTSTART;TZID=UTC:20260615T163000
DTEND;TZID=UTC:20260615T173000
DTSTAMP:20260423T060231
CREATED:20251027T165935Z
LAST-MODIFIED:20251027T165935Z
UID:10006952-1781541000-1781544600@crossfitchaparral.com
SUMMARY:CrossFit Class
DESCRIPTION:
URL:http://crossfitchaparral.com/event/crossfit-class-5/2026-06-15/
CATEGORIES:CrossFit Class
END:VEVENT
END:VCALENDAR