BEGIN:VCALENDAR
VERSION:2.0
PRODID:-//CrossFit Chaparral - ECPv6.15.10//NONSGML v1.0//EN
CALSCALE:GREGORIAN
METHOD:PUBLISH
X-WR-CALNAME:CrossFit Chaparral
X-ORIGINAL-URL:http://crossfitchaparral.com
X-WR-CALDESC:Events for CrossFit Chaparral
REFRESH-INTERVAL;VALUE=DURATION:PT1H
X-Robots-Tag:noindex
X-PUBLISHED-TTL:PT1H
BEGIN:VTIMEZONE
TZID:UTC
BEGIN:STANDARD
TZOFFSETFROM:+0000
TZOFFSETTO:+0000
TZNAME:UTC
DTSTART:20250101T000000
END:STANDARD
END:VTIMEZONE
BEGIN:VEVENT
DTSTART;TZID=UTC:20261205T090000
DTEND;TZID=UTC:20261205T100000
DTSTAMP:20260425T181643
CREATED:20251027T165557Z
LAST-MODIFIED:20251027T165557Z
UID:10005800-1796461200-1796464800@crossfitchaparral.com
SUMMARY:Open Gym
DESCRIPTION:
URL:http://crossfitchaparral.com/event/open-gym-2/2026-12-05/
CATEGORIES:Open Gym
END:VEVENT
BEGIN:VEVENT
DTSTART;TZID=UTC:20261205T080000
DTEND;TZID=UTC:20261205T090000
DTSTAMP:20260425T181643
CREATED:20251027T165352Z
LAST-MODIFIED:20251027T165352Z
UID:10005539-1796457600-1796461200@crossfitchaparral.com
SUMMARY:CrossFit Class
DESCRIPTION:
URL:http://crossfitchaparral.com/event/crossfit-class-4/2026-12-05/
CATEGORIES:CrossFit Class
END:VEVENT
BEGIN:VEVENT
DTSTART;TZID=UTC:20261204T173000
DTEND;TZID=UTC:20261204T183000
DTSTAMP:20260425T181643
CREATED:20251027T170752Z
LAST-MODIFIED:20251027T170752Z
UID:10008381-1796405400-1796409000@crossfitchaparral.com
SUMMARY:CrossFit Class
DESCRIPTION:
URL:http://crossfitchaparral.com/event/crossfit-class-6/2026-12-04/
CATEGORIES:CrossFit Class
END:VEVENT
BEGIN:VEVENT
DTSTART;TZID=UTC:20261204T163000
DTEND;TZID=UTC:20261204T173000
DTSTAMP:20260425T181643
CREATED:20251027T165935Z
LAST-MODIFIED:20251027T165935Z
UID:10007076-1796401800-1796405400@crossfitchaparral.com
SUMMARY:CrossFit Class
DESCRIPTION:
URL:http://crossfitchaparral.com/event/crossfit-class-5/2026-12-04/
CATEGORIES:CrossFit Class
END:VEVENT
BEGIN:VEVENT
DTSTART;TZID=UTC:20261204T083000
DTEND;TZID=UTC:20261204T093000
DTSTAMP:20260425T181643
CREATED:20251027T165257Z
LAST-MODIFIED:20251027T165257Z
UID:10005278-1796373000-1796376600@crossfitchaparral.com
SUMMARY:CrossFit Class
DESCRIPTION:
URL:http://crossfitchaparral.com/event/crossfit-class-3/2026-12-04/
CATEGORIES:CrossFit Class
END:VEVENT
BEGIN:VEVENT
DTSTART;TZID=UTC:20261204T063000
DTEND;TZID=UTC:20261204T193000
DTSTAMP:20260425T181643
CREATED:20251027T165009Z
LAST-MODIFIED:20251027T165009Z
UID:10002900-1796365800-1796412600@crossfitchaparral.com
SUMMARY:CrossFit Class
DESCRIPTION:
URL:http://crossfitchaparral.com/event/crossfit-class-2/2026-12-04/
CATEGORIES:CrossFit Class
END:VEVENT
BEGIN:VEVENT
DTSTART;TZID=UTC:20261204T053000
DTEND;TZID=UTC:20261204T063000
DTSTAMP:20260425T181643
CREATED:20251027T164919Z
LAST-MODIFIED:20251027T164919Z
UID:10001595-1796362200-1796365800@crossfitchaparral.com
SUMMARY:CrossFit Class
DESCRIPTION:
URL:http://crossfitchaparral.com/event/crossfit-class/2026-12-04/
CATEGORIES:CrossFit Class
END:VEVENT
BEGIN:VEVENT
DTSTART;TZID=UTC:20261204T050000
DTEND;TZID=UTC:20261204T063000
DTSTAMP:20260425T181643
CREATED:20251027T163822Z
LAST-MODIFIED:20251027T164423Z
UID:10000290-1796360400-1796365800@crossfitchaparral.com
SUMMARY:AoG
DESCRIPTION:
URL:http://crossfitchaparral.com/event/aog/2026-12-04/
LOCATION:CrossFit Chaparral\, 6451 E Shea Blvd\, Scottsdale\, AZ\, 85254\, United States
CATEGORIES:AoG
END:VEVENT
BEGIN:VEVENT
DTSTART;TZID=UTC:20261203T183000
DTEND;TZID=UTC:20261203T193000
DTSTAMP:20260425T181643
CREATED:20251027T170840Z
LAST-MODIFIED:20251027T170858Z
UID:10009628-1796322600-1796326200@crossfitchaparral.com
SUMMARY:CrossFit Class
DESCRIPTION:
URL:http://crossfitchaparral.com/event/crossfit-class-7/2026-12-03/
CATEGORIES:CrossFit Class
END:VEVENT
BEGIN:VEVENT
DTSTART;TZID=UTC:20261203T173000
DTEND;TZID=UTC:20261203T183000
DTSTAMP:20260425T181643
CREATED:20251027T170752Z
LAST-MODIFIED:20251027T170752Z
UID:10008380-1796319000-1796322600@crossfitchaparral.com
SUMMARY:CrossFit Class
DESCRIPTION:
URL:http://crossfitchaparral.com/event/crossfit-class-6/2026-12-03/
CATEGORIES:CrossFit Class
END:VEVENT
BEGIN:VEVENT
DTSTART;TZID=UTC:20261203T163000
DTEND;TZID=UTC:20261203T173000
DTSTAMP:20260425T181643
CREATED:20251027T165935Z
LAST-MODIFIED:20251027T165935Z
UID:10007075-1796315400-1796319000@crossfitchaparral.com
SUMMARY:CrossFit Class
DESCRIPTION:
URL:http://crossfitchaparral.com/event/crossfit-class-5/2026-12-03/
CATEGORIES:CrossFit Class
END:VEVENT
BEGIN:VEVENT
DTSTART;TZID=UTC:20261203T083000
DTEND;TZID=UTC:20261203T093000
DTSTAMP:20260425T181643
CREATED:20251027T165150Z
LAST-MODIFIED:20251027T165500Z
UID:10004610-1796286600-1796290200@crossfitchaparral.com
SUMMARY:Open Gym
DESCRIPTION:
URL:http://crossfitchaparral.com/event/open-gym/2026-12-03/
CATEGORIES:Open Gym
END:VEVENT
BEGIN:VEVENT
DTSTART;TZID=UTC:20261203T063000
DTEND;TZID=UTC:20261203T193000
DTSTAMP:20260425T181643
CREATED:20251027T165009Z
LAST-MODIFIED:20251027T165009Z
UID:10002899-1796279400-1796326200@crossfitchaparral.com
SUMMARY:CrossFit Class
DESCRIPTION:
URL:http://crossfitchaparral.com/event/crossfit-class-2/2026-12-03/
CATEGORIES:CrossFit Class
END:VEVENT
BEGIN:VEVENT
DTSTART;TZID=UTC:20261203T053000
DTEND;TZID=UTC:20261203T063000
DTSTAMP:20260425T181643
CREATED:20251027T164919Z
LAST-MODIFIED:20251027T164919Z
UID:10001594-1796275800-1796279400@crossfitchaparral.com
SUMMARY:CrossFit Class
DESCRIPTION:
URL:http://crossfitchaparral.com/event/crossfit-class/2026-12-03/
CATEGORIES:CrossFit Class
END:VEVENT
BEGIN:VEVENT
DTSTART;TZID=UTC:20261203T050000
DTEND;TZID=UTC:20261203T063000
DTSTAMP:20260425T181643
CREATED:20251027T163822Z
LAST-MODIFIED:20251027T164423Z
UID:10000289-1796274000-1796279400@crossfitchaparral.com
SUMMARY:AoG
DESCRIPTION:
URL:http://crossfitchaparral.com/event/aog/2026-12-03/
LOCATION:CrossFit Chaparral\, 6451 E Shea Blvd\, Scottsdale\, AZ\, 85254\, United States
CATEGORIES:AoG
END:VEVENT
BEGIN:VEVENT
DTSTART;TZID=UTC:20261202T183000
DTEND;TZID=UTC:20261202T193000
DTSTAMP:20260425T181643
CREATED:20251027T170840Z
LAST-MODIFIED:20251027T170858Z
UID:10009627-1796236200-1796239800@crossfitchaparral.com
SUMMARY:CrossFit Class
DESCRIPTION:
URL:http://crossfitchaparral.com/event/crossfit-class-7/2026-12-02/
CATEGORIES:CrossFit Class
END:VEVENT
BEGIN:VEVENT
DTSTART;TZID=UTC:20261202T173000
DTEND;TZID=UTC:20261202T183000
DTSTAMP:20260425T181643
CREATED:20251027T170752Z
LAST-MODIFIED:20251027T170752Z
UID:10008379-1796232600-1796236200@crossfitchaparral.com
SUMMARY:CrossFit Class
DESCRIPTION:
URL:http://crossfitchaparral.com/event/crossfit-class-6/2026-12-02/
CATEGORIES:CrossFit Class
END:VEVENT
BEGIN:VEVENT
DTSTART;TZID=UTC:20261202T163000
DTEND;TZID=UTC:20261202T173000
DTSTAMP:20260425T181643
CREATED:20251027T165935Z
LAST-MODIFIED:20251027T165935Z
UID:10007074-1796229000-1796232600@crossfitchaparral.com
SUMMARY:CrossFit Class
DESCRIPTION:
URL:http://crossfitchaparral.com/event/crossfit-class-5/2026-12-02/
CATEGORIES:CrossFit Class
END:VEVENT
BEGIN:VEVENT
DTSTART;TZID=UTC:20261202T083000
DTEND;TZID=UTC:20261202T091500
DTSTAMP:20260425T181643
CREATED:20251027T165103Z
LAST-MODIFIED:20251218T164423Z
UID:10011610-1796200200-1796202900@crossfitchaparral.com
SUMMARY:H.I.I.T
DESCRIPTION:
URL:http://crossfitchaparral.com/event/h-i-i-t/2026-12-02/
CATEGORIES:H.I.I.T
END:VEVENT
BEGIN:VEVENT
DTSTART;TZID=UTC:20261202T063000
DTEND;TZID=UTC:20261202T193000
DTSTAMP:20260425T181643
CREATED:20251027T165009Z
LAST-MODIFIED:20251027T165009Z
UID:10002898-1796193000-1796239800@crossfitchaparral.com
SUMMARY:CrossFit Class
DESCRIPTION:
URL:http://crossfitchaparral.com/event/crossfit-class-2/2026-12-02/
CATEGORIES:CrossFit Class
END:VEVENT
BEGIN:VEVENT
DTSTART;TZID=UTC:20261202T053000
DTEND;TZID=UTC:20261202T063000
DTSTAMP:20260425T181643
CREATED:20251027T164919Z
LAST-MODIFIED:20251027T164919Z
UID:10001593-1796189400-1796193000@crossfitchaparral.com
SUMMARY:CrossFit Class
DESCRIPTION:
URL:http://crossfitchaparral.com/event/crossfit-class/2026-12-02/
CATEGORIES:CrossFit Class
END:VEVENT
BEGIN:VEVENT
DTSTART;TZID=UTC:20261202T050000
DTEND;TZID=UTC:20261202T063000
DTSTAMP:20260425T181643
CREATED:20251027T163822Z
LAST-MODIFIED:20251027T164423Z
UID:10000288-1796187600-1796193000@crossfitchaparral.com
SUMMARY:AoG
DESCRIPTION:
URL:http://crossfitchaparral.com/event/aog/2026-12-02/
LOCATION:CrossFit Chaparral\, 6451 E Shea Blvd\, Scottsdale\, AZ\, 85254\, United States
CATEGORIES:AoG
END:VEVENT
BEGIN:VEVENT
DTSTART;TZID=UTC:20261201T183000
DTEND;TZID=UTC:20261201T193000
DTSTAMP:20260425T181643
CREATED:20251027T170840Z
LAST-MODIFIED:20251027T170858Z
UID:10009626-1796149800-1796153400@crossfitchaparral.com
SUMMARY:CrossFit Class
DESCRIPTION:
URL:http://crossfitchaparral.com/event/crossfit-class-7/2026-12-01/
CATEGORIES:CrossFit Class
END:VEVENT
BEGIN:VEVENT
DTSTART;TZID=UTC:20261201T173000
DTEND;TZID=UTC:20261201T183000
DTSTAMP:20260425T181643
CREATED:20251027T170752Z
LAST-MODIFIED:20251027T170752Z
UID:10008378-1796146200-1796149800@crossfitchaparral.com
SUMMARY:CrossFit Class
DESCRIPTION:
URL:http://crossfitchaparral.com/event/crossfit-class-6/2026-12-01/
CATEGORIES:CrossFit Class
END:VEVENT
BEGIN:VEVENT
DTSTART;TZID=UTC:20261201T163000
DTEND;TZID=UTC:20261201T173000
DTSTAMP:20260425T181643
CREATED:20251027T165935Z
LAST-MODIFIED:20251027T165935Z
UID:10007073-1796142600-1796146200@crossfitchaparral.com
SUMMARY:CrossFit Class
DESCRIPTION:
URL:http://crossfitchaparral.com/event/crossfit-class-5/2026-12-01/
CATEGORIES:CrossFit Class
END:VEVENT
BEGIN:VEVENT
DTSTART;TZID=UTC:20261201T083000
DTEND;TZID=UTC:20261201T093000
DTSTAMP:20260425T181643
CREATED:20251027T165150Z
LAST-MODIFIED:20251027T165500Z
UID:10004609-1796113800-1796117400@crossfitchaparral.com
SUMMARY:Open Gym
DESCRIPTION:
URL:http://crossfitchaparral.com/event/open-gym/2026-12-01/
CATEGORIES:Open Gym
END:VEVENT
BEGIN:VEVENT
DTSTART;TZID=UTC:20261201T063000
DTEND;TZID=UTC:20261201T193000
DTSTAMP:20260425T181643
CREATED:20251027T165009Z
LAST-MODIFIED:20251027T165009Z
UID:10002897-1796106600-1796153400@crossfitchaparral.com
SUMMARY:CrossFit Class
DESCRIPTION:
URL:http://crossfitchaparral.com/event/crossfit-class-2/2026-12-01/
CATEGORIES:CrossFit Class
END:VEVENT
BEGIN:VEVENT
DTSTART;TZID=UTC:20261201T053000
DTEND;TZID=UTC:20261201T063000
DTSTAMP:20260425T181643
CREATED:20251027T164919Z
LAST-MODIFIED:20251027T164919Z
UID:10001592-1796103000-1796106600@crossfitchaparral.com
SUMMARY:CrossFit Class
DESCRIPTION:
URL:http://crossfitchaparral.com/event/crossfit-class/2026-12-01/
CATEGORIES:CrossFit Class
END:VEVENT
BEGIN:VEVENT
DTSTART;TZID=UTC:20261201T050000
DTEND;TZID=UTC:20261201T063000
DTSTAMP:20260425T181643
CREATED:20251027T163822Z
LAST-MODIFIED:20251027T164423Z
UID:10000287-1796101200-1796106600@crossfitchaparral.com
SUMMARY:AoG
DESCRIPTION:
URL:http://crossfitchaparral.com/event/aog/2026-12-01/
LOCATION:CrossFit Chaparral\, 6451 E Shea Blvd\, Scottsdale\, AZ\, 85254\, United States
CATEGORIES:AoG
END:VEVENT
BEGIN:VEVENT
DTSTART;TZID=UTC:20261130T183000
DTEND;TZID=UTC:20261130T193000
DTSTAMP:20260425T181643
CREATED:20251027T170840Z
LAST-MODIFIED:20251027T170858Z
UID:10009625-1796063400-1796067000@crossfitchaparral.com
SUMMARY:CrossFit Class
DESCRIPTION:
URL:http://crossfitchaparral.com/event/crossfit-class-7/2026-11-30/
CATEGORIES:CrossFit Class
END:VEVENT
END:VCALENDAR