BEGIN:VCALENDAR
VERSION:2.0
PRODID:-//CrossFit Chaparral - ECPv6.15.10//NONSGML v1.0//EN
CALSCALE:GREGORIAN
METHOD:PUBLISH
X-WR-CALNAME:CrossFit Chaparral
X-ORIGINAL-URL:http://crossfitchaparral.com
X-WR-CALDESC:Events for CrossFit Chaparral
REFRESH-INTERVAL;VALUE=DURATION:PT1H
X-Robots-Tag:noindex
X-PUBLISHED-TTL:PT1H
BEGIN:VTIMEZONE
TZID:UTC
BEGIN:STANDARD
TZOFFSETFROM:+0000
TZOFFSETTO:+0000
TZNAME:UTC
DTSTART:20250101T000000
END:STANDARD
END:VTIMEZONE
BEGIN:VEVENT
DTSTART;TZID=UTC:20261106T050000
DTEND;TZID=UTC:20261106T063000
DTSTAMP:20260425T221535
CREATED:20251027T163822Z
LAST-MODIFIED:20251027T164423Z
UID:10000270-1793941200-1793946600@crossfitchaparral.com
SUMMARY:AoG
DESCRIPTION:
URL:http://crossfitchaparral.com/event/aog/2026-11-06/
LOCATION:CrossFit Chaparral\, 6451 E Shea Blvd\, Scottsdale\, AZ\, 85254\, United States
CATEGORIES:AoG
END:VEVENT
BEGIN:VEVENT
DTSTART;TZID=UTC:20261106T053000
DTEND;TZID=UTC:20261106T063000
DTSTAMP:20260425T221535
CREATED:20251027T164919Z
LAST-MODIFIED:20251027T164919Z
UID:10001575-1793943000-1793946600@crossfitchaparral.com
SUMMARY:CrossFit Class
DESCRIPTION:
URL:http://crossfitchaparral.com/event/crossfit-class/2026-11-06/
CATEGORIES:CrossFit Class
END:VEVENT
BEGIN:VEVENT
DTSTART;TZID=UTC:20261106T063000
DTEND;TZID=UTC:20261106T193000
DTSTAMP:20260425T221535
CREATED:20251027T165009Z
LAST-MODIFIED:20251027T165009Z
UID:10002880-1793946600-1793993400@crossfitchaparral.com
SUMMARY:CrossFit Class
DESCRIPTION:
URL:http://crossfitchaparral.com/event/crossfit-class-2/2026-11-06/
CATEGORIES:CrossFit Class
END:VEVENT
BEGIN:VEVENT
DTSTART;TZID=UTC:20261106T083000
DTEND;TZID=UTC:20261106T093000
DTSTAMP:20260425T221535
CREATED:20251027T165257Z
LAST-MODIFIED:20251027T165257Z
UID:10005274-1793953800-1793957400@crossfitchaparral.com
SUMMARY:CrossFit Class
DESCRIPTION:
URL:http://crossfitchaparral.com/event/crossfit-class-3/2026-11-06/
CATEGORIES:CrossFit Class
END:VEVENT
BEGIN:VEVENT
DTSTART;TZID=UTC:20261106T163000
DTEND;TZID=UTC:20261106T173000
DTSTAMP:20260425T221535
CREATED:20251027T165935Z
LAST-MODIFIED:20251027T165935Z
UID:10007056-1793982600-1793986200@crossfitchaparral.com
SUMMARY:CrossFit Class
DESCRIPTION:
URL:http://crossfitchaparral.com/event/crossfit-class-5/2026-11-06/
CATEGORIES:CrossFit Class
END:VEVENT
BEGIN:VEVENT
DTSTART;TZID=UTC:20261106T173000
DTEND;TZID=UTC:20261106T183000
DTSTAMP:20260425T221535
CREATED:20251027T170752Z
LAST-MODIFIED:20251027T170752Z
UID:10008361-1793986200-1793989800@crossfitchaparral.com
SUMMARY:CrossFit Class
DESCRIPTION:
URL:http://crossfitchaparral.com/event/crossfit-class-6/2026-11-06/
CATEGORIES:CrossFit Class
END:VEVENT
BEGIN:VEVENT
DTSTART;TZID=UTC:20261107T080000
DTEND;TZID=UTC:20261107T090000
DTSTAMP:20260425T221535
CREATED:20251027T165352Z
LAST-MODIFIED:20251027T165352Z
UID:10005535-1794038400-1794042000@crossfitchaparral.com
SUMMARY:CrossFit Class
DESCRIPTION:
URL:http://crossfitchaparral.com/event/crossfit-class-4/2026-11-07/
CATEGORIES:CrossFit Class
END:VEVENT
BEGIN:VEVENT
DTSTART;TZID=UTC:20261107T090000
DTEND;TZID=UTC:20261107T100000
DTSTAMP:20260425T221535
CREATED:20251027T165557Z
LAST-MODIFIED:20251027T165557Z
UID:10005796-1794042000-1794045600@crossfitchaparral.com
SUMMARY:Open Gym
DESCRIPTION:
URL:http://crossfitchaparral.com/event/open-gym-2/2026-11-07/
CATEGORIES:Open Gym
END:VEVENT
BEGIN:VEVENT
DTSTART;TZID=UTC:20261108T130000
DTEND;TZID=UTC:20261108T143000
DTSTAMP:20260425T221535
CREATED:20251027T165734Z
LAST-MODIFIED:20251027T165734Z
UID:10006057-1794142800-1794148200@crossfitchaparral.com
SUMMARY:Fit for the Cross
DESCRIPTION:
URL:http://crossfitchaparral.com/event/fit-for-the-cross/2026-11-08/
CATEGORIES:Fit for the Cross
END:VEVENT
BEGIN:VEVENT
DTSTART;TZID=UTC:20261108T140000
DTEND;TZID=UTC:20261108T153000
DTSTAMP:20260425T221535
CREATED:20251027T165811Z
LAST-MODIFIED:20251110T161105Z
UID:10010756-1794146400-1794151800@crossfitchaparral.com
SUMMARY:Open Gym
DESCRIPTION:
URL:http://crossfitchaparral.com/event/open-gym-3/2026-11-08/
CATEGORIES:Open Gym
END:VEVENT
BEGIN:VEVENT
DTSTART;TZID=UTC:20261109T050000
DTEND;TZID=UTC:20261109T063000
DTSTAMP:20260425T221535
CREATED:20251027T163822Z
LAST-MODIFIED:20251027T164423Z
UID:10000271-1794200400-1794205800@crossfitchaparral.com
SUMMARY:AoG
DESCRIPTION:
URL:http://crossfitchaparral.com/event/aog/2026-11-09/
LOCATION:CrossFit Chaparral\, 6451 E Shea Blvd\, Scottsdale\, AZ\, 85254\, United States
CATEGORIES:AoG
END:VEVENT
BEGIN:VEVENT
DTSTART;TZID=UTC:20261109T053000
DTEND;TZID=UTC:20261109T063000
DTSTAMP:20260425T221535
CREATED:20251027T164919Z
LAST-MODIFIED:20251027T164919Z
UID:10001576-1794202200-1794205800@crossfitchaparral.com
SUMMARY:CrossFit Class
DESCRIPTION:
URL:http://crossfitchaparral.com/event/crossfit-class/2026-11-09/
CATEGORIES:CrossFit Class
END:VEVENT
BEGIN:VEVENT
DTSTART;TZID=UTC:20261109T063000
DTEND;TZID=UTC:20261109T193000
DTSTAMP:20260425T221535
CREATED:20251027T165009Z
LAST-MODIFIED:20251027T165009Z
UID:10002881-1794205800-1794252600@crossfitchaparral.com
SUMMARY:CrossFit Class
DESCRIPTION:
URL:http://crossfitchaparral.com/event/crossfit-class-2/2026-11-09/
CATEGORIES:CrossFit Class
END:VEVENT
BEGIN:VEVENT
DTSTART;TZID=UTC:20261109T083000
DTEND;TZID=UTC:20261109T091500
DTSTAMP:20260425T221535
CREATED:20251027T165103Z
LAST-MODIFIED:20251218T164423Z
UID:10011603-1794213000-1794215700@crossfitchaparral.com
SUMMARY:H.I.I.T
DESCRIPTION:
URL:http://crossfitchaparral.com/event/h-i-i-t/2026-11-09/
CATEGORIES:H.I.I.T
END:VEVENT
BEGIN:VEVENT
DTSTART;TZID=UTC:20261109T153000
DTEND;TZID=UTC:20261109T163000
DTSTAMP:20260425T221535
CREATED:20251027T165854Z
LAST-MODIFIED:20251027T165854Z
UID:10006580-1794238200-1794241800@crossfitchaparral.com
SUMMARY:CrossFit Kids
DESCRIPTION:
URL:http://crossfitchaparral.com/event/crossfit-kids/2026-11-09/
CATEGORIES:CrossFit Kids
END:VEVENT
BEGIN:VEVENT
DTSTART;TZID=UTC:20261109T163000
DTEND;TZID=UTC:20261109T173000
DTSTAMP:20260425T221535
CREATED:20251027T165935Z
LAST-MODIFIED:20251027T165935Z
UID:10007057-1794241800-1794245400@crossfitchaparral.com
SUMMARY:CrossFit Class
DESCRIPTION:
URL:http://crossfitchaparral.com/event/crossfit-class-5/2026-11-09/
CATEGORIES:CrossFit Class
END:VEVENT
BEGIN:VEVENT
DTSTART;TZID=UTC:20261109T173000
DTEND;TZID=UTC:20261109T183000
DTSTAMP:20260425T221535
CREATED:20251027T170752Z
LAST-MODIFIED:20251027T170752Z
UID:10008362-1794245400-1794249000@crossfitchaparral.com
SUMMARY:CrossFit Class
DESCRIPTION:
URL:http://crossfitchaparral.com/event/crossfit-class-6/2026-11-09/
CATEGORIES:CrossFit Class
END:VEVENT
BEGIN:VEVENT
DTSTART;TZID=UTC:20261109T183000
DTEND;TZID=UTC:20261109T193000
DTSTAMP:20260425T221535
CREATED:20251027T170840Z
LAST-MODIFIED:20251027T170858Z
UID:10009613-1794249000-1794252600@crossfitchaparral.com
SUMMARY:CrossFit Class
DESCRIPTION:
URL:http://crossfitchaparral.com/event/crossfit-class-7/2026-11-09/
CATEGORIES:CrossFit Class
END:VEVENT
BEGIN:VEVENT
DTSTART;TZID=UTC:20261110T050000
DTEND;TZID=UTC:20261110T063000
DTSTAMP:20260425T221535
CREATED:20251027T163822Z
LAST-MODIFIED:20251027T164423Z
UID:10000272-1794286800-1794292200@crossfitchaparral.com
SUMMARY:AoG
DESCRIPTION:
URL:http://crossfitchaparral.com/event/aog/2026-11-10/
LOCATION:CrossFit Chaparral\, 6451 E Shea Blvd\, Scottsdale\, AZ\, 85254\, United States
CATEGORIES:AoG
END:VEVENT
BEGIN:VEVENT
DTSTART;TZID=UTC:20261110T053000
DTEND;TZID=UTC:20261110T063000
DTSTAMP:20260425T221535
CREATED:20251027T164919Z
LAST-MODIFIED:20251027T164919Z
UID:10001577-1794288600-1794292200@crossfitchaparral.com
SUMMARY:CrossFit Class
DESCRIPTION:
URL:http://crossfitchaparral.com/event/crossfit-class/2026-11-10/
CATEGORIES:CrossFit Class
END:VEVENT
BEGIN:VEVENT
DTSTART;TZID=UTC:20261110T063000
DTEND;TZID=UTC:20261110T193000
DTSTAMP:20260425T221535
CREATED:20251027T165009Z
LAST-MODIFIED:20251027T165009Z
UID:10002882-1794292200-1794339000@crossfitchaparral.com
SUMMARY:CrossFit Class
DESCRIPTION:
URL:http://crossfitchaparral.com/event/crossfit-class-2/2026-11-10/
CATEGORIES:CrossFit Class
END:VEVENT
BEGIN:VEVENT
DTSTART;TZID=UTC:20261110T083000
DTEND;TZID=UTC:20261110T093000
DTSTAMP:20260425T221535
CREATED:20251027T165150Z
LAST-MODIFIED:20251027T165500Z
UID:10004600-1794299400-1794303000@crossfitchaparral.com
SUMMARY:Open Gym
DESCRIPTION:
URL:http://crossfitchaparral.com/event/open-gym/2026-11-10/
CATEGORIES:Open Gym
END:VEVENT
BEGIN:VEVENT
DTSTART;TZID=UTC:20261110T163000
DTEND;TZID=UTC:20261110T173000
DTSTAMP:20260425T221535
CREATED:20251027T165935Z
LAST-MODIFIED:20251027T165935Z
UID:10007058-1794328200-1794331800@crossfitchaparral.com
SUMMARY:CrossFit Class
DESCRIPTION:
URL:http://crossfitchaparral.com/event/crossfit-class-5/2026-11-10/
CATEGORIES:CrossFit Class
END:VEVENT
BEGIN:VEVENT
DTSTART;TZID=UTC:20261110T173000
DTEND;TZID=UTC:20261110T183000
DTSTAMP:20260425T221535
CREATED:20251027T170752Z
LAST-MODIFIED:20251027T170752Z
UID:10008363-1794331800-1794335400@crossfitchaparral.com
SUMMARY:CrossFit Class
DESCRIPTION:
URL:http://crossfitchaparral.com/event/crossfit-class-6/2026-11-10/
CATEGORIES:CrossFit Class
END:VEVENT
BEGIN:VEVENT
DTSTART;TZID=UTC:20261110T183000
DTEND;TZID=UTC:20261110T193000
DTSTAMP:20260425T221535
CREATED:20251027T170840Z
LAST-MODIFIED:20251027T170858Z
UID:10009614-1794335400-1794339000@crossfitchaparral.com
SUMMARY:CrossFit Class
DESCRIPTION:
URL:http://crossfitchaparral.com/event/crossfit-class-7/2026-11-10/
CATEGORIES:CrossFit Class
END:VEVENT
BEGIN:VEVENT
DTSTART;TZID=UTC:20261111T050000
DTEND;TZID=UTC:20261111T063000
DTSTAMP:20260425T221535
CREATED:20251027T163822Z
LAST-MODIFIED:20251027T164423Z
UID:10000273-1794373200-1794378600@crossfitchaparral.com
SUMMARY:AoG
DESCRIPTION:
URL:http://crossfitchaparral.com/event/aog/2026-11-11/
LOCATION:CrossFit Chaparral\, 6451 E Shea Blvd\, Scottsdale\, AZ\, 85254\, United States
CATEGORIES:AoG
END:VEVENT
BEGIN:VEVENT
DTSTART;TZID=UTC:20261111T053000
DTEND;TZID=UTC:20261111T063000
DTSTAMP:20260425T221535
CREATED:20251027T164919Z
LAST-MODIFIED:20251027T164919Z
UID:10001578-1794375000-1794378600@crossfitchaparral.com
SUMMARY:CrossFit Class
DESCRIPTION:
URL:http://crossfitchaparral.com/event/crossfit-class/2026-11-11/
CATEGORIES:CrossFit Class
END:VEVENT
BEGIN:VEVENT
DTSTART;TZID=UTC:20261111T063000
DTEND;TZID=UTC:20261111T193000
DTSTAMP:20260425T221535
CREATED:20251027T165009Z
LAST-MODIFIED:20251027T165009Z
UID:10002883-1794378600-1794425400@crossfitchaparral.com
SUMMARY:CrossFit Class
DESCRIPTION:
URL:http://crossfitchaparral.com/event/crossfit-class-2/2026-11-11/
CATEGORIES:CrossFit Class
END:VEVENT
BEGIN:VEVENT
DTSTART;TZID=UTC:20261111T083000
DTEND;TZID=UTC:20261111T091500
DTSTAMP:20260425T221535
CREATED:20251027T165103Z
LAST-MODIFIED:20251218T164423Z
UID:10011604-1794385800-1794388500@crossfitchaparral.com
SUMMARY:H.I.I.T
DESCRIPTION:
URL:http://crossfitchaparral.com/event/h-i-i-t/2026-11-11/
CATEGORIES:H.I.I.T
END:VEVENT
BEGIN:VEVENT
DTSTART;TZID=UTC:20261111T163000
DTEND;TZID=UTC:20261111T173000
DTSTAMP:20260425T221535
CREATED:20251027T165935Z
LAST-MODIFIED:20251027T165935Z
UID:10007059-1794414600-1794418200@crossfitchaparral.com
SUMMARY:CrossFit Class
DESCRIPTION:
URL:http://crossfitchaparral.com/event/crossfit-class-5/2026-11-11/
CATEGORIES:CrossFit Class
END:VEVENT
END:VCALENDAR