BEGIN:VCALENDAR
VERSION:2.0
PRODID:-//CrossFit Chaparral - ECPv6.15.10//NONSGML v1.0//EN
CALSCALE:GREGORIAN
METHOD:PUBLISH
X-ORIGINAL-URL:http://crossfitchaparral.com
X-WR-CALDESC:Events for CrossFit Chaparral
REFRESH-INTERVAL;VALUE=DURATION:PT1H
X-Robots-Tag:noindex
X-PUBLISHED-TTL:PT1H
BEGIN:VTIMEZONE
TZID:UTC
BEGIN:STANDARD
TZOFFSETFROM:+0000
TZOFFSETTO:+0000
TZNAME:UTC
DTSTART:20250101T000000
END:STANDARD
END:VTIMEZONE
BEGIN:VEVENT
DTSTART;TZID=UTC:20260704T080000
DTEND;TZID=UTC:20260704T090000
DTSTAMP:20260423T004734
CREATED:20251027T165352Z
LAST-MODIFIED:20251027T165352Z
UID:10005517-1783152000-1783155600@crossfitchaparral.com
SUMMARY:CrossFit Class
DESCRIPTION:
URL:http://crossfitchaparral.com/event/crossfit-class-4/2026-07-04/
CATEGORIES:CrossFit Class
END:VEVENT
BEGIN:VEVENT
DTSTART;TZID=UTC:20260704T090000
DTEND;TZID=UTC:20260704T100000
DTSTAMP:20260423T004734
CREATED:20251027T165557Z
LAST-MODIFIED:20251027T165557Z
UID:10005778-1783155600-1783159200@crossfitchaparral.com
SUMMARY:Open Gym
DESCRIPTION:
URL:http://crossfitchaparral.com/event/open-gym-2/2026-07-04/
CATEGORIES:Open Gym
END:VEVENT
BEGIN:VEVENT
DTSTART;TZID=UTC:20260705T130000
DTEND;TZID=UTC:20260705T143000
DTSTAMP:20260423T004734
CREATED:20251027T165734Z
LAST-MODIFIED:20251027T165734Z
UID:10006039-1783256400-1783261800@crossfitchaparral.com
SUMMARY:Fit for the Cross
DESCRIPTION:
URL:http://crossfitchaparral.com/event/fit-for-the-cross/2026-07-05/
CATEGORIES:Fit for the Cross
END:VEVENT
BEGIN:VEVENT
DTSTART;TZID=UTC:20260705T140000
DTEND;TZID=UTC:20260705T153000
DTSTAMP:20260423T004734
CREATED:20251027T165811Z
LAST-MODIFIED:20251110T161105Z
UID:10010738-1783260000-1783265400@crossfitchaparral.com
SUMMARY:Open Gym
DESCRIPTION:
URL:http://crossfitchaparral.com/event/open-gym-3/2026-07-05/
CATEGORIES:Open Gym
END:VEVENT
BEGIN:VEVENT
DTSTART;TZID=UTC:20260706T050000
DTEND;TZID=UTC:20260706T063000
DTSTAMP:20260423T004734
CREATED:20251027T163822Z
LAST-MODIFIED:20251027T164423Z
UID:10000181-1783314000-1783319400@crossfitchaparral.com
SUMMARY:AoG
DESCRIPTION:
URL:http://crossfitchaparral.com/event/aog/2026-07-06/
LOCATION:CrossFit Chaparral\, 6451 E Shea Blvd\, Scottsdale\, AZ\, 85254\, United States
CATEGORIES:AoG
END:VEVENT
BEGIN:VEVENT
DTSTART;TZID=UTC:20260706T053000
DTEND;TZID=UTC:20260706T063000
DTSTAMP:20260423T004734
CREATED:20251027T164919Z
LAST-MODIFIED:20251027T164919Z
UID:10001486-1783315800-1783319400@crossfitchaparral.com
SUMMARY:CrossFit Class
DESCRIPTION:
URL:http://crossfitchaparral.com/event/crossfit-class/2026-07-06/
CATEGORIES:CrossFit Class
END:VEVENT
BEGIN:VEVENT
DTSTART;TZID=UTC:20260706T063000
DTEND;TZID=UTC:20260706T193000
DTSTAMP:20260423T004734
CREATED:20251027T165009Z
LAST-MODIFIED:20251027T165009Z
UID:10002791-1783319400-1783366200@crossfitchaparral.com
SUMMARY:CrossFit Class
DESCRIPTION:
URL:http://crossfitchaparral.com/event/crossfit-class-2/2026-07-06/
CATEGORIES:CrossFit Class
END:VEVENT
BEGIN:VEVENT
DTSTART;TZID=UTC:20260706T083000
DTEND;TZID=UTC:20260706T091500
DTSTAMP:20260423T004734
CREATED:20251027T165103Z
LAST-MODIFIED:20251218T164423Z
UID:10011567-1783326600-1783329300@crossfitchaparral.com
SUMMARY:H.I.I.T
DESCRIPTION:
URL:http://crossfitchaparral.com/event/h-i-i-t/2026-07-06/
CATEGORIES:H.I.I.T
END:VEVENT
BEGIN:VEVENT
DTSTART;TZID=UTC:20260706T153000
DTEND;TZID=UTC:20260706T163000
DTSTAMP:20260423T004734
CREATED:20251027T165854Z
LAST-MODIFIED:20251027T165854Z
UID:10006562-1783351800-1783355400@crossfitchaparral.com
SUMMARY:CrossFit Kids
DESCRIPTION:
URL:http://crossfitchaparral.com/event/crossfit-kids/2026-07-06/
CATEGORIES:CrossFit Kids
END:VEVENT
BEGIN:VEVENT
DTSTART;TZID=UTC:20260706T163000
DTEND;TZID=UTC:20260706T173000
DTSTAMP:20260423T004734
CREATED:20251027T165935Z
LAST-MODIFIED:20251027T165935Z
UID:10006967-1783355400-1783359000@crossfitchaparral.com
SUMMARY:CrossFit Class
DESCRIPTION:
URL:http://crossfitchaparral.com/event/crossfit-class-5/2026-07-06/
CATEGORIES:CrossFit Class
END:VEVENT
BEGIN:VEVENT
DTSTART;TZID=UTC:20260706T173000
DTEND;TZID=UTC:20260706T183000
DTSTAMP:20260423T004734
CREATED:20251027T170752Z
LAST-MODIFIED:20251027T170752Z
UID:10008272-1783359000-1783362600@crossfitchaparral.com
SUMMARY:CrossFit Class
DESCRIPTION:
URL:http://crossfitchaparral.com/event/crossfit-class-6/2026-07-06/
CATEGORIES:CrossFit Class
END:VEVENT
BEGIN:VEVENT
DTSTART;TZID=UTC:20260706T183000
DTEND;TZID=UTC:20260706T193000
DTSTAMP:20260423T004734
CREATED:20251027T170840Z
LAST-MODIFIED:20251027T170858Z
UID:10009541-1783362600-1783366200@crossfitchaparral.com
SUMMARY:CrossFit Class
DESCRIPTION:
URL:http://crossfitchaparral.com/event/crossfit-class-7/2026-07-06/
CATEGORIES:CrossFit Class
END:VEVENT
BEGIN:VEVENT
DTSTART;TZID=UTC:20260707T050000
DTEND;TZID=UTC:20260707T063000
DTSTAMP:20260423T004734
CREATED:20251027T163822Z
LAST-MODIFIED:20251027T164423Z
UID:10000182-1783400400-1783405800@crossfitchaparral.com
SUMMARY:AoG
DESCRIPTION:
URL:http://crossfitchaparral.com/event/aog/2026-07-07/
LOCATION:CrossFit Chaparral\, 6451 E Shea Blvd\, Scottsdale\, AZ\, 85254\, United States
CATEGORIES:AoG
END:VEVENT
BEGIN:VEVENT
DTSTART;TZID=UTC:20260707T053000
DTEND;TZID=UTC:20260707T063000
DTSTAMP:20260423T004734
CREATED:20251027T164919Z
LAST-MODIFIED:20251027T164919Z
UID:10001487-1783402200-1783405800@crossfitchaparral.com
SUMMARY:CrossFit Class
DESCRIPTION:
URL:http://crossfitchaparral.com/event/crossfit-class/2026-07-07/
CATEGORIES:CrossFit Class
END:VEVENT
BEGIN:VEVENT
DTSTART;TZID=UTC:20260707T063000
DTEND;TZID=UTC:20260707T193000
DTSTAMP:20260423T004734
CREATED:20251027T165009Z
LAST-MODIFIED:20251027T165009Z
UID:10002792-1783405800-1783452600@crossfitchaparral.com
SUMMARY:CrossFit Class
DESCRIPTION:
URL:http://crossfitchaparral.com/event/crossfit-class-2/2026-07-07/
CATEGORIES:CrossFit Class
END:VEVENT
BEGIN:VEVENT
DTSTART;TZID=UTC:20260707T083000
DTEND;TZID=UTC:20260707T093000
DTSTAMP:20260423T004734
CREATED:20251027T165150Z
LAST-MODIFIED:20251027T165500Z
UID:10004546-1783413000-1783416600@crossfitchaparral.com
SUMMARY:Open Gym
DESCRIPTION:
URL:http://crossfitchaparral.com/event/open-gym/2026-07-07/
CATEGORIES:Open Gym
END:VEVENT
BEGIN:VEVENT
DTSTART;TZID=UTC:20260707T163000
DTEND;TZID=UTC:20260707T173000
DTSTAMP:20260423T004734
CREATED:20251027T165935Z
LAST-MODIFIED:20251027T165935Z
UID:10006968-1783441800-1783445400@crossfitchaparral.com
SUMMARY:CrossFit Class
DESCRIPTION:
URL:http://crossfitchaparral.com/event/crossfit-class-5/2026-07-07/
CATEGORIES:CrossFit Class
END:VEVENT
BEGIN:VEVENT
DTSTART;TZID=UTC:20260707T173000
DTEND;TZID=UTC:20260707T183000
DTSTAMP:20260423T004734
CREATED:20251027T170752Z
LAST-MODIFIED:20251027T170752Z
UID:10008273-1783445400-1783449000@crossfitchaparral.com
SUMMARY:CrossFit Class
DESCRIPTION:
URL:http://crossfitchaparral.com/event/crossfit-class-6/2026-07-07/
CATEGORIES:CrossFit Class
END:VEVENT
BEGIN:VEVENT
DTSTART;TZID=UTC:20260707T183000
DTEND;TZID=UTC:20260707T193000
DTSTAMP:20260423T004734
CREATED:20251027T170840Z
LAST-MODIFIED:20251027T170858Z
UID:10009542-1783449000-1783452600@crossfitchaparral.com
SUMMARY:CrossFit Class
DESCRIPTION:
URL:http://crossfitchaparral.com/event/crossfit-class-7/2026-07-07/
CATEGORIES:CrossFit Class
END:VEVENT
BEGIN:VEVENT
DTSTART;TZID=UTC:20260708T050000
DTEND;TZID=UTC:20260708T063000
DTSTAMP:20260423T004734
CREATED:20251027T163822Z
LAST-MODIFIED:20251027T164423Z
UID:10000183-1783486800-1783492200@crossfitchaparral.com
SUMMARY:AoG
DESCRIPTION:
URL:http://crossfitchaparral.com/event/aog/2026-07-08/
LOCATION:CrossFit Chaparral\, 6451 E Shea Blvd\, Scottsdale\, AZ\, 85254\, United States
CATEGORIES:AoG
END:VEVENT
BEGIN:VEVENT
DTSTART;TZID=UTC:20260708T053000
DTEND;TZID=UTC:20260708T063000
DTSTAMP:20260423T004734
CREATED:20251027T164919Z
LAST-MODIFIED:20251027T164919Z
UID:10001488-1783488600-1783492200@crossfitchaparral.com
SUMMARY:CrossFit Class
DESCRIPTION:
URL:http://crossfitchaparral.com/event/crossfit-class/2026-07-08/
CATEGORIES:CrossFit Class
END:VEVENT
BEGIN:VEVENT
DTSTART;TZID=UTC:20260708T063000
DTEND;TZID=UTC:20260708T193000
DTSTAMP:20260423T004734
CREATED:20251027T165009Z
LAST-MODIFIED:20251027T165009Z
UID:10002793-1783492200-1783539000@crossfitchaparral.com
SUMMARY:CrossFit Class
DESCRIPTION:
URL:http://crossfitchaparral.com/event/crossfit-class-2/2026-07-08/
CATEGORIES:CrossFit Class
END:VEVENT
BEGIN:VEVENT
DTSTART;TZID=UTC:20260708T083000
DTEND;TZID=UTC:20260708T091500
DTSTAMP:20260423T004734
CREATED:20251027T165103Z
LAST-MODIFIED:20251218T164423Z
UID:10011568-1783499400-1783502100@crossfitchaparral.com
SUMMARY:H.I.I.T
DESCRIPTION:
URL:http://crossfitchaparral.com/event/h-i-i-t/2026-07-08/
CATEGORIES:H.I.I.T
END:VEVENT
BEGIN:VEVENT
DTSTART;TZID=UTC:20260708T163000
DTEND;TZID=UTC:20260708T173000
DTSTAMP:20260423T004734
CREATED:20251027T165935Z
LAST-MODIFIED:20251027T165935Z
UID:10006969-1783528200-1783531800@crossfitchaparral.com
SUMMARY:CrossFit Class
DESCRIPTION:
URL:http://crossfitchaparral.com/event/crossfit-class-5/2026-07-08/
CATEGORIES:CrossFit Class
END:VEVENT
BEGIN:VEVENT
DTSTART;TZID=UTC:20260708T173000
DTEND;TZID=UTC:20260708T183000
DTSTAMP:20260423T004734
CREATED:20251027T170752Z
LAST-MODIFIED:20251027T170752Z
UID:10008274-1783531800-1783535400@crossfitchaparral.com
SUMMARY:CrossFit Class
DESCRIPTION:
URL:http://crossfitchaparral.com/event/crossfit-class-6/2026-07-08/
CATEGORIES:CrossFit Class
END:VEVENT
BEGIN:VEVENT
DTSTART;TZID=UTC:20260708T183000
DTEND;TZID=UTC:20260708T193000
DTSTAMP:20260423T004734
CREATED:20251027T170840Z
LAST-MODIFIED:20251027T170858Z
UID:10009543-1783535400-1783539000@crossfitchaparral.com
SUMMARY:CrossFit Class
DESCRIPTION:
URL:http://crossfitchaparral.com/event/crossfit-class-7/2026-07-08/
CATEGORIES:CrossFit Class
END:VEVENT
BEGIN:VEVENT
DTSTART;TZID=UTC:20260709T050000
DTEND;TZID=UTC:20260709T063000
DTSTAMP:20260423T004734
CREATED:20251027T163822Z
LAST-MODIFIED:20251027T164423Z
UID:10000184-1783573200-1783578600@crossfitchaparral.com
SUMMARY:AoG
DESCRIPTION:
URL:http://crossfitchaparral.com/event/aog/2026-07-09/
LOCATION:CrossFit Chaparral\, 6451 E Shea Blvd\, Scottsdale\, AZ\, 85254\, United States
CATEGORIES:AoG
END:VEVENT
BEGIN:VEVENT
DTSTART;TZID=UTC:20260709T053000
DTEND;TZID=UTC:20260709T063000
DTSTAMP:20260423T004734
CREATED:20251027T164919Z
LAST-MODIFIED:20251027T164919Z
UID:10001489-1783575000-1783578600@crossfitchaparral.com
SUMMARY:CrossFit Class
DESCRIPTION:
URL:http://crossfitchaparral.com/event/crossfit-class/2026-07-09/
CATEGORIES:CrossFit Class
END:VEVENT
BEGIN:VEVENT
DTSTART;TZID=UTC:20260709T063000
DTEND;TZID=UTC:20260709T193000
DTSTAMP:20260423T004734
CREATED:20251027T165009Z
LAST-MODIFIED:20251027T165009Z
UID:10002794-1783578600-1783625400@crossfitchaparral.com
SUMMARY:CrossFit Class
DESCRIPTION:
URL:http://crossfitchaparral.com/event/crossfit-class-2/2026-07-09/
CATEGORIES:CrossFit Class
END:VEVENT
BEGIN:VEVENT
DTSTART;TZID=UTC:20260709T083000
DTEND;TZID=UTC:20260709T093000
DTSTAMP:20260423T004734
CREATED:20251027T165150Z
LAST-MODIFIED:20251027T165500Z
UID:10004547-1783585800-1783589400@crossfitchaparral.com
SUMMARY:Open Gym
DESCRIPTION:
URL:http://crossfitchaparral.com/event/open-gym/2026-07-09/
CATEGORIES:Open Gym
END:VEVENT
END:VCALENDAR