BEGIN:VCALENDAR
VERSION:2.0
PRODID:-//CrossFit Chaparral - ECPv6.15.10//NONSGML v1.0//EN
CALSCALE:GREGORIAN
METHOD:PUBLISH
X-ORIGINAL-URL:http://crossfitchaparral.com
X-WR-CALDESC:Events for CrossFit Chaparral
REFRESH-INTERVAL;VALUE=DURATION:PT1H
X-Robots-Tag:noindex
X-PUBLISHED-TTL:PT1H
BEGIN:VTIMEZONE
TZID:UTC
BEGIN:STANDARD
TZOFFSETFROM:+0000
TZOFFSETTO:+0000
TZNAME:UTC
DTSTART:20250101T000000
END:STANDARD
END:VTIMEZONE
BEGIN:VEVENT
DTSTART;TZID=UTC:20261117T050000
DTEND;TZID=UTC:20261117T063000
DTSTAMP:20260425T153616
CREATED:20251027T163822Z
LAST-MODIFIED:20251027T164423Z
UID:10000277-1794891600-1794897000@crossfitchaparral.com
SUMMARY:AoG
DESCRIPTION:
URL:http://crossfitchaparral.com/event/aog/2026-11-17/
LOCATION:CrossFit Chaparral\, 6451 E Shea Blvd\, Scottsdale\, AZ\, 85254\, United States
CATEGORIES:AoG
END:VEVENT
BEGIN:VEVENT
DTSTART;TZID=UTC:20261117T053000
DTEND;TZID=UTC:20261117T063000
DTSTAMP:20260425T153616
CREATED:20251027T164919Z
LAST-MODIFIED:20251027T164919Z
UID:10001582-1794893400-1794897000@crossfitchaparral.com
SUMMARY:CrossFit Class
DESCRIPTION:
URL:http://crossfitchaparral.com/event/crossfit-class/2026-11-17/
CATEGORIES:CrossFit Class
END:VEVENT
BEGIN:VEVENT
DTSTART;TZID=UTC:20261117T063000
DTEND;TZID=UTC:20261117T193000
DTSTAMP:20260425T153616
CREATED:20251027T165009Z
LAST-MODIFIED:20251027T165009Z
UID:10002887-1794897000-1794943800@crossfitchaparral.com
SUMMARY:CrossFit Class
DESCRIPTION:
URL:http://crossfitchaparral.com/event/crossfit-class-2/2026-11-17/
CATEGORIES:CrossFit Class
END:VEVENT
BEGIN:VEVENT
DTSTART;TZID=UTC:20261117T083000
DTEND;TZID=UTC:20261117T093000
DTSTAMP:20260425T153616
CREATED:20251027T165150Z
LAST-MODIFIED:20251027T165500Z
UID:10004603-1794904200-1794907800@crossfitchaparral.com
SUMMARY:Open Gym
DESCRIPTION:
URL:http://crossfitchaparral.com/event/open-gym/2026-11-17/
CATEGORIES:Open Gym
END:VEVENT
BEGIN:VEVENT
DTSTART;TZID=UTC:20261117T163000
DTEND;TZID=UTC:20261117T173000
DTSTAMP:20260425T153616
CREATED:20251027T165935Z
LAST-MODIFIED:20251027T165935Z
UID:10007063-1794933000-1794936600@crossfitchaparral.com
SUMMARY:CrossFit Class
DESCRIPTION:
URL:http://crossfitchaparral.com/event/crossfit-class-5/2026-11-17/
CATEGORIES:CrossFit Class
END:VEVENT
BEGIN:VEVENT
DTSTART;TZID=UTC:20261117T173000
DTEND;TZID=UTC:20261117T183000
DTSTAMP:20260425T153616
CREATED:20251027T170752Z
LAST-MODIFIED:20251027T170752Z
UID:10008368-1794936600-1794940200@crossfitchaparral.com
SUMMARY:CrossFit Class
DESCRIPTION:
URL:http://crossfitchaparral.com/event/crossfit-class-6/2026-11-17/
CATEGORIES:CrossFit Class
END:VEVENT
BEGIN:VEVENT
DTSTART;TZID=UTC:20261117T183000
DTEND;TZID=UTC:20261117T193000
DTSTAMP:20260425T153616
CREATED:20251027T170840Z
LAST-MODIFIED:20251027T170858Z
UID:10009618-1794940200-1794943800@crossfitchaparral.com
SUMMARY:CrossFit Class
DESCRIPTION:
URL:http://crossfitchaparral.com/event/crossfit-class-7/2026-11-17/
CATEGORIES:CrossFit Class
END:VEVENT
BEGIN:VEVENT
DTSTART;TZID=UTC:20261118T050000
DTEND;TZID=UTC:20261118T063000
DTSTAMP:20260425T153616
CREATED:20251027T163822Z
LAST-MODIFIED:20251027T164423Z
UID:10000278-1794978000-1794983400@crossfitchaparral.com
SUMMARY:AoG
DESCRIPTION:
URL:http://crossfitchaparral.com/event/aog/2026-11-18/
LOCATION:CrossFit Chaparral\, 6451 E Shea Blvd\, Scottsdale\, AZ\, 85254\, United States
CATEGORIES:AoG
END:VEVENT
BEGIN:VEVENT
DTSTART;TZID=UTC:20261118T053000
DTEND;TZID=UTC:20261118T063000
DTSTAMP:20260425T153616
CREATED:20251027T164919Z
LAST-MODIFIED:20251027T164919Z
UID:10001583-1794979800-1794983400@crossfitchaparral.com
SUMMARY:CrossFit Class
DESCRIPTION:
URL:http://crossfitchaparral.com/event/crossfit-class/2026-11-18/
CATEGORIES:CrossFit Class
END:VEVENT
BEGIN:VEVENT
DTSTART;TZID=UTC:20261118T063000
DTEND;TZID=UTC:20261118T193000
DTSTAMP:20260425T153616
CREATED:20251027T165009Z
LAST-MODIFIED:20251027T165009Z
UID:10002888-1794983400-1795030200@crossfitchaparral.com
SUMMARY:CrossFit Class
DESCRIPTION:
URL:http://crossfitchaparral.com/event/crossfit-class-2/2026-11-18/
CATEGORIES:CrossFit Class
END:VEVENT
BEGIN:VEVENT
DTSTART;TZID=UTC:20261118T083000
DTEND;TZID=UTC:20261118T091500
DTSTAMP:20260425T153616
CREATED:20251027T165103Z
LAST-MODIFIED:20251218T164423Z
UID:10011606-1794990600-1794993300@crossfitchaparral.com
SUMMARY:H.I.I.T
DESCRIPTION:
URL:http://crossfitchaparral.com/event/h-i-i-t/2026-11-18/
CATEGORIES:H.I.I.T
END:VEVENT
BEGIN:VEVENT
DTSTART;TZID=UTC:20261118T163000
DTEND;TZID=UTC:20261118T173000
DTSTAMP:20260425T153616
CREATED:20251027T165935Z
LAST-MODIFIED:20251027T165935Z
UID:10007064-1795019400-1795023000@crossfitchaparral.com
SUMMARY:CrossFit Class
DESCRIPTION:
URL:http://crossfitchaparral.com/event/crossfit-class-5/2026-11-18/
CATEGORIES:CrossFit Class
END:VEVENT
BEGIN:VEVENT
DTSTART;TZID=UTC:20261118T173000
DTEND;TZID=UTC:20261118T183000
DTSTAMP:20260425T153616
CREATED:20251027T170752Z
LAST-MODIFIED:20251027T170752Z
UID:10008369-1795023000-1795026600@crossfitchaparral.com
SUMMARY:CrossFit Class
DESCRIPTION:
URL:http://crossfitchaparral.com/event/crossfit-class-6/2026-11-18/
CATEGORIES:CrossFit Class
END:VEVENT
BEGIN:VEVENT
DTSTART;TZID=UTC:20261118T183000
DTEND;TZID=UTC:20261118T193000
DTSTAMP:20260425T153616
CREATED:20251027T170840Z
LAST-MODIFIED:20251027T170858Z
UID:10009619-1795026600-1795030200@crossfitchaparral.com
SUMMARY:CrossFit Class
DESCRIPTION:
URL:http://crossfitchaparral.com/event/crossfit-class-7/2026-11-18/
CATEGORIES:CrossFit Class
END:VEVENT
BEGIN:VEVENT
DTSTART;TZID=UTC:20261119T050000
DTEND;TZID=UTC:20261119T063000
DTSTAMP:20260425T153616
CREATED:20251027T163822Z
LAST-MODIFIED:20251027T164423Z
UID:10000279-1795064400-1795069800@crossfitchaparral.com
SUMMARY:AoG
DESCRIPTION:
URL:http://crossfitchaparral.com/event/aog/2026-11-19/
LOCATION:CrossFit Chaparral\, 6451 E Shea Blvd\, Scottsdale\, AZ\, 85254\, United States
CATEGORIES:AoG
END:VEVENT
BEGIN:VEVENT
DTSTART;TZID=UTC:20261119T053000
DTEND;TZID=UTC:20261119T063000
DTSTAMP:20260425T153616
CREATED:20251027T164919Z
LAST-MODIFIED:20251027T164919Z
UID:10001584-1795066200-1795069800@crossfitchaparral.com
SUMMARY:CrossFit Class
DESCRIPTION:
URL:http://crossfitchaparral.com/event/crossfit-class/2026-11-19/
CATEGORIES:CrossFit Class
END:VEVENT
BEGIN:VEVENT
DTSTART;TZID=UTC:20261119T063000
DTEND;TZID=UTC:20261119T193000
DTSTAMP:20260425T153616
CREATED:20251027T165009Z
LAST-MODIFIED:20251027T165009Z
UID:10002889-1795069800-1795116600@crossfitchaparral.com
SUMMARY:CrossFit Class
DESCRIPTION:
URL:http://crossfitchaparral.com/event/crossfit-class-2/2026-11-19/
CATEGORIES:CrossFit Class
END:VEVENT
BEGIN:VEVENT
DTSTART;TZID=UTC:20261119T083000
DTEND;TZID=UTC:20261119T093000
DTSTAMP:20260425T153616
CREATED:20251027T165150Z
LAST-MODIFIED:20251027T165500Z
UID:10004604-1795077000-1795080600@crossfitchaparral.com
SUMMARY:Open Gym
DESCRIPTION:
URL:http://crossfitchaparral.com/event/open-gym/2026-11-19/
CATEGORIES:Open Gym
END:VEVENT
BEGIN:VEVENT
DTSTART;TZID=UTC:20261119T163000
DTEND;TZID=UTC:20261119T173000
DTSTAMP:20260425T153616
CREATED:20251027T165935Z
LAST-MODIFIED:20251027T165935Z
UID:10007065-1795105800-1795109400@crossfitchaparral.com
SUMMARY:CrossFit Class
DESCRIPTION:
URL:http://crossfitchaparral.com/event/crossfit-class-5/2026-11-19/
CATEGORIES:CrossFit Class
END:VEVENT
BEGIN:VEVENT
DTSTART;TZID=UTC:20261119T173000
DTEND;TZID=UTC:20261119T183000
DTSTAMP:20260425T153616
CREATED:20251027T170752Z
LAST-MODIFIED:20251027T170752Z
UID:10008370-1795109400-1795113000@crossfitchaparral.com
SUMMARY:CrossFit Class
DESCRIPTION:
URL:http://crossfitchaparral.com/event/crossfit-class-6/2026-11-19/
CATEGORIES:CrossFit Class
END:VEVENT
BEGIN:VEVENT
DTSTART;TZID=UTC:20261119T183000
DTEND;TZID=UTC:20261119T193000
DTSTAMP:20260425T153616
CREATED:20251027T170840Z
LAST-MODIFIED:20251027T170858Z
UID:10009620-1795113000-1795116600@crossfitchaparral.com
SUMMARY:CrossFit Class
DESCRIPTION:
URL:http://crossfitchaparral.com/event/crossfit-class-7/2026-11-19/
CATEGORIES:CrossFit Class
END:VEVENT
BEGIN:VEVENT
DTSTART;TZID=UTC:20261120T050000
DTEND;TZID=UTC:20261120T063000
DTSTAMP:20260425T153616
CREATED:20251027T163822Z
LAST-MODIFIED:20251027T164423Z
UID:10000280-1795150800-1795156200@crossfitchaparral.com
SUMMARY:AoG
DESCRIPTION:
URL:http://crossfitchaparral.com/event/aog/2026-11-20/
LOCATION:CrossFit Chaparral\, 6451 E Shea Blvd\, Scottsdale\, AZ\, 85254\, United States
CATEGORIES:AoG
END:VEVENT
BEGIN:VEVENT
DTSTART;TZID=UTC:20261120T053000
DTEND;TZID=UTC:20261120T063000
DTSTAMP:20260425T153616
CREATED:20251027T164919Z
LAST-MODIFIED:20251027T164919Z
UID:10001585-1795152600-1795156200@crossfitchaparral.com
SUMMARY:CrossFit Class
DESCRIPTION:
URL:http://crossfitchaparral.com/event/crossfit-class/2026-11-20/
CATEGORIES:CrossFit Class
END:VEVENT
BEGIN:VEVENT
DTSTART;TZID=UTC:20261120T063000
DTEND;TZID=UTC:20261120T193000
DTSTAMP:20260425T153616
CREATED:20251027T165009Z
LAST-MODIFIED:20251027T165009Z
UID:10002890-1795156200-1795203000@crossfitchaparral.com
SUMMARY:CrossFit Class
DESCRIPTION:
URL:http://crossfitchaparral.com/event/crossfit-class-2/2026-11-20/
CATEGORIES:CrossFit Class
END:VEVENT
BEGIN:VEVENT
DTSTART;TZID=UTC:20261120T083000
DTEND;TZID=UTC:20261120T093000
DTSTAMP:20260425T153616
CREATED:20251027T165257Z
LAST-MODIFIED:20251027T165257Z
UID:10005276-1795163400-1795167000@crossfitchaparral.com
SUMMARY:CrossFit Class
DESCRIPTION:
URL:http://crossfitchaparral.com/event/crossfit-class-3/2026-11-20/
CATEGORIES:CrossFit Class
END:VEVENT
BEGIN:VEVENT
DTSTART;TZID=UTC:20261120T163000
DTEND;TZID=UTC:20261120T173000
DTSTAMP:20260425T153616
CREATED:20251027T165935Z
LAST-MODIFIED:20251027T165935Z
UID:10007066-1795192200-1795195800@crossfitchaparral.com
SUMMARY:CrossFit Class
DESCRIPTION:
URL:http://crossfitchaparral.com/event/crossfit-class-5/2026-11-20/
CATEGORIES:CrossFit Class
END:VEVENT
BEGIN:VEVENT
DTSTART;TZID=UTC:20261120T173000
DTEND;TZID=UTC:20261120T183000
DTSTAMP:20260425T153616
CREATED:20251027T170752Z
LAST-MODIFIED:20251027T170752Z
UID:10008371-1795195800-1795199400@crossfitchaparral.com
SUMMARY:CrossFit Class
DESCRIPTION:
URL:http://crossfitchaparral.com/event/crossfit-class-6/2026-11-20/
CATEGORIES:CrossFit Class
END:VEVENT
BEGIN:VEVENT
DTSTART;TZID=UTC:20261121T080000
DTEND;TZID=UTC:20261121T090000
DTSTAMP:20260425T153616
CREATED:20251027T165352Z
LAST-MODIFIED:20251027T165352Z
UID:10005537-1795248000-1795251600@crossfitchaparral.com
SUMMARY:CrossFit Class
DESCRIPTION:
URL:http://crossfitchaparral.com/event/crossfit-class-4/2026-11-21/
CATEGORIES:CrossFit Class
END:VEVENT
BEGIN:VEVENT
DTSTART;TZID=UTC:20261121T090000
DTEND;TZID=UTC:20261121T100000
DTSTAMP:20260425T153616
CREATED:20251027T165557Z
LAST-MODIFIED:20251027T165557Z
UID:10005798-1795251600-1795255200@crossfitchaparral.com
SUMMARY:Open Gym
DESCRIPTION:
URL:http://crossfitchaparral.com/event/open-gym-2/2026-11-21/
CATEGORIES:Open Gym
END:VEVENT
BEGIN:VEVENT
DTSTART;TZID=UTC:20261122T130000
DTEND;TZID=UTC:20261122T143000
DTSTAMP:20260425T153616
CREATED:20251027T165734Z
LAST-MODIFIED:20251027T165734Z
UID:10006059-1795352400-1795357800@crossfitchaparral.com
SUMMARY:Fit for the Cross
DESCRIPTION:
URL:http://crossfitchaparral.com/event/fit-for-the-cross/2026-11-22/
CATEGORIES:Fit for the Cross
END:VEVENT
END:VCALENDAR