BEGIN:VCALENDAR
VERSION:2.0
PRODID:-//CrossFit Chaparral - ECPv6.15.10//NONSGML v1.0//EN
CALSCALE:GREGORIAN
METHOD:PUBLISH
X-WR-CALNAME:CrossFit Chaparral
X-ORIGINAL-URL:http://crossfitchaparral.com
X-WR-CALDESC:Events for CrossFit Chaparral
REFRESH-INTERVAL;VALUE=DURATION:PT1H
X-Robots-Tag:noindex
X-PUBLISHED-TTL:PT1H
BEGIN:VTIMEZONE
TZID:UTC
BEGIN:STANDARD
TZOFFSETFROM:+0000
TZOFFSETTO:+0000
TZNAME:UTC
DTSTART:20250101T000000
END:STANDARD
END:VTIMEZONE
BEGIN:VEVENT
DTSTART;TZID=UTC:20260811T050000
DTEND;TZID=UTC:20260811T063000
DTSTAMP:20260425T195449
CREATED:20251027T163822Z
LAST-MODIFIED:20251027T164423Z
UID:10000207-1786424400-1786429800@crossfitchaparral.com
SUMMARY:AoG
DESCRIPTION:
URL:http://crossfitchaparral.com/event/aog/2026-08-11/
LOCATION:CrossFit Chaparral\, 6451 E Shea Blvd\, Scottsdale\, AZ\, 85254\, United States
CATEGORIES:AoG
END:VEVENT
BEGIN:VEVENT
DTSTART;TZID=UTC:20260811T053000
DTEND;TZID=UTC:20260811T063000
DTSTAMP:20260425T195449
CREATED:20251027T164919Z
LAST-MODIFIED:20251027T164919Z
UID:10001512-1786426200-1786429800@crossfitchaparral.com
SUMMARY:CrossFit Class
DESCRIPTION:
URL:http://crossfitchaparral.com/event/crossfit-class/2026-08-11/
CATEGORIES:CrossFit Class
END:VEVENT
BEGIN:VEVENT
DTSTART;TZID=UTC:20260811T063000
DTEND;TZID=UTC:20260811T193000
DTSTAMP:20260425T195449
CREATED:20251027T165009Z
LAST-MODIFIED:20251027T165009Z
UID:10002817-1786429800-1786476600@crossfitchaparral.com
SUMMARY:CrossFit Class
DESCRIPTION:
URL:http://crossfitchaparral.com/event/crossfit-class-2/2026-08-11/
CATEGORIES:CrossFit Class
END:VEVENT
BEGIN:VEVENT
DTSTART;TZID=UTC:20260811T083000
DTEND;TZID=UTC:20260811T093000
DTSTAMP:20260425T195449
CREATED:20251027T165150Z
LAST-MODIFIED:20251027T165500Z
UID:10004561-1786437000-1786440600@crossfitchaparral.com
SUMMARY:Open Gym
DESCRIPTION:
URL:http://crossfitchaparral.com/event/open-gym/2026-08-11/
CATEGORIES:Open Gym
END:VEVENT
BEGIN:VEVENT
DTSTART;TZID=UTC:20260811T163000
DTEND;TZID=UTC:20260811T173000
DTSTAMP:20260425T195449
CREATED:20251027T165935Z
LAST-MODIFIED:20251027T165935Z
UID:10006993-1786465800-1786469400@crossfitchaparral.com
SUMMARY:CrossFit Class
DESCRIPTION:
URL:http://crossfitchaparral.com/event/crossfit-class-5/2026-08-11/
CATEGORIES:CrossFit Class
END:VEVENT
BEGIN:VEVENT
DTSTART;TZID=UTC:20260811T173000
DTEND;TZID=UTC:20260811T183000
DTSTAMP:20260425T195449
CREATED:20251027T170752Z
LAST-MODIFIED:20251027T170752Z
UID:10008298-1786469400-1786473000@crossfitchaparral.com
SUMMARY:CrossFit Class
DESCRIPTION:
URL:http://crossfitchaparral.com/event/crossfit-class-6/2026-08-11/
CATEGORIES:CrossFit Class
END:VEVENT
BEGIN:VEVENT
DTSTART;TZID=UTC:20260811T183000
DTEND;TZID=UTC:20260811T193000
DTSTAMP:20260425T195449
CREATED:20251027T170840Z
LAST-MODIFIED:20251027T170858Z
UID:10009562-1786473000-1786476600@crossfitchaparral.com
SUMMARY:CrossFit Class
DESCRIPTION:
URL:http://crossfitchaparral.com/event/crossfit-class-7/2026-08-11/
CATEGORIES:CrossFit Class
END:VEVENT
BEGIN:VEVENT
DTSTART;TZID=UTC:20260812T050000
DTEND;TZID=UTC:20260812T063000
DTSTAMP:20260425T195449
CREATED:20251027T163822Z
LAST-MODIFIED:20251027T164423Z
UID:10000208-1786510800-1786516200@crossfitchaparral.com
SUMMARY:AoG
DESCRIPTION:
URL:http://crossfitchaparral.com/event/aog/2026-08-12/
LOCATION:CrossFit Chaparral\, 6451 E Shea Blvd\, Scottsdale\, AZ\, 85254\, United States
CATEGORIES:AoG
END:VEVENT
BEGIN:VEVENT
DTSTART;TZID=UTC:20260812T053000
DTEND;TZID=UTC:20260812T063000
DTSTAMP:20260425T195449
CREATED:20251027T164919Z
LAST-MODIFIED:20251027T164919Z
UID:10001513-1786512600-1786516200@crossfitchaparral.com
SUMMARY:CrossFit Class
DESCRIPTION:
URL:http://crossfitchaparral.com/event/crossfit-class/2026-08-12/
CATEGORIES:CrossFit Class
END:VEVENT
BEGIN:VEVENT
DTSTART;TZID=UTC:20260812T063000
DTEND;TZID=UTC:20260812T193000
DTSTAMP:20260425T195449
CREATED:20251027T165009Z
LAST-MODIFIED:20251027T165009Z
UID:10002818-1786516200-1786563000@crossfitchaparral.com
SUMMARY:CrossFit Class
DESCRIPTION:
URL:http://crossfitchaparral.com/event/crossfit-class-2/2026-08-12/
CATEGORIES:CrossFit Class
END:VEVENT
BEGIN:VEVENT
DTSTART;TZID=UTC:20260812T083000
DTEND;TZID=UTC:20260812T091500
DTSTAMP:20260425T195449
CREATED:20251027T165103Z
LAST-MODIFIED:20251218T164423Z
UID:10011578-1786523400-1786526100@crossfitchaparral.com
SUMMARY:H.I.I.T
DESCRIPTION:
URL:http://crossfitchaparral.com/event/h-i-i-t/2026-08-12/
CATEGORIES:H.I.I.T
END:VEVENT
BEGIN:VEVENT
DTSTART;TZID=UTC:20260812T163000
DTEND;TZID=UTC:20260812T173000
DTSTAMP:20260425T195449
CREATED:20251027T165935Z
LAST-MODIFIED:20251027T165935Z
UID:10006994-1786552200-1786555800@crossfitchaparral.com
SUMMARY:CrossFit Class
DESCRIPTION:
URL:http://crossfitchaparral.com/event/crossfit-class-5/2026-08-12/
CATEGORIES:CrossFit Class
END:VEVENT
BEGIN:VEVENT
DTSTART;TZID=UTC:20260812T173000
DTEND;TZID=UTC:20260812T183000
DTSTAMP:20260425T195449
CREATED:20251027T170752Z
LAST-MODIFIED:20251027T170752Z
UID:10008299-1786555800-1786559400@crossfitchaparral.com
SUMMARY:CrossFit Class
DESCRIPTION:
URL:http://crossfitchaparral.com/event/crossfit-class-6/2026-08-12/
CATEGORIES:CrossFit Class
END:VEVENT
BEGIN:VEVENT
DTSTART;TZID=UTC:20260812T183000
DTEND;TZID=UTC:20260812T193000
DTSTAMP:20260425T195449
CREATED:20251027T170840Z
LAST-MODIFIED:20251027T170858Z
UID:10009563-1786559400-1786563000@crossfitchaparral.com
SUMMARY:CrossFit Class
DESCRIPTION:
URL:http://crossfitchaparral.com/event/crossfit-class-7/2026-08-12/
CATEGORIES:CrossFit Class
END:VEVENT
BEGIN:VEVENT
DTSTART;TZID=UTC:20260813T050000
DTEND;TZID=UTC:20260813T063000
DTSTAMP:20260425T195449
CREATED:20251027T163822Z
LAST-MODIFIED:20251027T164423Z
UID:10000209-1786597200-1786602600@crossfitchaparral.com
SUMMARY:AoG
DESCRIPTION:
URL:http://crossfitchaparral.com/event/aog/2026-08-13/
LOCATION:CrossFit Chaparral\, 6451 E Shea Blvd\, Scottsdale\, AZ\, 85254\, United States
CATEGORIES:AoG
END:VEVENT
BEGIN:VEVENT
DTSTART;TZID=UTC:20260813T053000
DTEND;TZID=UTC:20260813T063000
DTSTAMP:20260425T195449
CREATED:20251027T164919Z
LAST-MODIFIED:20251027T164919Z
UID:10001514-1786599000-1786602600@crossfitchaparral.com
SUMMARY:CrossFit Class
DESCRIPTION:
URL:http://crossfitchaparral.com/event/crossfit-class/2026-08-13/
CATEGORIES:CrossFit Class
END:VEVENT
BEGIN:VEVENT
DTSTART;TZID=UTC:20260813T063000
DTEND;TZID=UTC:20260813T193000
DTSTAMP:20260425T195449
CREATED:20251027T165009Z
LAST-MODIFIED:20251027T165009Z
UID:10002819-1786602600-1786649400@crossfitchaparral.com
SUMMARY:CrossFit Class
DESCRIPTION:
URL:http://crossfitchaparral.com/event/crossfit-class-2/2026-08-13/
CATEGORIES:CrossFit Class
END:VEVENT
BEGIN:VEVENT
DTSTART;TZID=UTC:20260813T083000
DTEND;TZID=UTC:20260813T093000
DTSTAMP:20260425T195449
CREATED:20251027T165150Z
LAST-MODIFIED:20251027T165500Z
UID:10004562-1786609800-1786613400@crossfitchaparral.com
SUMMARY:Open Gym
DESCRIPTION:
URL:http://crossfitchaparral.com/event/open-gym/2026-08-13/
CATEGORIES:Open Gym
END:VEVENT
BEGIN:VEVENT
DTSTART;TZID=UTC:20260813T163000
DTEND;TZID=UTC:20260813T173000
DTSTAMP:20260425T195449
CREATED:20251027T165935Z
LAST-MODIFIED:20251027T165935Z
UID:10006995-1786638600-1786642200@crossfitchaparral.com
SUMMARY:CrossFit Class
DESCRIPTION:
URL:http://crossfitchaparral.com/event/crossfit-class-5/2026-08-13/
CATEGORIES:CrossFit Class
END:VEVENT
BEGIN:VEVENT
DTSTART;TZID=UTC:20260813T173000
DTEND;TZID=UTC:20260813T183000
DTSTAMP:20260425T195449
CREATED:20251027T170752Z
LAST-MODIFIED:20251027T170752Z
UID:10008300-1786642200-1786645800@crossfitchaparral.com
SUMMARY:CrossFit Class
DESCRIPTION:
URL:http://crossfitchaparral.com/event/crossfit-class-6/2026-08-13/
CATEGORIES:CrossFit Class
END:VEVENT
BEGIN:VEVENT
DTSTART;TZID=UTC:20260813T183000
DTEND;TZID=UTC:20260813T193000
DTSTAMP:20260425T195449
CREATED:20251027T170840Z
LAST-MODIFIED:20251027T170858Z
UID:10009564-1786645800-1786649400@crossfitchaparral.com
SUMMARY:CrossFit Class
DESCRIPTION:
URL:http://crossfitchaparral.com/event/crossfit-class-7/2026-08-13/
CATEGORIES:CrossFit Class
END:VEVENT
BEGIN:VEVENT
DTSTART;TZID=UTC:20260814T050000
DTEND;TZID=UTC:20260814T063000
DTSTAMP:20260425T195449
CREATED:20251027T163822Z
LAST-MODIFIED:20251027T164423Z
UID:10000210-1786683600-1786689000@crossfitchaparral.com
SUMMARY:AoG
DESCRIPTION:
URL:http://crossfitchaparral.com/event/aog/2026-08-14/
LOCATION:CrossFit Chaparral\, 6451 E Shea Blvd\, Scottsdale\, AZ\, 85254\, United States
CATEGORIES:AoG
END:VEVENT
BEGIN:VEVENT
DTSTART;TZID=UTC:20260814T053000
DTEND;TZID=UTC:20260814T063000
DTSTAMP:20260425T195449
CREATED:20251027T164919Z
LAST-MODIFIED:20251027T164919Z
UID:10001515-1786685400-1786689000@crossfitchaparral.com
SUMMARY:CrossFit Class
DESCRIPTION:
URL:http://crossfitchaparral.com/event/crossfit-class/2026-08-14/
CATEGORIES:CrossFit Class
END:VEVENT
BEGIN:VEVENT
DTSTART;TZID=UTC:20260814T063000
DTEND;TZID=UTC:20260814T193000
DTSTAMP:20260425T195449
CREATED:20251027T165009Z
LAST-MODIFIED:20251027T165009Z
UID:10002820-1786689000-1786735800@crossfitchaparral.com
SUMMARY:CrossFit Class
DESCRIPTION:
URL:http://crossfitchaparral.com/event/crossfit-class-2/2026-08-14/
CATEGORIES:CrossFit Class
END:VEVENT
BEGIN:VEVENT
DTSTART;TZID=UTC:20260814T083000
DTEND;TZID=UTC:20260814T093000
DTSTAMP:20260425T195449
CREATED:20251027T165257Z
LAST-MODIFIED:20251027T165257Z
UID:10005262-1786696200-1786699800@crossfitchaparral.com
SUMMARY:CrossFit Class
DESCRIPTION:
URL:http://crossfitchaparral.com/event/crossfit-class-3/2026-08-14/
CATEGORIES:CrossFit Class
END:VEVENT
BEGIN:VEVENT
DTSTART;TZID=UTC:20260814T163000
DTEND;TZID=UTC:20260814T173000
DTSTAMP:20260425T195449
CREATED:20251027T165935Z
LAST-MODIFIED:20251027T165935Z
UID:10006996-1786725000-1786728600@crossfitchaparral.com
SUMMARY:CrossFit Class
DESCRIPTION:
URL:http://crossfitchaparral.com/event/crossfit-class-5/2026-08-14/
CATEGORIES:CrossFit Class
END:VEVENT
BEGIN:VEVENT
DTSTART;TZID=UTC:20260814T173000
DTEND;TZID=UTC:20260814T183000
DTSTAMP:20260425T195449
CREATED:20251027T170752Z
LAST-MODIFIED:20251027T170752Z
UID:10008301-1786728600-1786732200@crossfitchaparral.com
SUMMARY:CrossFit Class
DESCRIPTION:
URL:http://crossfitchaparral.com/event/crossfit-class-6/2026-08-14/
CATEGORIES:CrossFit Class
END:VEVENT
BEGIN:VEVENT
DTSTART;TZID=UTC:20260815T080000
DTEND;TZID=UTC:20260815T090000
DTSTAMP:20260425T195449
CREATED:20251027T165352Z
LAST-MODIFIED:20251027T165352Z
UID:10005523-1786780800-1786784400@crossfitchaparral.com
SUMMARY:CrossFit Class
DESCRIPTION:
URL:http://crossfitchaparral.com/event/crossfit-class-4/2026-08-15/
CATEGORIES:CrossFit Class
END:VEVENT
BEGIN:VEVENT
DTSTART;TZID=UTC:20260815T090000
DTEND;TZID=UTC:20260815T100000
DTSTAMP:20260425T195449
CREATED:20251027T165557Z
LAST-MODIFIED:20251027T165557Z
UID:10005784-1786784400-1786788000@crossfitchaparral.com
SUMMARY:Open Gym
DESCRIPTION:
URL:http://crossfitchaparral.com/event/open-gym-2/2026-08-15/
CATEGORIES:Open Gym
END:VEVENT
BEGIN:VEVENT
DTSTART;TZID=UTC:20260816T130000
DTEND;TZID=UTC:20260816T143000
DTSTAMP:20260425T195449
CREATED:20251027T165734Z
LAST-MODIFIED:20251027T165734Z
UID:10006045-1786885200-1786890600@crossfitchaparral.com
SUMMARY:Fit for the Cross
DESCRIPTION:
URL:http://crossfitchaparral.com/event/fit-for-the-cross/2026-08-16/
CATEGORIES:Fit for the Cross
END:VEVENT
END:VCALENDAR