BEGIN:VCALENDAR
VERSION:2.0
PRODID:-//CrossFit Chaparral - ECPv6.15.10//NONSGML v1.0//EN
CALSCALE:GREGORIAN
METHOD:PUBLISH
X-WR-CALNAME:CrossFit Chaparral
X-ORIGINAL-URL:http://crossfitchaparral.com
X-WR-CALDESC:Events for CrossFit Chaparral
REFRESH-INTERVAL;VALUE=DURATION:PT1H
X-Robots-Tag:noindex
X-PUBLISHED-TTL:PT1H
BEGIN:VTIMEZONE
TZID:UTC
BEGIN:STANDARD
TZOFFSETFROM:+0000
TZOFFSETTO:+0000
TZNAME:UTC
DTSTART:20250101T000000
END:STANDARD
END:VTIMEZONE
BEGIN:VEVENT
DTSTART;TZID=UTC:20260826T173000
DTEND;TZID=UTC:20260826T183000
DTSTAMP:20260426T000255
CREATED:20251027T170752Z
LAST-MODIFIED:20251027T170752Z
UID:10008309-1787765400-1787769000@crossfitchaparral.com
SUMMARY:CrossFit Class
DESCRIPTION:
URL:http://crossfitchaparral.com/event/crossfit-class-6/2026-08-26/
CATEGORIES:CrossFit Class
END:VEVENT
BEGIN:VEVENT
DTSTART;TZID=UTC:20260826T183000
DTEND;TZID=UTC:20260826T193000
DTSTAMP:20260426T000255
CREATED:20251027T170840Z
LAST-MODIFIED:20251027T170858Z
UID:10009571-1787769000-1787772600@crossfitchaparral.com
SUMMARY:CrossFit Class
DESCRIPTION:
URL:http://crossfitchaparral.com/event/crossfit-class-7/2026-08-26/
CATEGORIES:CrossFit Class
END:VEVENT
BEGIN:VEVENT
DTSTART;TZID=UTC:20260827T050000
DTEND;TZID=UTC:20260827T063000
DTSTAMP:20260426T000255
CREATED:20251027T163822Z
LAST-MODIFIED:20251027T164423Z
UID:10000219-1787806800-1787812200@crossfitchaparral.com
SUMMARY:AoG
DESCRIPTION:
URL:http://crossfitchaparral.com/event/aog/2026-08-27/
LOCATION:CrossFit Chaparral\, 6451 E Shea Blvd\, Scottsdale\, AZ\, 85254\, United States
CATEGORIES:AoG
END:VEVENT
BEGIN:VEVENT
DTSTART;TZID=UTC:20260827T053000
DTEND;TZID=UTC:20260827T063000
DTSTAMP:20260426T000255
CREATED:20251027T164919Z
LAST-MODIFIED:20251027T164919Z
UID:10001524-1787808600-1787812200@crossfitchaparral.com
SUMMARY:CrossFit Class
DESCRIPTION:
URL:http://crossfitchaparral.com/event/crossfit-class/2026-08-27/
CATEGORIES:CrossFit Class
END:VEVENT
BEGIN:VEVENT
DTSTART;TZID=UTC:20260827T063000
DTEND;TZID=UTC:20260827T193000
DTSTAMP:20260426T000255
CREATED:20251027T165009Z
LAST-MODIFIED:20251027T165009Z
UID:10002829-1787812200-1787859000@crossfitchaparral.com
SUMMARY:CrossFit Class
DESCRIPTION:
URL:http://crossfitchaparral.com/event/crossfit-class-2/2026-08-27/
CATEGORIES:CrossFit Class
END:VEVENT
BEGIN:VEVENT
DTSTART;TZID=UTC:20260827T083000
DTEND;TZID=UTC:20260827T093000
DTSTAMP:20260426T000255
CREATED:20251027T165150Z
LAST-MODIFIED:20251027T165500Z
UID:10004568-1787819400-1787823000@crossfitchaparral.com
SUMMARY:Open Gym
DESCRIPTION:
URL:http://crossfitchaparral.com/event/open-gym/2026-08-27/
CATEGORIES:Open Gym
END:VEVENT
BEGIN:VEVENT
DTSTART;TZID=UTC:20260827T163000
DTEND;TZID=UTC:20260827T173000
DTSTAMP:20260426T000255
CREATED:20251027T165935Z
LAST-MODIFIED:20251027T165935Z
UID:10007005-1787848200-1787851800@crossfitchaparral.com
SUMMARY:CrossFit Class
DESCRIPTION:
URL:http://crossfitchaparral.com/event/crossfit-class-5/2026-08-27/
CATEGORIES:CrossFit Class
END:VEVENT
BEGIN:VEVENT
DTSTART;TZID=UTC:20260827T173000
DTEND;TZID=UTC:20260827T183000
DTSTAMP:20260426T000255
CREATED:20251027T170752Z
LAST-MODIFIED:20251027T170752Z
UID:10008310-1787851800-1787855400@crossfitchaparral.com
SUMMARY:CrossFit Class
DESCRIPTION:
URL:http://crossfitchaparral.com/event/crossfit-class-6/2026-08-27/
CATEGORIES:CrossFit Class
END:VEVENT
BEGIN:VEVENT
DTSTART;TZID=UTC:20260827T183000
DTEND;TZID=UTC:20260827T193000
DTSTAMP:20260426T000255
CREATED:20251027T170840Z
LAST-MODIFIED:20251027T170858Z
UID:10009572-1787855400-1787859000@crossfitchaparral.com
SUMMARY:CrossFit Class
DESCRIPTION:
URL:http://crossfitchaparral.com/event/crossfit-class-7/2026-08-27/
CATEGORIES:CrossFit Class
END:VEVENT
BEGIN:VEVENT
DTSTART;TZID=UTC:20260828T050000
DTEND;TZID=UTC:20260828T063000
DTSTAMP:20260426T000255
CREATED:20251027T163822Z
LAST-MODIFIED:20251027T164423Z
UID:10000220-1787893200-1787898600@crossfitchaparral.com
SUMMARY:AoG
DESCRIPTION:
URL:http://crossfitchaparral.com/event/aog/2026-08-28/
LOCATION:CrossFit Chaparral\, 6451 E Shea Blvd\, Scottsdale\, AZ\, 85254\, United States
CATEGORIES:AoG
END:VEVENT
BEGIN:VEVENT
DTSTART;TZID=UTC:20260828T053000
DTEND;TZID=UTC:20260828T063000
DTSTAMP:20260426T000255
CREATED:20251027T164919Z
LAST-MODIFIED:20251027T164919Z
UID:10001525-1787895000-1787898600@crossfitchaparral.com
SUMMARY:CrossFit Class
DESCRIPTION:
URL:http://crossfitchaparral.com/event/crossfit-class/2026-08-28/
CATEGORIES:CrossFit Class
END:VEVENT
BEGIN:VEVENT
DTSTART;TZID=UTC:20260828T063000
DTEND;TZID=UTC:20260828T193000
DTSTAMP:20260426T000255
CREATED:20251027T165009Z
LAST-MODIFIED:20251027T165009Z
UID:10002830-1787898600-1787945400@crossfitchaparral.com
SUMMARY:CrossFit Class
DESCRIPTION:
URL:http://crossfitchaparral.com/event/crossfit-class-2/2026-08-28/
CATEGORIES:CrossFit Class
END:VEVENT
BEGIN:VEVENT
DTSTART;TZID=UTC:20260828T083000
DTEND;TZID=UTC:20260828T093000
DTSTAMP:20260426T000255
CREATED:20251027T165257Z
LAST-MODIFIED:20251027T165257Z
UID:10005264-1787905800-1787909400@crossfitchaparral.com
SUMMARY:CrossFit Class
DESCRIPTION:
URL:http://crossfitchaparral.com/event/crossfit-class-3/2026-08-28/
CATEGORIES:CrossFit Class
END:VEVENT
BEGIN:VEVENT
DTSTART;TZID=UTC:20260828T163000
DTEND;TZID=UTC:20260828T173000
DTSTAMP:20260426T000255
CREATED:20251027T165935Z
LAST-MODIFIED:20251027T165935Z
UID:10007006-1787934600-1787938200@crossfitchaparral.com
SUMMARY:CrossFit Class
DESCRIPTION:
URL:http://crossfitchaparral.com/event/crossfit-class-5/2026-08-28/
CATEGORIES:CrossFit Class
END:VEVENT
BEGIN:VEVENT
DTSTART;TZID=UTC:20260828T173000
DTEND;TZID=UTC:20260828T183000
DTSTAMP:20260426T000255
CREATED:20251027T170752Z
LAST-MODIFIED:20251027T170752Z
UID:10008311-1787938200-1787941800@crossfitchaparral.com
SUMMARY:CrossFit Class
DESCRIPTION:
URL:http://crossfitchaparral.com/event/crossfit-class-6/2026-08-28/
CATEGORIES:CrossFit Class
END:VEVENT
BEGIN:VEVENT
DTSTART;TZID=UTC:20260829T080000
DTEND;TZID=UTC:20260829T090000
DTSTAMP:20260426T000255
CREATED:20251027T165352Z
LAST-MODIFIED:20251027T165352Z
UID:10005525-1787990400-1787994000@crossfitchaparral.com
SUMMARY:CrossFit Class
DESCRIPTION:
URL:http://crossfitchaparral.com/event/crossfit-class-4/2026-08-29/
CATEGORIES:CrossFit Class
END:VEVENT
BEGIN:VEVENT
DTSTART;TZID=UTC:20260829T090000
DTEND;TZID=UTC:20260829T100000
DTSTAMP:20260426T000255
CREATED:20251027T165557Z
LAST-MODIFIED:20251027T165557Z
UID:10005786-1787994000-1787997600@crossfitchaparral.com
SUMMARY:Open Gym
DESCRIPTION:
URL:http://crossfitchaparral.com/event/open-gym-2/2026-08-29/
CATEGORIES:Open Gym
END:VEVENT
BEGIN:VEVENT
DTSTART;TZID=UTC:20260830T130000
DTEND;TZID=UTC:20260830T143000
DTSTAMP:20260426T000255
CREATED:20251027T165734Z
LAST-MODIFIED:20251027T165734Z
UID:10006047-1788094800-1788100200@crossfitchaparral.com
SUMMARY:Fit for the Cross
DESCRIPTION:
URL:http://crossfitchaparral.com/event/fit-for-the-cross/2026-08-30/
CATEGORIES:Fit for the Cross
END:VEVENT
BEGIN:VEVENT
DTSTART;TZID=UTC:20260830T140000
DTEND;TZID=UTC:20260830T153000
DTSTAMP:20260426T000255
CREATED:20251027T165811Z
LAST-MODIFIED:20251110T161105Z
UID:10010746-1788098400-1788103800@crossfitchaparral.com
SUMMARY:Open Gym
DESCRIPTION:
URL:http://crossfitchaparral.com/event/open-gym-3/2026-08-30/
CATEGORIES:Open Gym
END:VEVENT
BEGIN:VEVENT
DTSTART;TZID=UTC:20260831T050000
DTEND;TZID=UTC:20260831T063000
DTSTAMP:20260426T000255
CREATED:20251027T163822Z
LAST-MODIFIED:20251027T164423Z
UID:10000221-1788152400-1788157800@crossfitchaparral.com
SUMMARY:AoG
DESCRIPTION:
URL:http://crossfitchaparral.com/event/aog/2026-08-31/
LOCATION:CrossFit Chaparral\, 6451 E Shea Blvd\, Scottsdale\, AZ\, 85254\, United States
CATEGORIES:AoG
END:VEVENT
BEGIN:VEVENT
DTSTART;TZID=UTC:20260831T053000
DTEND;TZID=UTC:20260831T063000
DTSTAMP:20260426T000255
CREATED:20251027T164919Z
LAST-MODIFIED:20251027T164919Z
UID:10001526-1788154200-1788157800@crossfitchaparral.com
SUMMARY:CrossFit Class
DESCRIPTION:
URL:http://crossfitchaparral.com/event/crossfit-class/2026-08-31/
CATEGORIES:CrossFit Class
END:VEVENT
BEGIN:VEVENT
DTSTART;TZID=UTC:20260831T063000
DTEND;TZID=UTC:20260831T193000
DTSTAMP:20260426T000255
CREATED:20251027T165009Z
LAST-MODIFIED:20251027T165009Z
UID:10002831-1788157800-1788204600@crossfitchaparral.com
SUMMARY:CrossFit Class
DESCRIPTION:
URL:http://crossfitchaparral.com/event/crossfit-class-2/2026-08-31/
CATEGORIES:CrossFit Class
END:VEVENT
BEGIN:VEVENT
DTSTART;TZID=UTC:20260831T083000
DTEND;TZID=UTC:20260831T091500
DTSTAMP:20260426T000255
CREATED:20251027T165103Z
LAST-MODIFIED:20251218T164423Z
UID:10011583-1788165000-1788167700@crossfitchaparral.com
SUMMARY:H.I.I.T
DESCRIPTION:
URL:http://crossfitchaparral.com/event/h-i-i-t/2026-08-31/
CATEGORIES:H.I.I.T
END:VEVENT
BEGIN:VEVENT
DTSTART;TZID=UTC:20260831T153000
DTEND;TZID=UTC:20260831T163000
DTSTAMP:20260426T000255
CREATED:20251027T165854Z
LAST-MODIFIED:20251027T165854Z
UID:10006570-1788190200-1788193800@crossfitchaparral.com
SUMMARY:CrossFit Kids
DESCRIPTION:
URL:http://crossfitchaparral.com/event/crossfit-kids/2026-08-31/
CATEGORIES:CrossFit Kids
END:VEVENT
BEGIN:VEVENT
DTSTART;TZID=UTC:20260831T163000
DTEND;TZID=UTC:20260831T173000
DTSTAMP:20260426T000255
CREATED:20251027T165935Z
LAST-MODIFIED:20251027T165935Z
UID:10007007-1788193800-1788197400@crossfitchaparral.com
SUMMARY:CrossFit Class
DESCRIPTION:
URL:http://crossfitchaparral.com/event/crossfit-class-5/2026-08-31/
CATEGORIES:CrossFit Class
END:VEVENT
BEGIN:VEVENT
DTSTART;TZID=UTC:20260831T173000
DTEND;TZID=UTC:20260831T183000
DTSTAMP:20260426T000255
CREATED:20251027T170752Z
LAST-MODIFIED:20251027T170752Z
UID:10008312-1788197400-1788201000@crossfitchaparral.com
SUMMARY:CrossFit Class
DESCRIPTION:
URL:http://crossfitchaparral.com/event/crossfit-class-6/2026-08-31/
CATEGORIES:CrossFit Class
END:VEVENT
BEGIN:VEVENT
DTSTART;TZID=UTC:20260831T183000
DTEND;TZID=UTC:20260831T193000
DTSTAMP:20260426T000255
CREATED:20251027T170840Z
LAST-MODIFIED:20251027T170858Z
UID:10009573-1788201000-1788204600@crossfitchaparral.com
SUMMARY:CrossFit Class
DESCRIPTION:
URL:http://crossfitchaparral.com/event/crossfit-class-7/2026-08-31/
CATEGORIES:CrossFit Class
END:VEVENT
BEGIN:VEVENT
DTSTART;TZID=UTC:20260901T050000
DTEND;TZID=UTC:20260901T063000
DTSTAMP:20260426T000255
CREATED:20251027T163822Z
LAST-MODIFIED:20251027T164423Z
UID:10000222-1788238800-1788244200@crossfitchaparral.com
SUMMARY:AoG
DESCRIPTION:
URL:http://crossfitchaparral.com/event/aog/2026-09-01/
LOCATION:CrossFit Chaparral\, 6451 E Shea Blvd\, Scottsdale\, AZ\, 85254\, United States
CATEGORIES:AoG
END:VEVENT
BEGIN:VEVENT
DTSTART;TZID=UTC:20260901T053000
DTEND;TZID=UTC:20260901T063000
DTSTAMP:20260426T000255
CREATED:20251027T164919Z
LAST-MODIFIED:20251027T164919Z
UID:10001527-1788240600-1788244200@crossfitchaparral.com
SUMMARY:CrossFit Class
DESCRIPTION:
URL:http://crossfitchaparral.com/event/crossfit-class/2026-09-01/
CATEGORIES:CrossFit Class
END:VEVENT
BEGIN:VEVENT
DTSTART;TZID=UTC:20260901T063000
DTEND;TZID=UTC:20260901T193000
DTSTAMP:20260426T000255
CREATED:20251027T165009Z
LAST-MODIFIED:20251027T165009Z
UID:10002832-1788244200-1788291000@crossfitchaparral.com
SUMMARY:CrossFit Class
DESCRIPTION:
URL:http://crossfitchaparral.com/event/crossfit-class-2/2026-09-01/
CATEGORIES:CrossFit Class
END:VEVENT
END:VCALENDAR