BEGIN:VCALENDAR
VERSION:2.0
PRODID:-//CrossFit Chaparral - ECPv6.15.10//NONSGML v1.0//EN
CALSCALE:GREGORIAN
METHOD:PUBLISH
X-ORIGINAL-URL:http://crossfitchaparral.com
X-WR-CALDESC:Events for CrossFit Chaparral
REFRESH-INTERVAL;VALUE=DURATION:PT1H
X-Robots-Tag:noindex
X-PUBLISHED-TTL:PT1H
BEGIN:VTIMEZONE
TZID:UTC
BEGIN:STANDARD
TZOFFSETFROM:+0000
TZOFFSETTO:+0000
TZNAME:UTC
DTSTART:20250101T000000
END:STANDARD
END:VTIMEZONE
BEGIN:VEVENT
DTSTART;TZID=UTC:20260721T163000
DTEND;TZID=UTC:20260721T173000
DTSTAMP:20260423T071142
CREATED:20251027T165935Z
LAST-MODIFIED:20251027T165935Z
UID:10006978-1784651400-1784655000@crossfitchaparral.com
SUMMARY:CrossFit Class
DESCRIPTION:
URL:http://crossfitchaparral.com/event/crossfit-class-5/2026-07-21/
CATEGORIES:CrossFit Class
END:VEVENT
BEGIN:VEVENT
DTSTART;TZID=UTC:20260721T173000
DTEND;TZID=UTC:20260721T183000
DTSTAMP:20260423T071142
CREATED:20251027T170752Z
LAST-MODIFIED:20251027T170752Z
UID:10008283-1784655000-1784658600@crossfitchaparral.com
SUMMARY:CrossFit Class
DESCRIPTION:
URL:http://crossfitchaparral.com/event/crossfit-class-6/2026-07-21/
CATEGORIES:CrossFit Class
END:VEVENT
BEGIN:VEVENT
DTSTART;TZID=UTC:20260721T183000
DTEND;TZID=UTC:20260721T193000
DTSTAMP:20260423T071142
CREATED:20251027T170840Z
LAST-MODIFIED:20251027T170858Z
UID:10009550-1784658600-1784662200@crossfitchaparral.com
SUMMARY:CrossFit Class
DESCRIPTION:
URL:http://crossfitchaparral.com/event/crossfit-class-7/2026-07-21/
CATEGORIES:CrossFit Class
END:VEVENT
BEGIN:VEVENT
DTSTART;TZID=UTC:20260722T050000
DTEND;TZID=UTC:20260722T063000
DTSTAMP:20260423T071142
CREATED:20251027T163822Z
LAST-MODIFIED:20251027T164423Z
UID:10000193-1784696400-1784701800@crossfitchaparral.com
SUMMARY:AoG
DESCRIPTION:
URL:http://crossfitchaparral.com/event/aog/2026-07-22/
LOCATION:CrossFit Chaparral\, 6451 E Shea Blvd\, Scottsdale\, AZ\, 85254\, United States
CATEGORIES:AoG
END:VEVENT
BEGIN:VEVENT
DTSTART;TZID=UTC:20260722T053000
DTEND;TZID=UTC:20260722T063000
DTSTAMP:20260423T071142
CREATED:20251027T164919Z
LAST-MODIFIED:20251027T164919Z
UID:10001498-1784698200-1784701800@crossfitchaparral.com
SUMMARY:CrossFit Class
DESCRIPTION:
URL:http://crossfitchaparral.com/event/crossfit-class/2026-07-22/
CATEGORIES:CrossFit Class
END:VEVENT
BEGIN:VEVENT
DTSTART;TZID=UTC:20260722T063000
DTEND;TZID=UTC:20260722T193000
DTSTAMP:20260423T071142
CREATED:20251027T165009Z
LAST-MODIFIED:20251027T165009Z
UID:10002803-1784701800-1784748600@crossfitchaparral.com
SUMMARY:CrossFit Class
DESCRIPTION:
URL:http://crossfitchaparral.com/event/crossfit-class-2/2026-07-22/
CATEGORIES:CrossFit Class
END:VEVENT
BEGIN:VEVENT
DTSTART;TZID=UTC:20260722T083000
DTEND;TZID=UTC:20260722T091500
DTSTAMP:20260423T071142
CREATED:20251027T165103Z
LAST-MODIFIED:20251218T164423Z
UID:10011572-1784709000-1784711700@crossfitchaparral.com
SUMMARY:H.I.I.T
DESCRIPTION:
URL:http://crossfitchaparral.com/event/h-i-i-t/2026-07-22/
CATEGORIES:H.I.I.T
END:VEVENT
BEGIN:VEVENT
DTSTART;TZID=UTC:20260722T163000
DTEND;TZID=UTC:20260722T173000
DTSTAMP:20260423T071142
CREATED:20251027T165935Z
LAST-MODIFIED:20251027T165935Z
UID:10006979-1784737800-1784741400@crossfitchaparral.com
SUMMARY:CrossFit Class
DESCRIPTION:
URL:http://crossfitchaparral.com/event/crossfit-class-5/2026-07-22/
CATEGORIES:CrossFit Class
END:VEVENT
BEGIN:VEVENT
DTSTART;TZID=UTC:20260722T173000
DTEND;TZID=UTC:20260722T183000
DTSTAMP:20260423T071142
CREATED:20251027T170752Z
LAST-MODIFIED:20251027T170752Z
UID:10008284-1784741400-1784745000@crossfitchaparral.com
SUMMARY:CrossFit Class
DESCRIPTION:
URL:http://crossfitchaparral.com/event/crossfit-class-6/2026-07-22/
CATEGORIES:CrossFit Class
END:VEVENT
BEGIN:VEVENT
DTSTART;TZID=UTC:20260722T183000
DTEND;TZID=UTC:20260722T193000
DTSTAMP:20260423T071142
CREATED:20251027T170840Z
LAST-MODIFIED:20251027T170858Z
UID:10009551-1784745000-1784748600@crossfitchaparral.com
SUMMARY:CrossFit Class
DESCRIPTION:
URL:http://crossfitchaparral.com/event/crossfit-class-7/2026-07-22/
CATEGORIES:CrossFit Class
END:VEVENT
BEGIN:VEVENT
DTSTART;TZID=UTC:20260723T050000
DTEND;TZID=UTC:20260723T063000
DTSTAMP:20260423T071142
CREATED:20251027T163822Z
LAST-MODIFIED:20251027T164423Z
UID:10000194-1784782800-1784788200@crossfitchaparral.com
SUMMARY:AoG
DESCRIPTION:
URL:http://crossfitchaparral.com/event/aog/2026-07-23/
LOCATION:CrossFit Chaparral\, 6451 E Shea Blvd\, Scottsdale\, AZ\, 85254\, United States
CATEGORIES:AoG
END:VEVENT
BEGIN:VEVENT
DTSTART;TZID=UTC:20260723T053000
DTEND;TZID=UTC:20260723T063000
DTSTAMP:20260423T071142
CREATED:20251027T164919Z
LAST-MODIFIED:20251027T164919Z
UID:10001499-1784784600-1784788200@crossfitchaparral.com
SUMMARY:CrossFit Class
DESCRIPTION:
URL:http://crossfitchaparral.com/event/crossfit-class/2026-07-23/
CATEGORIES:CrossFit Class
END:VEVENT
BEGIN:VEVENT
DTSTART;TZID=UTC:20260723T063000
DTEND;TZID=UTC:20260723T193000
DTSTAMP:20260423T071142
CREATED:20251027T165009Z
LAST-MODIFIED:20251027T165009Z
UID:10002804-1784788200-1784835000@crossfitchaparral.com
SUMMARY:CrossFit Class
DESCRIPTION:
URL:http://crossfitchaparral.com/event/crossfit-class-2/2026-07-23/
CATEGORIES:CrossFit Class
END:VEVENT
BEGIN:VEVENT
DTSTART;TZID=UTC:20260723T083000
DTEND;TZID=UTC:20260723T093000
DTSTAMP:20260423T071142
CREATED:20251027T165150Z
LAST-MODIFIED:20251027T165500Z
UID:10004553-1784795400-1784799000@crossfitchaparral.com
SUMMARY:Open Gym
DESCRIPTION:
URL:http://crossfitchaparral.com/event/open-gym/2026-07-23/
CATEGORIES:Open Gym
END:VEVENT
BEGIN:VEVENT
DTSTART;TZID=UTC:20260723T163000
DTEND;TZID=UTC:20260723T173000
DTSTAMP:20260423T071142
CREATED:20251027T165935Z
LAST-MODIFIED:20251027T165935Z
UID:10006980-1784824200-1784827800@crossfitchaparral.com
SUMMARY:CrossFit Class
DESCRIPTION:
URL:http://crossfitchaparral.com/event/crossfit-class-5/2026-07-23/
CATEGORIES:CrossFit Class
END:VEVENT
BEGIN:VEVENT
DTSTART;TZID=UTC:20260723T173000
DTEND;TZID=UTC:20260723T183000
DTSTAMP:20260423T071142
CREATED:20251027T170752Z
LAST-MODIFIED:20251027T170752Z
UID:10008285-1784827800-1784831400@crossfitchaparral.com
SUMMARY:CrossFit Class
DESCRIPTION:
URL:http://crossfitchaparral.com/event/crossfit-class-6/2026-07-23/
CATEGORIES:CrossFit Class
END:VEVENT
BEGIN:VEVENT
DTSTART;TZID=UTC:20260723T183000
DTEND;TZID=UTC:20260723T193000
DTSTAMP:20260423T071142
CREATED:20251027T170840Z
LAST-MODIFIED:20251027T170858Z
UID:10009552-1784831400-1784835000@crossfitchaparral.com
SUMMARY:CrossFit Class
DESCRIPTION:
URL:http://crossfitchaparral.com/event/crossfit-class-7/2026-07-23/
CATEGORIES:CrossFit Class
END:VEVENT
BEGIN:VEVENT
DTSTART;TZID=UTC:20260724T050000
DTEND;TZID=UTC:20260724T063000
DTSTAMP:20260423T071142
CREATED:20251027T163822Z
LAST-MODIFIED:20251027T164423Z
UID:10000195-1784869200-1784874600@crossfitchaparral.com
SUMMARY:AoG
DESCRIPTION:
URL:http://crossfitchaparral.com/event/aog/2026-07-24/
LOCATION:CrossFit Chaparral\, 6451 E Shea Blvd\, Scottsdale\, AZ\, 85254\, United States
CATEGORIES:AoG
END:VEVENT
BEGIN:VEVENT
DTSTART;TZID=UTC:20260724T053000
DTEND;TZID=UTC:20260724T063000
DTSTAMP:20260423T071142
CREATED:20251027T164919Z
LAST-MODIFIED:20251027T164919Z
UID:10001500-1784871000-1784874600@crossfitchaparral.com
SUMMARY:CrossFit Class
DESCRIPTION:
URL:http://crossfitchaparral.com/event/crossfit-class/2026-07-24/
CATEGORIES:CrossFit Class
END:VEVENT
BEGIN:VEVENT
DTSTART;TZID=UTC:20260724T063000
DTEND;TZID=UTC:20260724T193000
DTSTAMP:20260423T071142
CREATED:20251027T165009Z
LAST-MODIFIED:20251027T165009Z
UID:10002805-1784874600-1784921400@crossfitchaparral.com
SUMMARY:CrossFit Class
DESCRIPTION:
URL:http://crossfitchaparral.com/event/crossfit-class-2/2026-07-24/
CATEGORIES:CrossFit Class
END:VEVENT
BEGIN:VEVENT
DTSTART;TZID=UTC:20260724T083000
DTEND;TZID=UTC:20260724T093000
DTSTAMP:20260423T071142
CREATED:20251027T165257Z
LAST-MODIFIED:20251027T165257Z
UID:10005259-1784881800-1784885400@crossfitchaparral.com
SUMMARY:CrossFit Class
DESCRIPTION:
URL:http://crossfitchaparral.com/event/crossfit-class-3/2026-07-24/
CATEGORIES:CrossFit Class
END:VEVENT
BEGIN:VEVENT
DTSTART;TZID=UTC:20260724T163000
DTEND;TZID=UTC:20260724T173000
DTSTAMP:20260423T071142
CREATED:20251027T165935Z
LAST-MODIFIED:20251027T165935Z
UID:10006981-1784910600-1784914200@crossfitchaparral.com
SUMMARY:CrossFit Class
DESCRIPTION:
URL:http://crossfitchaparral.com/event/crossfit-class-5/2026-07-24/
CATEGORIES:CrossFit Class
END:VEVENT
BEGIN:VEVENT
DTSTART;TZID=UTC:20260724T173000
DTEND;TZID=UTC:20260724T183000
DTSTAMP:20260423T071142
CREATED:20251027T170752Z
LAST-MODIFIED:20251027T170752Z
UID:10008286-1784914200-1784917800@crossfitchaparral.com
SUMMARY:CrossFit Class
DESCRIPTION:
URL:http://crossfitchaparral.com/event/crossfit-class-6/2026-07-24/
CATEGORIES:CrossFit Class
END:VEVENT
BEGIN:VEVENT
DTSTART;TZID=UTC:20260725T080000
DTEND;TZID=UTC:20260725T090000
DTSTAMP:20260423T071142
CREATED:20251027T165352Z
LAST-MODIFIED:20251027T165352Z
UID:10005520-1784966400-1784970000@crossfitchaparral.com
SUMMARY:CrossFit Class
DESCRIPTION:
URL:http://crossfitchaparral.com/event/crossfit-class-4/2026-07-25/
CATEGORIES:CrossFit Class
END:VEVENT
BEGIN:VEVENT
DTSTART;TZID=UTC:20260725T090000
DTEND;TZID=UTC:20260725T100000
DTSTAMP:20260423T071142
CREATED:20251027T165557Z
LAST-MODIFIED:20251027T165557Z
UID:10005781-1784970000-1784973600@crossfitchaparral.com
SUMMARY:Open Gym
DESCRIPTION:
URL:http://crossfitchaparral.com/event/open-gym-2/2026-07-25/
CATEGORIES:Open Gym
END:VEVENT
BEGIN:VEVENT
DTSTART;TZID=UTC:20260726T130000
DTEND;TZID=UTC:20260726T143000
DTSTAMP:20260423T071142
CREATED:20251027T165734Z
LAST-MODIFIED:20251027T165734Z
UID:10006042-1785070800-1785076200@crossfitchaparral.com
SUMMARY:Fit for the Cross
DESCRIPTION:
URL:http://crossfitchaparral.com/event/fit-for-the-cross/2026-07-26/
CATEGORIES:Fit for the Cross
END:VEVENT
BEGIN:VEVENT
DTSTART;TZID=UTC:20260726T140000
DTEND;TZID=UTC:20260726T153000
DTSTAMP:20260423T071142
CREATED:20251027T165811Z
LAST-MODIFIED:20251110T161105Z
UID:10010741-1785074400-1785079800@crossfitchaparral.com
SUMMARY:Open Gym
DESCRIPTION:
URL:http://crossfitchaparral.com/event/open-gym-3/2026-07-26/
CATEGORIES:Open Gym
END:VEVENT
BEGIN:VEVENT
DTSTART;TZID=UTC:20260727T050000
DTEND;TZID=UTC:20260727T063000
DTSTAMP:20260423T071142
CREATED:20251027T163822Z
LAST-MODIFIED:20251027T164423Z
UID:10000196-1785128400-1785133800@crossfitchaparral.com
SUMMARY:AoG
DESCRIPTION:
URL:http://crossfitchaparral.com/event/aog/2026-07-27/
LOCATION:CrossFit Chaparral\, 6451 E Shea Blvd\, Scottsdale\, AZ\, 85254\, United States
CATEGORIES:AoG
END:VEVENT
BEGIN:VEVENT
DTSTART;TZID=UTC:20260727T053000
DTEND;TZID=UTC:20260727T063000
DTSTAMP:20260423T071142
CREATED:20251027T164919Z
LAST-MODIFIED:20251027T164919Z
UID:10001501-1785130200-1785133800@crossfitchaparral.com
SUMMARY:CrossFit Class
DESCRIPTION:
URL:http://crossfitchaparral.com/event/crossfit-class/2026-07-27/
CATEGORIES:CrossFit Class
END:VEVENT
BEGIN:VEVENT
DTSTART;TZID=UTC:20260727T063000
DTEND;TZID=UTC:20260727T193000
DTSTAMP:20260423T071142
CREATED:20251027T165009Z
LAST-MODIFIED:20251027T165009Z
UID:10002806-1785133800-1785180600@crossfitchaparral.com
SUMMARY:CrossFit Class
DESCRIPTION:
URL:http://crossfitchaparral.com/event/crossfit-class-2/2026-07-27/
CATEGORIES:CrossFit Class
END:VEVENT
END:VCALENDAR