BEGIN:VCALENDAR
VERSION:2.0
PRODID:-//CrossFit Chaparral - ECPv6.15.10//NONSGML v1.0//EN
CALSCALE:GREGORIAN
METHOD:PUBLISH
X-WR-CALNAME:CrossFit Chaparral
X-ORIGINAL-URL:http://crossfitchaparral.com
X-WR-CALDESC:Events for CrossFit Chaparral
REFRESH-INTERVAL;VALUE=DURATION:PT1H
X-Robots-Tag:noindex
X-PUBLISHED-TTL:PT1H
BEGIN:VTIMEZONE
TZID:UTC
BEGIN:STANDARD
TZOFFSETFROM:+0000
TZOFFSETTO:+0000
TZNAME:UTC
DTSTART:20250101T000000
END:STANDARD
END:VTIMEZONE
BEGIN:VEVENT
DTSTART;TZID=UTC:20260801T080000
DTEND;TZID=UTC:20260801T090000
DTSTAMP:20260423T054607
CREATED:20251027T165352Z
LAST-MODIFIED:20251027T165352Z
UID:10005521-1785571200-1785574800@crossfitchaparral.com
SUMMARY:CrossFit Class
DESCRIPTION:
URL:http://crossfitchaparral.com/event/crossfit-class-4/2026-08-01/
CATEGORIES:CrossFit Class
END:VEVENT
BEGIN:VEVENT
DTSTART;TZID=UTC:20260801T090000
DTEND;TZID=UTC:20260801T100000
DTSTAMP:20260423T054607
CREATED:20251027T165557Z
LAST-MODIFIED:20251027T165557Z
UID:10005782-1785574800-1785578400@crossfitchaparral.com
SUMMARY:Open Gym
DESCRIPTION:
URL:http://crossfitchaparral.com/event/open-gym-2/2026-08-01/
CATEGORIES:Open Gym
END:VEVENT
BEGIN:VEVENT
DTSTART;TZID=UTC:20260802T130000
DTEND;TZID=UTC:20260802T143000
DTSTAMP:20260423T054607
CREATED:20251027T165734Z
LAST-MODIFIED:20251027T165734Z
UID:10006043-1785675600-1785681000@crossfitchaparral.com
SUMMARY:Fit for the Cross
DESCRIPTION:
URL:http://crossfitchaparral.com/event/fit-for-the-cross/2026-08-02/
CATEGORIES:Fit for the Cross
END:VEVENT
BEGIN:VEVENT
DTSTART;TZID=UTC:20260802T140000
DTEND;TZID=UTC:20260802T153000
DTSTAMP:20260423T054607
CREATED:20251027T165811Z
LAST-MODIFIED:20251110T161105Z
UID:10010742-1785679200-1785684600@crossfitchaparral.com
SUMMARY:Open Gym
DESCRIPTION:
URL:http://crossfitchaparral.com/event/open-gym-3/2026-08-02/
CATEGORIES:Open Gym
END:VEVENT
BEGIN:VEVENT
DTSTART;TZID=UTC:20260803T050000
DTEND;TZID=UTC:20260803T063000
DTSTAMP:20260423T054607
CREATED:20251027T163822Z
LAST-MODIFIED:20251027T164423Z
UID:10000201-1785733200-1785738600@crossfitchaparral.com
SUMMARY:AoG
DESCRIPTION:
URL:http://crossfitchaparral.com/event/aog/2026-08-03/
LOCATION:CrossFit Chaparral\, 6451 E Shea Blvd\, Scottsdale\, AZ\, 85254\, United States
CATEGORIES:AoG
END:VEVENT
BEGIN:VEVENT
DTSTART;TZID=UTC:20260803T053000
DTEND;TZID=UTC:20260803T063000
DTSTAMP:20260423T054607
CREATED:20251027T164919Z
LAST-MODIFIED:20251027T164919Z
UID:10001506-1785735000-1785738600@crossfitchaparral.com
SUMMARY:CrossFit Class
DESCRIPTION:
URL:http://crossfitchaparral.com/event/crossfit-class/2026-08-03/
CATEGORIES:CrossFit Class
END:VEVENT
BEGIN:VEVENT
DTSTART;TZID=UTC:20260803T063000
DTEND;TZID=UTC:20260803T193000
DTSTAMP:20260423T054607
CREATED:20251027T165009Z
LAST-MODIFIED:20251027T165009Z
UID:10002811-1785738600-1785785400@crossfitchaparral.com
SUMMARY:CrossFit Class
DESCRIPTION:
URL:http://crossfitchaparral.com/event/crossfit-class-2/2026-08-03/
CATEGORIES:CrossFit Class
END:VEVENT
BEGIN:VEVENT
DTSTART;TZID=UTC:20260803T083000
DTEND;TZID=UTC:20260803T091500
DTSTAMP:20260423T054607
CREATED:20251027T165103Z
LAST-MODIFIED:20251218T164423Z
UID:10011575-1785745800-1785748500@crossfitchaparral.com
SUMMARY:H.I.I.T
DESCRIPTION:
URL:http://crossfitchaparral.com/event/h-i-i-t/2026-08-03/
CATEGORIES:H.I.I.T
END:VEVENT
BEGIN:VEVENT
DTSTART;TZID=UTC:20260803T153000
DTEND;TZID=UTC:20260803T163000
DTSTAMP:20260423T054607
CREATED:20251027T165854Z
LAST-MODIFIED:20251027T165854Z
UID:10006566-1785771000-1785774600@crossfitchaparral.com
SUMMARY:CrossFit Kids
DESCRIPTION:
URL:http://crossfitchaparral.com/event/crossfit-kids/2026-08-03/
CATEGORIES:CrossFit Kids
END:VEVENT
BEGIN:VEVENT
DTSTART;TZID=UTC:20260803T163000
DTEND;TZID=UTC:20260803T173000
DTSTAMP:20260423T054607
CREATED:20251027T165935Z
LAST-MODIFIED:20251027T165935Z
UID:10006987-1785774600-1785778200@crossfitchaparral.com
SUMMARY:CrossFit Class
DESCRIPTION:
URL:http://crossfitchaparral.com/event/crossfit-class-5/2026-08-03/
CATEGORIES:CrossFit Class
END:VEVENT
BEGIN:VEVENT
DTSTART;TZID=UTC:20260803T173000
DTEND;TZID=UTC:20260803T183000
DTSTAMP:20260423T054607
CREATED:20251027T170752Z
LAST-MODIFIED:20251027T170752Z
UID:10008292-1785778200-1785781800@crossfitchaparral.com
SUMMARY:CrossFit Class
DESCRIPTION:
URL:http://crossfitchaparral.com/event/crossfit-class-6/2026-08-03/
CATEGORIES:CrossFit Class
END:VEVENT
BEGIN:VEVENT
DTSTART;TZID=UTC:20260803T183000
DTEND;TZID=UTC:20260803T193000
DTSTAMP:20260423T054607
CREATED:20251027T170840Z
LAST-MODIFIED:20251027T170858Z
UID:10009557-1785781800-1785785400@crossfitchaparral.com
SUMMARY:CrossFit Class
DESCRIPTION:
URL:http://crossfitchaparral.com/event/crossfit-class-7/2026-08-03/
CATEGORIES:CrossFit Class
END:VEVENT
BEGIN:VEVENT
DTSTART;TZID=UTC:20260804T050000
DTEND;TZID=UTC:20260804T063000
DTSTAMP:20260423T054607
CREATED:20251027T163822Z
LAST-MODIFIED:20251027T164423Z
UID:10000202-1785819600-1785825000@crossfitchaparral.com
SUMMARY:AoG
DESCRIPTION:
URL:http://crossfitchaparral.com/event/aog/2026-08-04/
LOCATION:CrossFit Chaparral\, 6451 E Shea Blvd\, Scottsdale\, AZ\, 85254\, United States
CATEGORIES:AoG
END:VEVENT
BEGIN:VEVENT
DTSTART;TZID=UTC:20260804T053000
DTEND;TZID=UTC:20260804T063000
DTSTAMP:20260423T054607
CREATED:20251027T164919Z
LAST-MODIFIED:20251027T164919Z
UID:10001507-1785821400-1785825000@crossfitchaparral.com
SUMMARY:CrossFit Class
DESCRIPTION:
URL:http://crossfitchaparral.com/event/crossfit-class/2026-08-04/
CATEGORIES:CrossFit Class
END:VEVENT
BEGIN:VEVENT
DTSTART;TZID=UTC:20260804T063000
DTEND;TZID=UTC:20260804T193000
DTSTAMP:20260423T054607
CREATED:20251027T165009Z
LAST-MODIFIED:20251027T165009Z
UID:10002812-1785825000-1785871800@crossfitchaparral.com
SUMMARY:CrossFit Class
DESCRIPTION:
URL:http://crossfitchaparral.com/event/crossfit-class-2/2026-08-04/
CATEGORIES:CrossFit Class
END:VEVENT
BEGIN:VEVENT
DTSTART;TZID=UTC:20260804T083000
DTEND;TZID=UTC:20260804T093000
DTSTAMP:20260423T054607
CREATED:20251027T165150Z
LAST-MODIFIED:20251027T165500Z
UID:10004558-1785832200-1785835800@crossfitchaparral.com
SUMMARY:Open Gym
DESCRIPTION:
URL:http://crossfitchaparral.com/event/open-gym/2026-08-04/
CATEGORIES:Open Gym
END:VEVENT
BEGIN:VEVENT
DTSTART;TZID=UTC:20260804T163000
DTEND;TZID=UTC:20260804T173000
DTSTAMP:20260423T054607
CREATED:20251027T165935Z
LAST-MODIFIED:20251027T165935Z
UID:10006988-1785861000-1785864600@crossfitchaparral.com
SUMMARY:CrossFit Class
DESCRIPTION:
URL:http://crossfitchaparral.com/event/crossfit-class-5/2026-08-04/
CATEGORIES:CrossFit Class
END:VEVENT
BEGIN:VEVENT
DTSTART;TZID=UTC:20260804T173000
DTEND;TZID=UTC:20260804T183000
DTSTAMP:20260423T054607
CREATED:20251027T170752Z
LAST-MODIFIED:20251027T170752Z
UID:10008293-1785864600-1785868200@crossfitchaparral.com
SUMMARY:CrossFit Class
DESCRIPTION:
URL:http://crossfitchaparral.com/event/crossfit-class-6/2026-08-04/
CATEGORIES:CrossFit Class
END:VEVENT
BEGIN:VEVENT
DTSTART;TZID=UTC:20260804T183000
DTEND;TZID=UTC:20260804T193000
DTSTAMP:20260423T054607
CREATED:20251027T170840Z
LAST-MODIFIED:20251027T170858Z
UID:10009558-1785868200-1785871800@crossfitchaparral.com
SUMMARY:CrossFit Class
DESCRIPTION:
URL:http://crossfitchaparral.com/event/crossfit-class-7/2026-08-04/
CATEGORIES:CrossFit Class
END:VEVENT
BEGIN:VEVENT
DTSTART;TZID=UTC:20260805T050000
DTEND;TZID=UTC:20260805T063000
DTSTAMP:20260423T054607
CREATED:20251027T163822Z
LAST-MODIFIED:20251027T164423Z
UID:10000203-1785906000-1785911400@crossfitchaparral.com
SUMMARY:AoG
DESCRIPTION:
URL:http://crossfitchaparral.com/event/aog/2026-08-05/
LOCATION:CrossFit Chaparral\, 6451 E Shea Blvd\, Scottsdale\, AZ\, 85254\, United States
CATEGORIES:AoG
END:VEVENT
BEGIN:VEVENT
DTSTART;TZID=UTC:20260805T053000
DTEND;TZID=UTC:20260805T063000
DTSTAMP:20260423T054607
CREATED:20251027T164919Z
LAST-MODIFIED:20251027T164919Z
UID:10001508-1785907800-1785911400@crossfitchaparral.com
SUMMARY:CrossFit Class
DESCRIPTION:
URL:http://crossfitchaparral.com/event/crossfit-class/2026-08-05/
CATEGORIES:CrossFit Class
END:VEVENT
BEGIN:VEVENT
DTSTART;TZID=UTC:20260805T063000
DTEND;TZID=UTC:20260805T193000
DTSTAMP:20260423T054607
CREATED:20251027T165009Z
LAST-MODIFIED:20251027T165009Z
UID:10002813-1785911400-1785958200@crossfitchaparral.com
SUMMARY:CrossFit Class
DESCRIPTION:
URL:http://crossfitchaparral.com/event/crossfit-class-2/2026-08-05/
CATEGORIES:CrossFit Class
END:VEVENT
BEGIN:VEVENT
DTSTART;TZID=UTC:20260805T083000
DTEND;TZID=UTC:20260805T091500
DTSTAMP:20260423T054607
CREATED:20251027T165103Z
LAST-MODIFIED:20251218T164423Z
UID:10011576-1785918600-1785921300@crossfitchaparral.com
SUMMARY:H.I.I.T
DESCRIPTION:
URL:http://crossfitchaparral.com/event/h-i-i-t/2026-08-05/
CATEGORIES:H.I.I.T
END:VEVENT
BEGIN:VEVENT
DTSTART;TZID=UTC:20260805T163000
DTEND;TZID=UTC:20260805T173000
DTSTAMP:20260423T054607
CREATED:20251027T165935Z
LAST-MODIFIED:20251027T165935Z
UID:10006989-1785947400-1785951000@crossfitchaparral.com
SUMMARY:CrossFit Class
DESCRIPTION:
URL:http://crossfitchaparral.com/event/crossfit-class-5/2026-08-05/
CATEGORIES:CrossFit Class
END:VEVENT
BEGIN:VEVENT
DTSTART;TZID=UTC:20260805T173000
DTEND;TZID=UTC:20260805T183000
DTSTAMP:20260423T054607
CREATED:20251027T170752Z
LAST-MODIFIED:20251027T170752Z
UID:10008294-1785951000-1785954600@crossfitchaparral.com
SUMMARY:CrossFit Class
DESCRIPTION:
URL:http://crossfitchaparral.com/event/crossfit-class-6/2026-08-05/
CATEGORIES:CrossFit Class
END:VEVENT
BEGIN:VEVENT
DTSTART;TZID=UTC:20260805T183000
DTEND;TZID=UTC:20260805T193000
DTSTAMP:20260423T054607
CREATED:20251027T170840Z
LAST-MODIFIED:20251027T170858Z
UID:10009559-1785954600-1785958200@crossfitchaparral.com
SUMMARY:CrossFit Class
DESCRIPTION:
URL:http://crossfitchaparral.com/event/crossfit-class-7/2026-08-05/
CATEGORIES:CrossFit Class
END:VEVENT
BEGIN:VEVENT
DTSTART;TZID=UTC:20260806T050000
DTEND;TZID=UTC:20260806T063000
DTSTAMP:20260423T054607
CREATED:20251027T163822Z
LAST-MODIFIED:20251027T164423Z
UID:10000204-1785992400-1785997800@crossfitchaparral.com
SUMMARY:AoG
DESCRIPTION:
URL:http://crossfitchaparral.com/event/aog/2026-08-06/
LOCATION:CrossFit Chaparral\, 6451 E Shea Blvd\, Scottsdale\, AZ\, 85254\, United States
CATEGORIES:AoG
END:VEVENT
BEGIN:VEVENT
DTSTART;TZID=UTC:20260806T053000
DTEND;TZID=UTC:20260806T063000
DTSTAMP:20260423T054607
CREATED:20251027T164919Z
LAST-MODIFIED:20251027T164919Z
UID:10001509-1785994200-1785997800@crossfitchaparral.com
SUMMARY:CrossFit Class
DESCRIPTION:
URL:http://crossfitchaparral.com/event/crossfit-class/2026-08-06/
CATEGORIES:CrossFit Class
END:VEVENT
BEGIN:VEVENT
DTSTART;TZID=UTC:20260806T063000
DTEND;TZID=UTC:20260806T193000
DTSTAMP:20260423T054607
CREATED:20251027T165009Z
LAST-MODIFIED:20251027T165009Z
UID:10002814-1785997800-1786044600@crossfitchaparral.com
SUMMARY:CrossFit Class
DESCRIPTION:
URL:http://crossfitchaparral.com/event/crossfit-class-2/2026-08-06/
CATEGORIES:CrossFit Class
END:VEVENT
BEGIN:VEVENT
DTSTART;TZID=UTC:20260806T083000
DTEND;TZID=UTC:20260806T093000
DTSTAMP:20260423T054607
CREATED:20251027T165150Z
LAST-MODIFIED:20251027T165500Z
UID:10004559-1786005000-1786008600@crossfitchaparral.com
SUMMARY:Open Gym
DESCRIPTION:
URL:http://crossfitchaparral.com/event/open-gym/2026-08-06/
CATEGORIES:Open Gym
END:VEVENT
END:VCALENDAR