BEGIN:VCALENDAR
VERSION:2.0
PRODID:-//CrossFit Chaparral - ECPv6.15.10//NONSGML v1.0//EN
CALSCALE:GREGORIAN
METHOD:PUBLISH
X-WR-CALNAME:CrossFit Chaparral
X-ORIGINAL-URL:http://crossfitchaparral.com
X-WR-CALDESC:Events for CrossFit Chaparral
REFRESH-INTERVAL;VALUE=DURATION:PT1H
X-Robots-Tag:noindex
X-PUBLISHED-TTL:PT1H
BEGIN:VTIMEZONE
TZID:UTC
BEGIN:STANDARD
TZOFFSETFROM:+0000
TZOFFSETTO:+0000
TZNAME:UTC
DTSTART:20250101T000000
END:STANDARD
END:VTIMEZONE
BEGIN:VEVENT
DTSTART;TZID=UTC:20261101T130000
DTEND;TZID=UTC:20261101T143000
DTSTAMP:20260423T191137
CREATED:20251027T165734Z
LAST-MODIFIED:20251027T165734Z
UID:10006056-1793538000-1793543400@crossfitchaparral.com
SUMMARY:Fit for the Cross
DESCRIPTION:
URL:http://crossfitchaparral.com/event/fit-for-the-cross/2026-11-01/
CATEGORIES:Fit for the Cross
END:VEVENT
BEGIN:VEVENT
DTSTART;TZID=UTC:20261101T140000
DTEND;TZID=UTC:20261101T153000
DTSTAMP:20260423T191137
CREATED:20251027T165811Z
LAST-MODIFIED:20251110T161105Z
UID:10010755-1793541600-1793547000@crossfitchaparral.com
SUMMARY:Open Gym
DESCRIPTION:
URL:http://crossfitchaparral.com/event/open-gym-3/2026-11-01/
CATEGORIES:Open Gym
END:VEVENT
BEGIN:VEVENT
DTSTART;TZID=UTC:20261102T050000
DTEND;TZID=UTC:20261102T063000
DTSTAMP:20260423T191137
CREATED:20251027T163822Z
LAST-MODIFIED:20251027T164423Z
UID:10000266-1793595600-1793601000@crossfitchaparral.com
SUMMARY:AoG
DESCRIPTION:
URL:http://crossfitchaparral.com/event/aog/2026-11-02/
LOCATION:CrossFit Chaparral\, 6451 E Shea Blvd\, Scottsdale\, AZ\, 85254\, United States
CATEGORIES:AoG
END:VEVENT
BEGIN:VEVENT
DTSTART;TZID=UTC:20261102T053000
DTEND;TZID=UTC:20261102T063000
DTSTAMP:20260423T191137
CREATED:20251027T164919Z
LAST-MODIFIED:20251027T164919Z
UID:10001571-1793597400-1793601000@crossfitchaparral.com
SUMMARY:CrossFit Class
DESCRIPTION:
URL:http://crossfitchaparral.com/event/crossfit-class/2026-11-02/
CATEGORIES:CrossFit Class
END:VEVENT
BEGIN:VEVENT
DTSTART;TZID=UTC:20261102T063000
DTEND;TZID=UTC:20261102T193000
DTSTAMP:20260423T191137
CREATED:20251027T165009Z
LAST-MODIFIED:20251027T165009Z
UID:10002876-1793601000-1793647800@crossfitchaparral.com
SUMMARY:CrossFit Class
DESCRIPTION:
URL:http://crossfitchaparral.com/event/crossfit-class-2/2026-11-02/
CATEGORIES:CrossFit Class
END:VEVENT
BEGIN:VEVENT
DTSTART;TZID=UTC:20261102T083000
DTEND;TZID=UTC:20261102T091500
DTSTAMP:20260423T191137
CREATED:20251027T165103Z
LAST-MODIFIED:20251218T164423Z
UID:10011601-1793608200-1793610900@crossfitchaparral.com
SUMMARY:H.I.I.T
DESCRIPTION:
URL:http://crossfitchaparral.com/event/h-i-i-t/2026-11-02/
CATEGORIES:H.I.I.T
END:VEVENT
BEGIN:VEVENT
DTSTART;TZID=UTC:20261102T153000
DTEND;TZID=UTC:20261102T163000
DTSTAMP:20260423T191137
CREATED:20251027T165854Z
LAST-MODIFIED:20251027T165854Z
UID:10006579-1793633400-1793637000@crossfitchaparral.com
SUMMARY:CrossFit Kids
DESCRIPTION:
URL:http://crossfitchaparral.com/event/crossfit-kids/2026-11-02/
CATEGORIES:CrossFit Kids
END:VEVENT
BEGIN:VEVENT
DTSTART;TZID=UTC:20261102T163000
DTEND;TZID=UTC:20261102T173000
DTSTAMP:20260423T191137
CREATED:20251027T165935Z
LAST-MODIFIED:20251027T165935Z
UID:10007052-1793637000-1793640600@crossfitchaparral.com
SUMMARY:CrossFit Class
DESCRIPTION:
URL:http://crossfitchaparral.com/event/crossfit-class-5/2026-11-02/
CATEGORIES:CrossFit Class
END:VEVENT
BEGIN:VEVENT
DTSTART;TZID=UTC:20261102T173000
DTEND;TZID=UTC:20261102T183000
DTSTAMP:20260423T191137
CREATED:20251027T170752Z
LAST-MODIFIED:20251027T170752Z
UID:10008357-1793640600-1793644200@crossfitchaparral.com
SUMMARY:CrossFit Class
DESCRIPTION:
URL:http://crossfitchaparral.com/event/crossfit-class-6/2026-11-02/
CATEGORIES:CrossFit Class
END:VEVENT
BEGIN:VEVENT
DTSTART;TZID=UTC:20261102T183000
DTEND;TZID=UTC:20261102T193000
DTSTAMP:20260423T191137
CREATED:20251027T170840Z
LAST-MODIFIED:20251027T170858Z
UID:10009609-1793644200-1793647800@crossfitchaparral.com
SUMMARY:CrossFit Class
DESCRIPTION:
URL:http://crossfitchaparral.com/event/crossfit-class-7/2026-11-02/
CATEGORIES:CrossFit Class
END:VEVENT
BEGIN:VEVENT
DTSTART;TZID=UTC:20261103T050000
DTEND;TZID=UTC:20261103T063000
DTSTAMP:20260423T191137
CREATED:20251027T163822Z
LAST-MODIFIED:20251027T164423Z
UID:10000267-1793682000-1793687400@crossfitchaparral.com
SUMMARY:AoG
DESCRIPTION:
URL:http://crossfitchaparral.com/event/aog/2026-11-03/
LOCATION:CrossFit Chaparral\, 6451 E Shea Blvd\, Scottsdale\, AZ\, 85254\, United States
CATEGORIES:AoG
END:VEVENT
BEGIN:VEVENT
DTSTART;TZID=UTC:20261103T053000
DTEND;TZID=UTC:20261103T063000
DTSTAMP:20260423T191137
CREATED:20251027T164919Z
LAST-MODIFIED:20251027T164919Z
UID:10001572-1793683800-1793687400@crossfitchaparral.com
SUMMARY:CrossFit Class
DESCRIPTION:
URL:http://crossfitchaparral.com/event/crossfit-class/2026-11-03/
CATEGORIES:CrossFit Class
END:VEVENT
BEGIN:VEVENT
DTSTART;TZID=UTC:20261103T063000
DTEND;TZID=UTC:20261103T193000
DTSTAMP:20260423T191137
CREATED:20251027T165009Z
LAST-MODIFIED:20251027T165009Z
UID:10002877-1793687400-1793734200@crossfitchaparral.com
SUMMARY:CrossFit Class
DESCRIPTION:
URL:http://crossfitchaparral.com/event/crossfit-class-2/2026-11-03/
CATEGORIES:CrossFit Class
END:VEVENT
BEGIN:VEVENT
DTSTART;TZID=UTC:20261103T083000
DTEND;TZID=UTC:20261103T093000
DTSTAMP:20260423T191137
CREATED:20251027T165150Z
LAST-MODIFIED:20251027T165500Z
UID:10004597-1793694600-1793698200@crossfitchaparral.com
SUMMARY:Open Gym
DESCRIPTION:
URL:http://crossfitchaparral.com/event/open-gym/2026-11-03/
CATEGORIES:Open Gym
END:VEVENT
BEGIN:VEVENT
DTSTART;TZID=UTC:20261103T163000
DTEND;TZID=UTC:20261103T173000
DTSTAMP:20260423T191137
CREATED:20251027T165935Z
LAST-MODIFIED:20251027T165935Z
UID:10007053-1793723400-1793727000@crossfitchaparral.com
SUMMARY:CrossFit Class
DESCRIPTION:
URL:http://crossfitchaparral.com/event/crossfit-class-5/2026-11-03/
CATEGORIES:CrossFit Class
END:VEVENT
BEGIN:VEVENT
DTSTART;TZID=UTC:20261103T173000
DTEND;TZID=UTC:20261103T183000
DTSTAMP:20260423T191137
CREATED:20251027T170752Z
LAST-MODIFIED:20251027T170752Z
UID:10008358-1793727000-1793730600@crossfitchaparral.com
SUMMARY:CrossFit Class
DESCRIPTION:
URL:http://crossfitchaparral.com/event/crossfit-class-6/2026-11-03/
CATEGORIES:CrossFit Class
END:VEVENT
BEGIN:VEVENT
DTSTART;TZID=UTC:20261103T183000
DTEND;TZID=UTC:20261103T193000
DTSTAMP:20260423T191137
CREATED:20251027T170840Z
LAST-MODIFIED:20251027T170858Z
UID:10009610-1793730600-1793734200@crossfitchaparral.com
SUMMARY:CrossFit Class
DESCRIPTION:
URL:http://crossfitchaparral.com/event/crossfit-class-7/2026-11-03/
CATEGORIES:CrossFit Class
END:VEVENT
BEGIN:VEVENT
DTSTART;TZID=UTC:20261104T050000
DTEND;TZID=UTC:20261104T063000
DTSTAMP:20260423T191137
CREATED:20251027T163822Z
LAST-MODIFIED:20251027T164423Z
UID:10000268-1793768400-1793773800@crossfitchaparral.com
SUMMARY:AoG
DESCRIPTION:
URL:http://crossfitchaparral.com/event/aog/2026-11-04/
LOCATION:CrossFit Chaparral\, 6451 E Shea Blvd\, Scottsdale\, AZ\, 85254\, United States
CATEGORIES:AoG
END:VEVENT
BEGIN:VEVENT
DTSTART;TZID=UTC:20261104T053000
DTEND;TZID=UTC:20261104T063000
DTSTAMP:20260423T191137
CREATED:20251027T164919Z
LAST-MODIFIED:20251027T164919Z
UID:10001573-1793770200-1793773800@crossfitchaparral.com
SUMMARY:CrossFit Class
DESCRIPTION:
URL:http://crossfitchaparral.com/event/crossfit-class/2026-11-04/
CATEGORIES:CrossFit Class
END:VEVENT
BEGIN:VEVENT
DTSTART;TZID=UTC:20261104T063000
DTEND;TZID=UTC:20261104T193000
DTSTAMP:20260423T191137
CREATED:20251027T165009Z
LAST-MODIFIED:20251027T165009Z
UID:10002878-1793773800-1793820600@crossfitchaparral.com
SUMMARY:CrossFit Class
DESCRIPTION:
URL:http://crossfitchaparral.com/event/crossfit-class-2/2026-11-04/
CATEGORIES:CrossFit Class
END:VEVENT
BEGIN:VEVENT
DTSTART;TZID=UTC:20261104T083000
DTEND;TZID=UTC:20261104T091500
DTSTAMP:20260423T191137
CREATED:20251027T165103Z
LAST-MODIFIED:20251218T164423Z
UID:10011602-1793781000-1793783700@crossfitchaparral.com
SUMMARY:H.I.I.T
DESCRIPTION:
URL:http://crossfitchaparral.com/event/h-i-i-t/2026-11-04/
CATEGORIES:H.I.I.T
END:VEVENT
BEGIN:VEVENT
DTSTART;TZID=UTC:20261104T163000
DTEND;TZID=UTC:20261104T173000
DTSTAMP:20260423T191137
CREATED:20251027T165935Z
LAST-MODIFIED:20251027T165935Z
UID:10007054-1793809800-1793813400@crossfitchaparral.com
SUMMARY:CrossFit Class
DESCRIPTION:
URL:http://crossfitchaparral.com/event/crossfit-class-5/2026-11-04/
CATEGORIES:CrossFit Class
END:VEVENT
BEGIN:VEVENT
DTSTART;TZID=UTC:20261104T173000
DTEND;TZID=UTC:20261104T183000
DTSTAMP:20260423T191137
CREATED:20251027T170752Z
LAST-MODIFIED:20251027T170752Z
UID:10008359-1793813400-1793817000@crossfitchaparral.com
SUMMARY:CrossFit Class
DESCRIPTION:
URL:http://crossfitchaparral.com/event/crossfit-class-6/2026-11-04/
CATEGORIES:CrossFit Class
END:VEVENT
BEGIN:VEVENT
DTSTART;TZID=UTC:20261104T183000
DTEND;TZID=UTC:20261104T193000
DTSTAMP:20260423T191137
CREATED:20251027T170840Z
LAST-MODIFIED:20251027T170858Z
UID:10009611-1793817000-1793820600@crossfitchaparral.com
SUMMARY:CrossFit Class
DESCRIPTION:
URL:http://crossfitchaparral.com/event/crossfit-class-7/2026-11-04/
CATEGORIES:CrossFit Class
END:VEVENT
BEGIN:VEVENT
DTSTART;TZID=UTC:20261105T050000
DTEND;TZID=UTC:20261105T063000
DTSTAMP:20260423T191137
CREATED:20251027T163822Z
LAST-MODIFIED:20251027T164423Z
UID:10000269-1793854800-1793860200@crossfitchaparral.com
SUMMARY:AoG
DESCRIPTION:
URL:http://crossfitchaparral.com/event/aog/2026-11-05/
LOCATION:CrossFit Chaparral\, 6451 E Shea Blvd\, Scottsdale\, AZ\, 85254\, United States
CATEGORIES:AoG
END:VEVENT
BEGIN:VEVENT
DTSTART;TZID=UTC:20261105T053000
DTEND;TZID=UTC:20261105T063000
DTSTAMP:20260423T191137
CREATED:20251027T164919Z
LAST-MODIFIED:20251027T164919Z
UID:10001574-1793856600-1793860200@crossfitchaparral.com
SUMMARY:CrossFit Class
DESCRIPTION:
URL:http://crossfitchaparral.com/event/crossfit-class/2026-11-05/
CATEGORIES:CrossFit Class
END:VEVENT
BEGIN:VEVENT
DTSTART;TZID=UTC:20261105T063000
DTEND;TZID=UTC:20261105T193000
DTSTAMP:20260423T191137
CREATED:20251027T165009Z
LAST-MODIFIED:20251027T165009Z
UID:10002879-1793860200-1793907000@crossfitchaparral.com
SUMMARY:CrossFit Class
DESCRIPTION:
URL:http://crossfitchaparral.com/event/crossfit-class-2/2026-11-05/
CATEGORIES:CrossFit Class
END:VEVENT
BEGIN:VEVENT
DTSTART;TZID=UTC:20261105T083000
DTEND;TZID=UTC:20261105T093000
DTSTAMP:20260423T191137
CREATED:20251027T165150Z
LAST-MODIFIED:20251027T165500Z
UID:10004598-1793867400-1793871000@crossfitchaparral.com
SUMMARY:Open Gym
DESCRIPTION:
URL:http://crossfitchaparral.com/event/open-gym/2026-11-05/
CATEGORIES:Open Gym
END:VEVENT
BEGIN:VEVENT
DTSTART;TZID=UTC:20261105T163000
DTEND;TZID=UTC:20261105T173000
DTSTAMP:20260423T191137
CREATED:20251027T165935Z
LAST-MODIFIED:20251027T165935Z
UID:10007055-1793896200-1793899800@crossfitchaparral.com
SUMMARY:CrossFit Class
DESCRIPTION:
URL:http://crossfitchaparral.com/event/crossfit-class-5/2026-11-05/
CATEGORIES:CrossFit Class
END:VEVENT
BEGIN:VEVENT
DTSTART;TZID=UTC:20261105T173000
DTEND;TZID=UTC:20261105T183000
DTSTAMP:20260423T191137
CREATED:20251027T170752Z
LAST-MODIFIED:20251027T170752Z
UID:10008360-1793899800-1793903400@crossfitchaparral.com
SUMMARY:CrossFit Class
DESCRIPTION:
URL:http://crossfitchaparral.com/event/crossfit-class-6/2026-11-05/
CATEGORIES:CrossFit Class
END:VEVENT
END:VCALENDAR