BEGIN:VCALENDAR
VERSION:2.0
PRODID:-//CrossFit Chaparral - ECPv6.15.10//NONSGML v1.0//EN
CALSCALE:GREGORIAN
METHOD:PUBLISH
X-WR-CALNAME:CrossFit Chaparral
X-ORIGINAL-URL:https://crossfitchaparral.com
X-WR-CALDESC:Events for CrossFit Chaparral
REFRESH-INTERVAL;VALUE=DURATION:PT1H
X-Robots-Tag:noindex
X-PUBLISHED-TTL:PT1H
BEGIN:VTIMEZONE
TZID:UTC
BEGIN:STANDARD
TZOFFSETFROM:+0000
TZOFFSETTO:+0000
TZNAME:UTC
DTSTART:20240101T000000
END:STANDARD
END:VTIMEZONE
BEGIN:VEVENT
DTSTART;TZID=UTC:20251105T050000
DTEND;TZID=UTC:20251105T063000
DTSTAMP:20260423T090305
CREATED:20251027T163822Z
LAST-MODIFIED:20251027T164423Z
UID:10000008-1762318800-1762324200@crossfitchaparral.com
SUMMARY:AoG
DESCRIPTION:
URL:https://crossfitchaparral.com/event/aog/2025-11-05/
LOCATION:CrossFit Chaparral\, 6451 E Shea Blvd\, Scottsdale\, AZ\, 85254\, United States
CATEGORIES:AoG
END:VEVENT
BEGIN:VEVENT
DTSTART;TZID=UTC:20251105T053000
DTEND;TZID=UTC:20251105T063000
DTSTAMP:20260423T090305
CREATED:20251027T164919Z
LAST-MODIFIED:20251027T164919Z
UID:10001313-1762320600-1762324200@crossfitchaparral.com
SUMMARY:CrossFit Class
DESCRIPTION:
URL:https://crossfitchaparral.com/event/crossfit-class/2025-11-05/
CATEGORIES:CrossFit Class
END:VEVENT
BEGIN:VEVENT
DTSTART;TZID=UTC:20251105T063000
DTEND;TZID=UTC:20251105T193000
DTSTAMP:20260423T090305
CREATED:20251027T165009Z
LAST-MODIFIED:20251027T165009Z
UID:10002618-1762324200-1762371000@crossfitchaparral.com
SUMMARY:CrossFit Class
DESCRIPTION:
URL:https://crossfitchaparral.com/event/crossfit-class-2/2025-11-05/
CATEGORIES:CrossFit Class
END:VEVENT
BEGIN:VEVENT
DTSTART;TZID=UTC:20251105T083000
DTEND;TZID=UTC:20251105T091500
DTSTAMP:20260423T090305
CREATED:20251027T165103Z
LAST-MODIFIED:20251218T164423Z
UID:10011498-1762331400-1762334100@crossfitchaparral.com
SUMMARY:H.I.I.T
DESCRIPTION:
URL:https://crossfitchaparral.com/event/h-i-i-t/2025-11-05/
CATEGORIES:H.I.I.T
END:VEVENT
BEGIN:VEVENT
DTSTART;TZID=UTC:20251105T163000
DTEND;TZID=UTC:20251105T173000
DTSTAMP:20260423T090305
CREATED:20251027T165935Z
LAST-MODIFIED:20251027T165935Z
UID:10006794-1762360200-1762363800@crossfitchaparral.com
SUMMARY:CrossFit Class
DESCRIPTION:
URL:https://crossfitchaparral.com/event/crossfit-class-5/2025-11-05/
CATEGORIES:CrossFit Class
END:VEVENT
BEGIN:VEVENT
DTSTART;TZID=UTC:20251105T173000
DTEND;TZID=UTC:20251105T183000
DTSTAMP:20260423T090305
CREATED:20251027T170752Z
LAST-MODIFIED:20251027T170752Z
UID:10008099-1762363800-1762367400@crossfitchaparral.com
SUMMARY:CrossFit Class
DESCRIPTION:
URL:https://crossfitchaparral.com/event/crossfit-class-6/2025-11-05/
CATEGORIES:CrossFit Class
END:VEVENT
BEGIN:VEVENT
DTSTART;TZID=UTC:20251105T183000
DTEND;TZID=UTC:20251105T193000
DTSTAMP:20260423T090305
CREATED:20251027T170840Z
LAST-MODIFIED:20251027T170858Z
UID:10009403-1762367400-1762371000@crossfitchaparral.com
SUMMARY:CrossFit Class
DESCRIPTION:
URL:https://crossfitchaparral.com/event/crossfit-class-7/2025-11-05/
CATEGORIES:CrossFit Class
END:VEVENT
END:VCALENDAR