BEGIN:VCALENDAR
VERSION:2.0
PRODID:-//CrossFit Chaparral - ECPv6.15.10//NONSGML v1.0//EN
CALSCALE:GREGORIAN
METHOD:PUBLISH
X-WR-CALNAME:CrossFit Chaparral
X-ORIGINAL-URL:https://crossfitchaparral.com
X-WR-CALDESC:Events for CrossFit Chaparral
REFRESH-INTERVAL;VALUE=DURATION:PT1H
X-Robots-Tag:noindex
X-PUBLISHED-TTL:PT1H
BEGIN:VTIMEZONE
TZID:UTC
BEGIN:STANDARD
TZOFFSETFROM:+0000
TZOFFSETTO:+0000
TZNAME:UTC
DTSTART:20240101T000000
END:STANDARD
END:VTIMEZONE
BEGIN:VEVENT
DTSTART;TZID=UTC:20251208T050000
DTEND;TZID=UTC:20251208T063000
DTSTAMP:20260423T103549
CREATED:20251027T163822Z
LAST-MODIFIED:20251027T164423Z
UID:10000031-1765170000-1765175400@crossfitchaparral.com
SUMMARY:AoG
DESCRIPTION:
URL:https://crossfitchaparral.com/event/aog/2025-12-08/
LOCATION:CrossFit Chaparral\, 6451 E Shea Blvd\, Scottsdale\, AZ\, 85254\, United States
CATEGORIES:AoG
END:VEVENT
BEGIN:VEVENT
DTSTART;TZID=UTC:20251208T053000
DTEND;TZID=UTC:20251208T063000
DTSTAMP:20260423T103549
CREATED:20251027T164919Z
LAST-MODIFIED:20251027T164919Z
UID:10001336-1765171800-1765175400@crossfitchaparral.com
SUMMARY:CrossFit Class
DESCRIPTION:
URL:https://crossfitchaparral.com/event/crossfit-class/2025-12-08/
CATEGORIES:CrossFit Class
END:VEVENT
BEGIN:VEVENT
DTSTART;TZID=UTC:20251208T063000
DTEND;TZID=UTC:20251208T193000
DTSTAMP:20260423T103549
CREATED:20251027T165009Z
LAST-MODIFIED:20251027T165009Z
UID:10002641-1765175400-1765222200@crossfitchaparral.com
SUMMARY:CrossFit Class
DESCRIPTION:
URL:https://crossfitchaparral.com/event/crossfit-class-2/2025-12-08/
CATEGORIES:CrossFit Class
END:VEVENT
BEGIN:VEVENT
DTSTART;TZID=UTC:20251208T083000
DTEND;TZID=UTC:20251208T091500
DTSTAMP:20260423T103549
CREATED:20251027T165103Z
LAST-MODIFIED:20251218T164423Z
UID:10011507-1765182600-1765185300@crossfitchaparral.com
SUMMARY:H.I.I.T
DESCRIPTION:
URL:https://crossfitchaparral.com/event/h-i-i-t/2025-12-08/
CATEGORIES:H.I.I.T
END:VEVENT
BEGIN:VEVENT
DTSTART;TZID=UTC:20251208T153000
DTEND;TZID=UTC:20251208T163000
DTSTAMP:20260423T103549
CREATED:20251027T165854Z
LAST-MODIFIED:20251027T165854Z
UID:10006532-1765207800-1765211400@crossfitchaparral.com
SUMMARY:CrossFit Kids
DESCRIPTION:
URL:https://crossfitchaparral.com/event/crossfit-kids/2025-12-08/
CATEGORIES:CrossFit Kids
END:VEVENT
BEGIN:VEVENT
DTSTART;TZID=UTC:20251208T163000
DTEND;TZID=UTC:20251208T173000
DTSTAMP:20260423T103549
CREATED:20251027T165935Z
LAST-MODIFIED:20251027T165935Z
UID:10006817-1765211400-1765215000@crossfitchaparral.com
SUMMARY:CrossFit Class
DESCRIPTION:
URL:https://crossfitchaparral.com/event/crossfit-class-5/2025-12-08/
CATEGORIES:CrossFit Class
END:VEVENT
BEGIN:VEVENT
DTSTART;TZID=UTC:20251208T173000
DTEND;TZID=UTC:20251208T183000
DTSTAMP:20260423T103549
CREATED:20251027T170752Z
LAST-MODIFIED:20251027T170752Z
UID:10008122-1765215000-1765218600@crossfitchaparral.com
SUMMARY:CrossFit Class
DESCRIPTION:
URL:https://crossfitchaparral.com/event/crossfit-class-6/2025-12-08/
CATEGORIES:CrossFit Class
END:VEVENT
BEGIN:VEVENT
DTSTART;TZID=UTC:20251208T183000
DTEND;TZID=UTC:20251208T193000
DTSTAMP:20260423T103549
CREATED:20251027T170840Z
LAST-MODIFIED:20251027T170858Z
UID:10009421-1765218600-1765222200@crossfitchaparral.com
SUMMARY:CrossFit Class
DESCRIPTION:
URL:https://crossfitchaparral.com/event/crossfit-class-7/2025-12-08/
CATEGORIES:CrossFit Class
END:VEVENT
END:VCALENDAR