BEGIN:VCALENDAR
VERSION:2.0
PRODID:-//CrossFit Chaparral - ECPv6.15.10//NONSGML v1.0//EN
CALSCALE:GREGORIAN
METHOD:PUBLISH
X-WR-CALNAME:CrossFit Chaparral
X-ORIGINAL-URL:https://crossfitchaparral.com
X-WR-CALDESC:Events for CrossFit Chaparral
REFRESH-INTERVAL;VALUE=DURATION:PT1H
X-Robots-Tag:noindex
X-PUBLISHED-TTL:PT1H
BEGIN:VTIMEZONE
TZID:UTC
BEGIN:STANDARD
TZOFFSETFROM:+0000
TZOFFSETTO:+0000
TZNAME:UTC
DTSTART:20240101T000000
END:STANDARD
END:VTIMEZONE
BEGIN:VEVENT
DTSTART;TZID=UTC:20251216T050000
DTEND;TZID=UTC:20251216T063000
DTSTAMP:20260423T080343
CREATED:20251027T163822Z
LAST-MODIFIED:20251027T164423Z
UID:10000037-1765861200-1765866600@crossfitchaparral.com
SUMMARY:AoG
DESCRIPTION:
URL:https://crossfitchaparral.com/event/aog/2025-12-16/
LOCATION:CrossFit Chaparral\, 6451 E Shea Blvd\, Scottsdale\, AZ\, 85254\, United States
CATEGORIES:AoG
END:VEVENT
BEGIN:VEVENT
DTSTART;TZID=UTC:20251216T053000
DTEND;TZID=UTC:20251216T063000
DTSTAMP:20260423T080343
CREATED:20251027T164919Z
LAST-MODIFIED:20251027T164919Z
UID:10001342-1765863000-1765866600@crossfitchaparral.com
SUMMARY:CrossFit Class
DESCRIPTION:
URL:https://crossfitchaparral.com/event/crossfit-class/2025-12-16/
CATEGORIES:CrossFit Class
END:VEVENT
BEGIN:VEVENT
DTSTART;TZID=UTC:20251216T063000
DTEND;TZID=UTC:20251216T193000
DTSTAMP:20260423T080343
CREATED:20251027T165009Z
LAST-MODIFIED:20251027T165009Z
UID:10002647-1765866600-1765913400@crossfitchaparral.com
SUMMARY:CrossFit Class
DESCRIPTION:
URL:https://crossfitchaparral.com/event/crossfit-class-2/2025-12-16/
CATEGORIES:CrossFit Class
END:VEVENT
BEGIN:VEVENT
DTSTART;TZID=UTC:20251216T083000
DTEND;TZID=UTC:20251216T093000
DTSTAMP:20260423T080343
CREATED:20251027T165150Z
LAST-MODIFIED:20251027T165500Z
UID:10004459-1765873800-1765877400@crossfitchaparral.com
SUMMARY:Open Gym
DESCRIPTION:
URL:https://crossfitchaparral.com/event/open-gym/2025-12-16/
CATEGORIES:Open Gym
END:VEVENT
BEGIN:VEVENT
DTSTART;TZID=UTC:20251216T163000
DTEND;TZID=UTC:20251216T173000
DTSTAMP:20260423T080343
CREATED:20251027T165935Z
LAST-MODIFIED:20251027T165935Z
UID:10006823-1765902600-1765906200@crossfitchaparral.com
SUMMARY:CrossFit Class
DESCRIPTION:
URL:https://crossfitchaparral.com/event/crossfit-class-5/2025-12-16/
CATEGORIES:CrossFit Class
END:VEVENT
BEGIN:VEVENT
DTSTART;TZID=UTC:20251216T173000
DTEND;TZID=UTC:20251216T183000
DTSTAMP:20260423T080343
CREATED:20251027T170752Z
LAST-MODIFIED:20251027T170752Z
UID:10008128-1765906200-1765909800@crossfitchaparral.com
SUMMARY:CrossFit Class
DESCRIPTION:
URL:https://crossfitchaparral.com/event/crossfit-class-6/2025-12-16/
CATEGORIES:CrossFit Class
END:VEVENT
BEGIN:VEVENT
DTSTART;TZID=UTC:20251216T183000
DTEND;TZID=UTC:20251216T193000
DTSTAMP:20260423T080343
CREATED:20251027T170840Z
LAST-MODIFIED:20251027T170858Z
UID:10009426-1765909800-1765913400@crossfitchaparral.com
SUMMARY:CrossFit Class
DESCRIPTION:
URL:https://crossfitchaparral.com/event/crossfit-class-7/2025-12-16/
CATEGORIES:CrossFit Class
END:VEVENT
END:VCALENDAR