BEGIN:VCALENDAR
VERSION:2.0
PRODID:-//CrossFit Chaparral - ECPv6.15.10//NONSGML v1.0//EN
CALSCALE:GREGORIAN
METHOD:PUBLISH
X-WR-CALNAME:CrossFit Chaparral
X-ORIGINAL-URL:https://crossfitchaparral.com
X-WR-CALDESC:Events for CrossFit Chaparral
REFRESH-INTERVAL;VALUE=DURATION:PT1H
X-Robots-Tag:noindex
X-PUBLISHED-TTL:PT1H
BEGIN:VTIMEZONE
TZID:UTC
BEGIN:STANDARD
TZOFFSETFROM:+0000
TZOFFSETTO:+0000
TZNAME:UTC
DTSTART:20240101T000000
END:STANDARD
END:VTIMEZONE
BEGIN:VEVENT
DTSTART;TZID=UTC:20251219T050000
DTEND;TZID=UTC:20251219T063000
DTSTAMP:20260423T050458
CREATED:20251027T163822Z
LAST-MODIFIED:20251027T164423Z
UID:10000040-1766120400-1766125800@crossfitchaparral.com
SUMMARY:AoG
DESCRIPTION:
URL:https://crossfitchaparral.com/event/aog/2025-12-19/
LOCATION:CrossFit Chaparral\, 6451 E Shea Blvd\, Scottsdale\, AZ\, 85254\, United States
CATEGORIES:AoG
END:VEVENT
BEGIN:VEVENT
DTSTART;TZID=UTC:20251219T053000
DTEND;TZID=UTC:20251219T063000
DTSTAMP:20260423T050458
CREATED:20251027T164919Z
LAST-MODIFIED:20251027T164919Z
UID:10001345-1766122200-1766125800@crossfitchaparral.com
SUMMARY:CrossFit Class
DESCRIPTION:
URL:https://crossfitchaparral.com/event/crossfit-class/2025-12-19/
CATEGORIES:CrossFit Class
END:VEVENT
BEGIN:VEVENT
DTSTART;TZID=UTC:20251219T063000
DTEND;TZID=UTC:20251219T193000
DTSTAMP:20260423T050458
CREATED:20251027T165009Z
LAST-MODIFIED:20251027T165009Z
UID:10002650-1766125800-1766172600@crossfitchaparral.com
SUMMARY:CrossFit Class
DESCRIPTION:
URL:https://crossfitchaparral.com/event/crossfit-class-2/2025-12-19/
CATEGORIES:CrossFit Class
END:VEVENT
BEGIN:VEVENT
DTSTART;TZID=UTC:20251219T083000
DTEND;TZID=UTC:20251219T093000
DTSTAMP:20260423T050458
CREATED:20251027T165257Z
LAST-MODIFIED:20251027T165257Z
UID:10005228-1766133000-1766136600@crossfitchaparral.com
SUMMARY:CrossFit Class
DESCRIPTION:
URL:https://crossfitchaparral.com/event/crossfit-class-3/2025-12-19/
CATEGORIES:CrossFit Class
END:VEVENT
BEGIN:VEVENT
DTSTART;TZID=UTC:20251219T163000
DTEND;TZID=UTC:20251219T173000
DTSTAMP:20260423T050458
CREATED:20251027T165935Z
LAST-MODIFIED:20251027T165935Z
UID:10006826-1766161800-1766165400@crossfitchaparral.com
SUMMARY:CrossFit Class
DESCRIPTION:
URL:https://crossfitchaparral.com/event/crossfit-class-5/2025-12-19/
CATEGORIES:CrossFit Class
END:VEVENT
BEGIN:VEVENT
DTSTART;TZID=UTC:20251219T173000
DTEND;TZID=UTC:20251219T183000
DTSTAMP:20260423T050458
CREATED:20251027T170752Z
LAST-MODIFIED:20251027T170752Z
UID:10008131-1766165400-1766169000@crossfitchaparral.com
SUMMARY:CrossFit Class
DESCRIPTION:
URL:https://crossfitchaparral.com/event/crossfit-class-6/2025-12-19/
CATEGORIES:CrossFit Class
END:VEVENT
END:VCALENDAR