BEGIN:VCALENDAR
VERSION:2.0
PRODID:-//CrossFit Chaparral - ECPv6.15.10//NONSGML v1.0//EN
CALSCALE:GREGORIAN
METHOD:PUBLISH
X-WR-CALNAME:CrossFit Chaparral
X-ORIGINAL-URL:https://crossfitchaparral.com
X-WR-CALDESC:Events for CrossFit Chaparral
REFRESH-INTERVAL;VALUE=DURATION:PT1H
X-Robots-Tag:noindex
X-PUBLISHED-TTL:PT1H
BEGIN:VTIMEZONE
TZID:UTC
BEGIN:STANDARD
TZOFFSETFROM:+0000
TZOFFSETTO:+0000
TZNAME:UTC
DTSTART:20240101T000000
END:STANDARD
END:VTIMEZONE
BEGIN:VEVENT
DTSTART;TZID=UTC:20251231T050000
DTEND;TZID=UTC:20251231T063000
DTSTAMP:20260423T022417
CREATED:20251027T163822Z
LAST-MODIFIED:20251027T164423Z
UID:10000048-1767157200-1767162600@crossfitchaparral.com
SUMMARY:AoG
DESCRIPTION:
URL:https://crossfitchaparral.com/event/aog/2025-12-31/
LOCATION:CrossFit Chaparral\, 6451 E Shea Blvd\, Scottsdale\, AZ\, 85254\, United States
CATEGORIES:AoG
END:VEVENT
BEGIN:VEVENT
DTSTART;TZID=UTC:20251231T053000
DTEND;TZID=UTC:20251231T063000
DTSTAMP:20260423T022417
CREATED:20251027T164919Z
LAST-MODIFIED:20251027T164919Z
UID:10001353-1767159000-1767162600@crossfitchaparral.com
SUMMARY:CrossFit Class
DESCRIPTION:
URL:https://crossfitchaparral.com/event/crossfit-class/2025-12-31/
CATEGORIES:CrossFit Class
END:VEVENT
BEGIN:VEVENT
DTSTART;TZID=UTC:20251231T063000
DTEND;TZID=UTC:20251231T193000
DTSTAMP:20260423T022417
CREATED:20251027T165009Z
LAST-MODIFIED:20251027T165009Z
UID:10002658-1767162600-1767209400@crossfitchaparral.com
SUMMARY:CrossFit Class
DESCRIPTION:
URL:https://crossfitchaparral.com/event/crossfit-class-2/2025-12-31/
CATEGORIES:CrossFit Class
END:VEVENT
BEGIN:VEVENT
DTSTART;TZID=UTC:20251231T083000
DTEND;TZID=UTC:20251231T091500
DTSTAMP:20260423T022417
CREATED:20251027T165103Z
LAST-MODIFIED:20251218T164423Z
UID:10011514-1767169800-1767172500@crossfitchaparral.com
SUMMARY:H.I.I.T
DESCRIPTION:
URL:https://crossfitchaparral.com/event/h-i-i-t/2025-12-31/
CATEGORIES:H.I.I.T
END:VEVENT
BEGIN:VEVENT
DTSTART;TZID=UTC:20251231T163000
DTEND;TZID=UTC:20251231T173000
DTSTAMP:20260423T022417
CREATED:20251027T165935Z
LAST-MODIFIED:20251027T165935Z
UID:10006834-1767198600-1767202200@crossfitchaparral.com
SUMMARY:CrossFit Class
DESCRIPTION:
URL:https://crossfitchaparral.com/event/crossfit-class-5/2025-12-31/
CATEGORIES:CrossFit Class
END:VEVENT
BEGIN:VEVENT
DTSTART;TZID=UTC:20251231T173000
DTEND;TZID=UTC:20251231T183000
DTSTAMP:20260423T022417
CREATED:20251027T170752Z
LAST-MODIFIED:20251027T170752Z
UID:10008139-1767202200-1767205800@crossfitchaparral.com
SUMMARY:CrossFit Class
DESCRIPTION:
URL:https://crossfitchaparral.com/event/crossfit-class-6/2025-12-31/
CATEGORIES:CrossFit Class
END:VEVENT
BEGIN:VEVENT
DTSTART;TZID=UTC:20251231T183000
DTEND;TZID=UTC:20251231T193000
DTSTAMP:20260423T022417
CREATED:20251027T170840Z
LAST-MODIFIED:20251027T170858Z
UID:10009435-1767205800-1767209400@crossfitchaparral.com
SUMMARY:CrossFit Class
DESCRIPTION:
URL:https://crossfitchaparral.com/event/crossfit-class-7/2025-12-31/
CATEGORIES:CrossFit Class
END:VEVENT
END:VCALENDAR