BEGIN:VCALENDAR
VERSION:2.0
PRODID:-//CrossFit Chaparral - ECPv6.15.10//NONSGML v1.0//EN
CALSCALE:GREGORIAN
METHOD:PUBLISH
X-WR-CALNAME:CrossFit Chaparral
X-ORIGINAL-URL:https://crossfitchaparral.com
X-WR-CALDESC:Events for CrossFit Chaparral
REFRESH-INTERVAL;VALUE=DURATION:PT1H
X-Robots-Tag:noindex
X-PUBLISHED-TTL:PT1H
BEGIN:VTIMEZONE
TZID:UTC
BEGIN:STANDARD
TZOFFSETFROM:+0000
TZOFFSETTO:+0000
TZNAME:UTC
DTSTART:20250101T000000
END:STANDARD
END:VTIMEZONE
BEGIN:VEVENT
DTSTART;TZID=UTC:20260325T050000
DTEND;TZID=UTC:20260325T063000
DTSTAMP:20260425T132655
CREATED:20251027T163822Z
LAST-MODIFIED:20251027T164423Z
UID:10000108-1774414800-1774420200@crossfitchaparral.com
SUMMARY:AoG
DESCRIPTION:
URL:https://crossfitchaparral.com/event/aog/2026-03-25/
LOCATION:CrossFit Chaparral\, 6451 E Shea Blvd\, Scottsdale\, AZ\, 85254\, United States
CATEGORIES:AoG
END:VEVENT
BEGIN:VEVENT
DTSTART;TZID=UTC:20260325T053000
DTEND;TZID=UTC:20260325T063000
DTSTAMP:20260425T132655
CREATED:20251027T164919Z
LAST-MODIFIED:20251027T164919Z
UID:10001413-1774416600-1774420200@crossfitchaparral.com
SUMMARY:CrossFit Class
DESCRIPTION:
URL:https://crossfitchaparral.com/event/crossfit-class/2026-03-25/
CATEGORIES:CrossFit Class
END:VEVENT
BEGIN:VEVENT
DTSTART;TZID=UTC:20260325T063000
DTEND;TZID=UTC:20260325T193000
DTSTAMP:20260425T132655
CREATED:20251027T165009Z
LAST-MODIFIED:20251027T165009Z
UID:10002718-1774420200-1774467000@crossfitchaparral.com
SUMMARY:CrossFit Class
DESCRIPTION:
URL:https://crossfitchaparral.com/event/crossfit-class-2/2026-03-25/
CATEGORIES:CrossFit Class
END:VEVENT
BEGIN:VEVENT
DTSTART;TZID=UTC:20260325T083000
DTEND;TZID=UTC:20260325T091500
DTSTAMP:20260425T132655
CREATED:20251027T165103Z
LAST-MODIFIED:20251218T164423Z
UID:10011538-1774427400-1774430100@crossfitchaparral.com
SUMMARY:H.I.I.T
DESCRIPTION:
URL:https://crossfitchaparral.com/event/h-i-i-t/2026-03-25/
CATEGORIES:H.I.I.T
END:VEVENT
BEGIN:VEVENT
DTSTART;TZID=UTC:20260325T163000
DTEND;TZID=UTC:20260325T173000
DTSTAMP:20260425T132655
CREATED:20251027T165935Z
LAST-MODIFIED:20251027T165935Z
UID:10006894-1774456200-1774459800@crossfitchaparral.com
SUMMARY:CrossFit Class
DESCRIPTION:
URL:https://crossfitchaparral.com/event/crossfit-class-5/2026-03-25/
CATEGORIES:CrossFit Class
END:VEVENT
BEGIN:VEVENT
DTSTART;TZID=UTC:20260325T173000
DTEND;TZID=UTC:20260325T183000
DTSTAMP:20260425T132655
CREATED:20251027T170752Z
LAST-MODIFIED:20251027T170752Z
UID:10008199-1774459800-1774463400@crossfitchaparral.com
SUMMARY:CrossFit Class
DESCRIPTION:
URL:https://crossfitchaparral.com/event/crossfit-class-6/2026-03-25/
CATEGORIES:CrossFit Class
END:VEVENT
BEGIN:VEVENT
DTSTART;TZID=UTC:20260325T183000
DTEND;TZID=UTC:20260325T193000
DTSTAMP:20260425T132655
CREATED:20251027T170840Z
LAST-MODIFIED:20251027T170858Z
UID:10009483-1774463400-1774467000@crossfitchaparral.com
SUMMARY:CrossFit Class
DESCRIPTION:
URL:https://crossfitchaparral.com/event/crossfit-class-7/2026-03-25/
CATEGORIES:CrossFit Class
END:VEVENT
END:VCALENDAR