BEGIN:VCALENDAR
VERSION:2.0
PRODID:-//CrossFit Chaparral - ECPv6.15.10//NONSGML v1.0//EN
CALSCALE:GREGORIAN
METHOD:PUBLISH
X-ORIGINAL-URL:https://crossfitchaparral.com
X-WR-CALDESC:Events for CrossFit Chaparral
REFRESH-INTERVAL;VALUE=DURATION:PT1H
X-Robots-Tag:noindex
X-PUBLISHED-TTL:PT1H
BEGIN:VTIMEZONE
TZID:UTC
BEGIN:STANDARD
TZOFFSETFROM:+0000
TZOFFSETTO:+0000
TZNAME:UTC
DTSTART:20250101T000000
END:STANDARD
END:VTIMEZONE
BEGIN:VEVENT
DTSTART;TZID=UTC:20260804T050000
DTEND;TZID=UTC:20260804T063000
DTSTAMP:20260423T080455
CREATED:20251027T163822Z
LAST-MODIFIED:20251027T164423Z
UID:10000202-1785819600-1785825000@crossfitchaparral.com
SUMMARY:AoG
DESCRIPTION:
URL:https://crossfitchaparral.com/event/aog/2026-08-04/
LOCATION:CrossFit Chaparral\, 6451 E Shea Blvd\, Scottsdale\, AZ\, 85254\, United States
CATEGORIES:AoG
END:VEVENT
BEGIN:VEVENT
DTSTART;TZID=UTC:20260805T050000
DTEND;TZID=UTC:20260805T063000
DTSTAMP:20260423T080455
CREATED:20251027T163822Z
LAST-MODIFIED:20251027T164423Z
UID:10000203-1785906000-1785911400@crossfitchaparral.com
SUMMARY:AoG
DESCRIPTION:
URL:https://crossfitchaparral.com/event/aog/2026-08-05/
LOCATION:CrossFit Chaparral\, 6451 E Shea Blvd\, Scottsdale\, AZ\, 85254\, United States
CATEGORIES:AoG
END:VEVENT
BEGIN:VEVENT
DTSTART;TZID=UTC:20260806T050000
DTEND;TZID=UTC:20260806T063000
DTSTAMP:20260423T080455
CREATED:20251027T163822Z
LAST-MODIFIED:20251027T164423Z
UID:10000204-1785992400-1785997800@crossfitchaparral.com
SUMMARY:AoG
DESCRIPTION:
URL:https://crossfitchaparral.com/event/aog/2026-08-06/
LOCATION:CrossFit Chaparral\, 6451 E Shea Blvd\, Scottsdale\, AZ\, 85254\, United States
CATEGORIES:AoG
END:VEVENT
BEGIN:VEVENT
DTSTART;TZID=UTC:20260807T050000
DTEND;TZID=UTC:20260807T063000
DTSTAMP:20260423T080455
CREATED:20251027T163822Z
LAST-MODIFIED:20251027T164423Z
UID:10000205-1786078800-1786084200@crossfitchaparral.com
SUMMARY:AoG
DESCRIPTION:
URL:https://crossfitchaparral.com/event/aog/2026-08-07/
LOCATION:CrossFit Chaparral\, 6451 E Shea Blvd\, Scottsdale\, AZ\, 85254\, United States
CATEGORIES:AoG
END:VEVENT
BEGIN:VEVENT
DTSTART;TZID=UTC:20260810T050000
DTEND;TZID=UTC:20260810T063000
DTSTAMP:20260423T080455
CREATED:20251027T163822Z
LAST-MODIFIED:20251027T164423Z
UID:10000206-1786338000-1786343400@crossfitchaparral.com
SUMMARY:AoG
DESCRIPTION:
URL:https://crossfitchaparral.com/event/aog/2026-08-10/
LOCATION:CrossFit Chaparral\, 6451 E Shea Blvd\, Scottsdale\, AZ\, 85254\, United States
CATEGORIES:AoG
END:VEVENT
BEGIN:VEVENT
DTSTART;TZID=UTC:20260811T050000
DTEND;TZID=UTC:20260811T063000
DTSTAMP:20260423T080455
CREATED:20251027T163822Z
LAST-MODIFIED:20251027T164423Z
UID:10000207-1786424400-1786429800@crossfitchaparral.com
SUMMARY:AoG
DESCRIPTION:
URL:https://crossfitchaparral.com/event/aog/2026-08-11/
LOCATION:CrossFit Chaparral\, 6451 E Shea Blvd\, Scottsdale\, AZ\, 85254\, United States
CATEGORIES:AoG
END:VEVENT
BEGIN:VEVENT
DTSTART;TZID=UTC:20260812T050000
DTEND;TZID=UTC:20260812T063000
DTSTAMP:20260423T080455
CREATED:20251027T163822Z
LAST-MODIFIED:20251027T164423Z
UID:10000208-1786510800-1786516200@crossfitchaparral.com
SUMMARY:AoG
DESCRIPTION:
URL:https://crossfitchaparral.com/event/aog/2026-08-12/
LOCATION:CrossFit Chaparral\, 6451 E Shea Blvd\, Scottsdale\, AZ\, 85254\, United States
CATEGORIES:AoG
END:VEVENT
BEGIN:VEVENT
DTSTART;TZID=UTC:20260813T050000
DTEND;TZID=UTC:20260813T063000
DTSTAMP:20260423T080455
CREATED:20251027T163822Z
LAST-MODIFIED:20251027T164423Z
UID:10000209-1786597200-1786602600@crossfitchaparral.com
SUMMARY:AoG
DESCRIPTION:
URL:https://crossfitchaparral.com/event/aog/2026-08-13/
LOCATION:CrossFit Chaparral\, 6451 E Shea Blvd\, Scottsdale\, AZ\, 85254\, United States
CATEGORIES:AoG
END:VEVENT
BEGIN:VEVENT
DTSTART;TZID=UTC:20260814T050000
DTEND;TZID=UTC:20260814T063000
DTSTAMP:20260423T080455
CREATED:20251027T163822Z
LAST-MODIFIED:20251027T164423Z
UID:10000210-1786683600-1786689000@crossfitchaparral.com
SUMMARY:AoG
DESCRIPTION:
URL:https://crossfitchaparral.com/event/aog/2026-08-14/
LOCATION:CrossFit Chaparral\, 6451 E Shea Blvd\, Scottsdale\, AZ\, 85254\, United States
CATEGORIES:AoG
END:VEVENT
BEGIN:VEVENT
DTSTART;TZID=UTC:20260817T050000
DTEND;TZID=UTC:20260817T063000
DTSTAMP:20260423T080455
CREATED:20251027T163822Z
LAST-MODIFIED:20251027T164423Z
UID:10000211-1786942800-1786948200@crossfitchaparral.com
SUMMARY:AoG
DESCRIPTION:
URL:https://crossfitchaparral.com/event/aog/2026-08-17/
LOCATION:CrossFit Chaparral\, 6451 E Shea Blvd\, Scottsdale\, AZ\, 85254\, United States
CATEGORIES:AoG
END:VEVENT
BEGIN:VEVENT
DTSTART;TZID=UTC:20260818T050000
DTEND;TZID=UTC:20260818T063000
DTSTAMP:20260423T080455
CREATED:20251027T163822Z
LAST-MODIFIED:20251027T164423Z
UID:10000212-1787029200-1787034600@crossfitchaparral.com
SUMMARY:AoG
DESCRIPTION:
URL:https://crossfitchaparral.com/event/aog/2026-08-18/
LOCATION:CrossFit Chaparral\, 6451 E Shea Blvd\, Scottsdale\, AZ\, 85254\, United States
CATEGORIES:AoG
END:VEVENT
BEGIN:VEVENT
DTSTART;TZID=UTC:20260819T050000
DTEND;TZID=UTC:20260819T063000
DTSTAMP:20260423T080455
CREATED:20251027T163822Z
LAST-MODIFIED:20251027T164423Z
UID:10000213-1787115600-1787121000@crossfitchaparral.com
SUMMARY:AoG
DESCRIPTION:
URL:https://crossfitchaparral.com/event/aog/2026-08-19/
LOCATION:CrossFit Chaparral\, 6451 E Shea Blvd\, Scottsdale\, AZ\, 85254\, United States
CATEGORIES:AoG
END:VEVENT
BEGIN:VEVENT
DTSTART;TZID=UTC:20260820T050000
DTEND;TZID=UTC:20260820T063000
DTSTAMP:20260423T080455
CREATED:20251027T163822Z
LAST-MODIFIED:20251027T164423Z
UID:10000214-1787202000-1787207400@crossfitchaparral.com
SUMMARY:AoG
DESCRIPTION:
URL:https://crossfitchaparral.com/event/aog/2026-08-20/
LOCATION:CrossFit Chaparral\, 6451 E Shea Blvd\, Scottsdale\, AZ\, 85254\, United States
CATEGORIES:AoG
END:VEVENT
BEGIN:VEVENT
DTSTART;TZID=UTC:20260821T050000
DTEND;TZID=UTC:20260821T063000
DTSTAMP:20260423T080455
CREATED:20251027T163822Z
LAST-MODIFIED:20251027T164423Z
UID:10000215-1787288400-1787293800@crossfitchaparral.com
SUMMARY:AoG
DESCRIPTION:
URL:https://crossfitchaparral.com/event/aog/2026-08-21/
LOCATION:CrossFit Chaparral\, 6451 E Shea Blvd\, Scottsdale\, AZ\, 85254\, United States
CATEGORIES:AoG
END:VEVENT
BEGIN:VEVENT
DTSTART;TZID=UTC:20260824T050000
DTEND;TZID=UTC:20260824T063000
DTSTAMP:20260423T080455
CREATED:20251027T163822Z
LAST-MODIFIED:20251027T164423Z
UID:10000216-1787547600-1787553000@crossfitchaparral.com
SUMMARY:AoG
DESCRIPTION:
URL:https://crossfitchaparral.com/event/aog/2026-08-24/
LOCATION:CrossFit Chaparral\, 6451 E Shea Blvd\, Scottsdale\, AZ\, 85254\, United States
CATEGORIES:AoG
END:VEVENT
BEGIN:VEVENT
DTSTART;TZID=UTC:20260825T050000
DTEND;TZID=UTC:20260825T063000
DTSTAMP:20260423T080455
CREATED:20251027T163822Z
LAST-MODIFIED:20251027T164423Z
UID:10000217-1787634000-1787639400@crossfitchaparral.com
SUMMARY:AoG
DESCRIPTION:
URL:https://crossfitchaparral.com/event/aog/2026-08-25/
LOCATION:CrossFit Chaparral\, 6451 E Shea Blvd\, Scottsdale\, AZ\, 85254\, United States
CATEGORIES:AoG
END:VEVENT
BEGIN:VEVENT
DTSTART;TZID=UTC:20260826T050000
DTEND;TZID=UTC:20260826T063000
DTSTAMP:20260423T080455
CREATED:20251027T163822Z
LAST-MODIFIED:20251027T164423Z
UID:10000218-1787720400-1787725800@crossfitchaparral.com
SUMMARY:AoG
DESCRIPTION:
URL:https://crossfitchaparral.com/event/aog/2026-08-26/
LOCATION:CrossFit Chaparral\, 6451 E Shea Blvd\, Scottsdale\, AZ\, 85254\, United States
CATEGORIES:AoG
END:VEVENT
BEGIN:VEVENT
DTSTART;TZID=UTC:20260827T050000
DTEND;TZID=UTC:20260827T063000
DTSTAMP:20260423T080455
CREATED:20251027T163822Z
LAST-MODIFIED:20251027T164423Z
UID:10000219-1787806800-1787812200@crossfitchaparral.com
SUMMARY:AoG
DESCRIPTION:
URL:https://crossfitchaparral.com/event/aog/2026-08-27/
LOCATION:CrossFit Chaparral\, 6451 E Shea Blvd\, Scottsdale\, AZ\, 85254\, United States
CATEGORIES:AoG
END:VEVENT
BEGIN:VEVENT
DTSTART;TZID=UTC:20260828T050000
DTEND;TZID=UTC:20260828T063000
DTSTAMP:20260423T080455
CREATED:20251027T163822Z
LAST-MODIFIED:20251027T164423Z
UID:10000220-1787893200-1787898600@crossfitchaparral.com
SUMMARY:AoG
DESCRIPTION:
URL:https://crossfitchaparral.com/event/aog/2026-08-28/
LOCATION:CrossFit Chaparral\, 6451 E Shea Blvd\, Scottsdale\, AZ\, 85254\, United States
CATEGORIES:AoG
END:VEVENT
BEGIN:VEVENT
DTSTART;TZID=UTC:20260831T050000
DTEND;TZID=UTC:20260831T063000
DTSTAMP:20260423T080455
CREATED:20251027T163822Z
LAST-MODIFIED:20251027T164423Z
UID:10000221-1788152400-1788157800@crossfitchaparral.com
SUMMARY:AoG
DESCRIPTION:
URL:https://crossfitchaparral.com/event/aog/2026-08-31/
LOCATION:CrossFit Chaparral\, 6451 E Shea Blvd\, Scottsdale\, AZ\, 85254\, United States
CATEGORIES:AoG
END:VEVENT
BEGIN:VEVENT
DTSTART;TZID=UTC:20260901T050000
DTEND;TZID=UTC:20260901T063000
DTSTAMP:20260423T080455
CREATED:20251027T163822Z
LAST-MODIFIED:20251027T164423Z
UID:10000222-1788238800-1788244200@crossfitchaparral.com
SUMMARY:AoG
DESCRIPTION:
URL:https://crossfitchaparral.com/event/aog/2026-09-01/
LOCATION:CrossFit Chaparral\, 6451 E Shea Blvd\, Scottsdale\, AZ\, 85254\, United States
CATEGORIES:AoG
END:VEVENT
BEGIN:VEVENT
DTSTART;TZID=UTC:20260902T050000
DTEND;TZID=UTC:20260902T063000
DTSTAMP:20260423T080455
CREATED:20251027T163822Z
LAST-MODIFIED:20251027T164423Z
UID:10000223-1788325200-1788330600@crossfitchaparral.com
SUMMARY:AoG
DESCRIPTION:
URL:https://crossfitchaparral.com/event/aog/2026-09-02/
LOCATION:CrossFit Chaparral\, 6451 E Shea Blvd\, Scottsdale\, AZ\, 85254\, United States
CATEGORIES:AoG
END:VEVENT
BEGIN:VEVENT
DTSTART;TZID=UTC:20260903T050000
DTEND;TZID=UTC:20260903T063000
DTSTAMP:20260423T080455
CREATED:20251027T163822Z
LAST-MODIFIED:20251027T164423Z
UID:10000224-1788411600-1788417000@crossfitchaparral.com
SUMMARY:AoG
DESCRIPTION:
URL:https://crossfitchaparral.com/event/aog/2026-09-03/
LOCATION:CrossFit Chaparral\, 6451 E Shea Blvd\, Scottsdale\, AZ\, 85254\, United States
CATEGORIES:AoG
END:VEVENT
BEGIN:VEVENT
DTSTART;TZID=UTC:20260904T050000
DTEND;TZID=UTC:20260904T063000
DTSTAMP:20260423T080455
CREATED:20251027T163822Z
LAST-MODIFIED:20251027T164423Z
UID:10000225-1788498000-1788503400@crossfitchaparral.com
SUMMARY:AoG
DESCRIPTION:
URL:https://crossfitchaparral.com/event/aog/2026-09-04/
LOCATION:CrossFit Chaparral\, 6451 E Shea Blvd\, Scottsdale\, AZ\, 85254\, United States
CATEGORIES:AoG
END:VEVENT
BEGIN:VEVENT
DTSTART;TZID=UTC:20260907T050000
DTEND;TZID=UTC:20260907T063000
DTSTAMP:20260423T080455
CREATED:20251027T163822Z
LAST-MODIFIED:20251027T164423Z
UID:10000226-1788757200-1788762600@crossfitchaparral.com
SUMMARY:AoG
DESCRIPTION:
URL:https://crossfitchaparral.com/event/aog/2026-09-07/
LOCATION:CrossFit Chaparral\, 6451 E Shea Blvd\, Scottsdale\, AZ\, 85254\, United States
CATEGORIES:AoG
END:VEVENT
BEGIN:VEVENT
DTSTART;TZID=UTC:20260908T050000
DTEND;TZID=UTC:20260908T063000
DTSTAMP:20260423T080455
CREATED:20251027T163822Z
LAST-MODIFIED:20251027T164423Z
UID:10000227-1788843600-1788849000@crossfitchaparral.com
SUMMARY:AoG
DESCRIPTION:
URL:https://crossfitchaparral.com/event/aog/2026-09-08/
LOCATION:CrossFit Chaparral\, 6451 E Shea Blvd\, Scottsdale\, AZ\, 85254\, United States
CATEGORIES:AoG
END:VEVENT
BEGIN:VEVENT
DTSTART;TZID=UTC:20260909T050000
DTEND;TZID=UTC:20260909T063000
DTSTAMP:20260423T080455
CREATED:20251027T163822Z
LAST-MODIFIED:20251027T164423Z
UID:10000228-1788930000-1788935400@crossfitchaparral.com
SUMMARY:AoG
DESCRIPTION:
URL:https://crossfitchaparral.com/event/aog/2026-09-09/
LOCATION:CrossFit Chaparral\, 6451 E Shea Blvd\, Scottsdale\, AZ\, 85254\, United States
CATEGORIES:AoG
END:VEVENT
BEGIN:VEVENT
DTSTART;TZID=UTC:20260910T050000
DTEND;TZID=UTC:20260910T063000
DTSTAMP:20260423T080455
CREATED:20251027T163822Z
LAST-MODIFIED:20251027T164423Z
UID:10000229-1789016400-1789021800@crossfitchaparral.com
SUMMARY:AoG
DESCRIPTION:
URL:https://crossfitchaparral.com/event/aog/2026-09-10/
LOCATION:CrossFit Chaparral\, 6451 E Shea Blvd\, Scottsdale\, AZ\, 85254\, United States
CATEGORIES:AoG
END:VEVENT
BEGIN:VEVENT
DTSTART;TZID=UTC:20260911T050000
DTEND;TZID=UTC:20260911T063000
DTSTAMP:20260423T080455
CREATED:20251027T163822Z
LAST-MODIFIED:20251027T164423Z
UID:10000230-1789102800-1789108200@crossfitchaparral.com
SUMMARY:AoG
DESCRIPTION:
URL:https://crossfitchaparral.com/event/aog/2026-09-11/
LOCATION:CrossFit Chaparral\, 6451 E Shea Blvd\, Scottsdale\, AZ\, 85254\, United States
CATEGORIES:AoG
END:VEVENT
BEGIN:VEVENT
DTSTART;TZID=UTC:20260914T050000
DTEND;TZID=UTC:20260914T063000
DTSTAMP:20260423T080455
CREATED:20251027T163822Z
LAST-MODIFIED:20251027T164423Z
UID:10000231-1789362000-1789367400@crossfitchaparral.com
SUMMARY:AoG
DESCRIPTION:
URL:https://crossfitchaparral.com/event/aog/2026-09-14/
LOCATION:CrossFit Chaparral\, 6451 E Shea Blvd\, Scottsdale\, AZ\, 85254\, United States
CATEGORIES:AoG
END:VEVENT
END:VCALENDAR