BEGIN:VCALENDAR
VERSION:2.0
PRODID:-//CrossFit Chaparral - ECPv6.15.10//NONSGML v1.0//EN
CALSCALE:GREGORIAN
METHOD:PUBLISH
X-WR-CALNAME:CrossFit Chaparral
X-ORIGINAL-URL:https://crossfitchaparral.com
X-WR-CALDESC:Events for CrossFit Chaparral
REFRESH-INTERVAL;VALUE=DURATION:PT1H
X-Robots-Tag:noindex
X-PUBLISHED-TTL:PT1H
BEGIN:VTIMEZONE
TZID:UTC
BEGIN:STANDARD
TZOFFSETFROM:+0000
TZOFFSETTO:+0000
TZNAME:UTC
DTSTART:20250101T000000
END:STANDARD
END:VTIMEZONE
BEGIN:VEVENT
DTSTART;TZID=UTC:20260907T050000
DTEND;TZID=UTC:20260907T063000
DTSTAMP:20260423T164511
CREATED:20251027T163822Z
LAST-MODIFIED:20251027T164423Z
UID:10000226-1788757200-1788762600@crossfitchaparral.com
SUMMARY:AoG
DESCRIPTION:
URL:https://crossfitchaparral.com/event/aog/2026-09-07/
LOCATION:CrossFit Chaparral\, 6451 E Shea Blvd\, Scottsdale\, AZ\, 85254\, United States
CATEGORIES:AoG
END:VEVENT
BEGIN:VEVENT
DTSTART;TZID=UTC:20260908T050000
DTEND;TZID=UTC:20260908T063000
DTSTAMP:20260423T164511
CREATED:20251027T163822Z
LAST-MODIFIED:20251027T164423Z
UID:10000227-1788843600-1788849000@crossfitchaparral.com
SUMMARY:AoG
DESCRIPTION:
URL:https://crossfitchaparral.com/event/aog/2026-09-08/
LOCATION:CrossFit Chaparral\, 6451 E Shea Blvd\, Scottsdale\, AZ\, 85254\, United States
CATEGORIES:AoG
END:VEVENT
BEGIN:VEVENT
DTSTART;TZID=UTC:20260909T050000
DTEND;TZID=UTC:20260909T063000
DTSTAMP:20260423T164511
CREATED:20251027T163822Z
LAST-MODIFIED:20251027T164423Z
UID:10000228-1788930000-1788935400@crossfitchaparral.com
SUMMARY:AoG
DESCRIPTION:
URL:https://crossfitchaparral.com/event/aog/2026-09-09/
LOCATION:CrossFit Chaparral\, 6451 E Shea Blvd\, Scottsdale\, AZ\, 85254\, United States
CATEGORIES:AoG
END:VEVENT
BEGIN:VEVENT
DTSTART;TZID=UTC:20260910T050000
DTEND;TZID=UTC:20260910T063000
DTSTAMP:20260423T164511
CREATED:20251027T163822Z
LAST-MODIFIED:20251027T164423Z
UID:10000229-1789016400-1789021800@crossfitchaparral.com
SUMMARY:AoG
DESCRIPTION:
URL:https://crossfitchaparral.com/event/aog/2026-09-10/
LOCATION:CrossFit Chaparral\, 6451 E Shea Blvd\, Scottsdale\, AZ\, 85254\, United States
CATEGORIES:AoG
END:VEVENT
BEGIN:VEVENT
DTSTART;TZID=UTC:20260911T050000
DTEND;TZID=UTC:20260911T063000
DTSTAMP:20260423T164511
CREATED:20251027T163822Z
LAST-MODIFIED:20251027T164423Z
UID:10000230-1789102800-1789108200@crossfitchaparral.com
SUMMARY:AoG
DESCRIPTION:
URL:https://crossfitchaparral.com/event/aog/2026-09-11/
LOCATION:CrossFit Chaparral\, 6451 E Shea Blvd\, Scottsdale\, AZ\, 85254\, United States
CATEGORIES:AoG
END:VEVENT
BEGIN:VEVENT
DTSTART;TZID=UTC:20260914T050000
DTEND;TZID=UTC:20260914T063000
DTSTAMP:20260423T164511
CREATED:20251027T163822Z
LAST-MODIFIED:20251027T164423Z
UID:10000231-1789362000-1789367400@crossfitchaparral.com
SUMMARY:AoG
DESCRIPTION:
URL:https://crossfitchaparral.com/event/aog/2026-09-14/
LOCATION:CrossFit Chaparral\, 6451 E Shea Blvd\, Scottsdale\, AZ\, 85254\, United States
CATEGORIES:AoG
END:VEVENT
BEGIN:VEVENT
DTSTART;TZID=UTC:20260915T050000
DTEND;TZID=UTC:20260915T063000
DTSTAMP:20260423T164511
CREATED:20251027T163822Z
LAST-MODIFIED:20251027T164423Z
UID:10000232-1789448400-1789453800@crossfitchaparral.com
SUMMARY:AoG
DESCRIPTION:
URL:https://crossfitchaparral.com/event/aog/2026-09-15/
LOCATION:CrossFit Chaparral\, 6451 E Shea Blvd\, Scottsdale\, AZ\, 85254\, United States
CATEGORIES:AoG
END:VEVENT
BEGIN:VEVENT
DTSTART;TZID=UTC:20260916T050000
DTEND;TZID=UTC:20260916T063000
DTSTAMP:20260423T164511
CREATED:20251027T163822Z
LAST-MODIFIED:20251027T164423Z
UID:10000233-1789534800-1789540200@crossfitchaparral.com
SUMMARY:AoG
DESCRIPTION:
URL:https://crossfitchaparral.com/event/aog/2026-09-16/
LOCATION:CrossFit Chaparral\, 6451 E Shea Blvd\, Scottsdale\, AZ\, 85254\, United States
CATEGORIES:AoG
END:VEVENT
BEGIN:VEVENT
DTSTART;TZID=UTC:20260917T050000
DTEND;TZID=UTC:20260917T063000
DTSTAMP:20260423T164511
CREATED:20251027T163822Z
LAST-MODIFIED:20251027T164423Z
UID:10000234-1789621200-1789626600@crossfitchaparral.com
SUMMARY:AoG
DESCRIPTION:
URL:https://crossfitchaparral.com/event/aog/2026-09-17/
LOCATION:CrossFit Chaparral\, 6451 E Shea Blvd\, Scottsdale\, AZ\, 85254\, United States
CATEGORIES:AoG
END:VEVENT
BEGIN:VEVENT
DTSTART;TZID=UTC:20260918T050000
DTEND;TZID=UTC:20260918T063000
DTSTAMP:20260423T164511
CREATED:20251027T163822Z
LAST-MODIFIED:20251027T164423Z
UID:10000235-1789707600-1789713000@crossfitchaparral.com
SUMMARY:AoG
DESCRIPTION:
URL:https://crossfitchaparral.com/event/aog/2026-09-18/
LOCATION:CrossFit Chaparral\, 6451 E Shea Blvd\, Scottsdale\, AZ\, 85254\, United States
CATEGORIES:AoG
END:VEVENT
BEGIN:VEVENT
DTSTART;TZID=UTC:20260921T050000
DTEND;TZID=UTC:20260921T063000
DTSTAMP:20260423T164511
CREATED:20251027T163822Z
LAST-MODIFIED:20251027T164423Z
UID:10000236-1789966800-1789972200@crossfitchaparral.com
SUMMARY:AoG
DESCRIPTION:
URL:https://crossfitchaparral.com/event/aog/2026-09-21/
LOCATION:CrossFit Chaparral\, 6451 E Shea Blvd\, Scottsdale\, AZ\, 85254\, United States
CATEGORIES:AoG
END:VEVENT
BEGIN:VEVENT
DTSTART;TZID=UTC:20260922T050000
DTEND;TZID=UTC:20260922T063000
DTSTAMP:20260423T164511
CREATED:20251027T163822Z
LAST-MODIFIED:20251027T164423Z
UID:10000237-1790053200-1790058600@crossfitchaparral.com
SUMMARY:AoG
DESCRIPTION:
URL:https://crossfitchaparral.com/event/aog/2026-09-22/
LOCATION:CrossFit Chaparral\, 6451 E Shea Blvd\, Scottsdale\, AZ\, 85254\, United States
CATEGORIES:AoG
END:VEVENT
BEGIN:VEVENT
DTSTART;TZID=UTC:20260923T050000
DTEND;TZID=UTC:20260923T063000
DTSTAMP:20260423T164511
CREATED:20251027T163822Z
LAST-MODIFIED:20251027T164423Z
UID:10000238-1790139600-1790145000@crossfitchaparral.com
SUMMARY:AoG
DESCRIPTION:
URL:https://crossfitchaparral.com/event/aog/2026-09-23/
LOCATION:CrossFit Chaparral\, 6451 E Shea Blvd\, Scottsdale\, AZ\, 85254\, United States
CATEGORIES:AoG
END:VEVENT
BEGIN:VEVENT
DTSTART;TZID=UTC:20260924T050000
DTEND;TZID=UTC:20260924T063000
DTSTAMP:20260423T164511
CREATED:20251027T163822Z
LAST-MODIFIED:20251027T164423Z
UID:10000239-1790226000-1790231400@crossfitchaparral.com
SUMMARY:AoG
DESCRIPTION:
URL:https://crossfitchaparral.com/event/aog/2026-09-24/
LOCATION:CrossFit Chaparral\, 6451 E Shea Blvd\, Scottsdale\, AZ\, 85254\, United States
CATEGORIES:AoG
END:VEVENT
BEGIN:VEVENT
DTSTART;TZID=UTC:20260925T050000
DTEND;TZID=UTC:20260925T063000
DTSTAMP:20260423T164511
CREATED:20251027T163822Z
LAST-MODIFIED:20251027T164423Z
UID:10000240-1790312400-1790317800@crossfitchaparral.com
SUMMARY:AoG
DESCRIPTION:
URL:https://crossfitchaparral.com/event/aog/2026-09-25/
LOCATION:CrossFit Chaparral\, 6451 E Shea Blvd\, Scottsdale\, AZ\, 85254\, United States
CATEGORIES:AoG
END:VEVENT
BEGIN:VEVENT
DTSTART;TZID=UTC:20260928T050000
DTEND;TZID=UTC:20260928T063000
DTSTAMP:20260423T164511
CREATED:20251027T163822Z
LAST-MODIFIED:20251027T164423Z
UID:10000241-1790571600-1790577000@crossfitchaparral.com
SUMMARY:AoG
DESCRIPTION:
URL:https://crossfitchaparral.com/event/aog/2026-09-28/
LOCATION:CrossFit Chaparral\, 6451 E Shea Blvd\, Scottsdale\, AZ\, 85254\, United States
CATEGORIES:AoG
END:VEVENT
BEGIN:VEVENT
DTSTART;TZID=UTC:20260929T050000
DTEND;TZID=UTC:20260929T063000
DTSTAMP:20260423T164511
CREATED:20251027T163822Z
LAST-MODIFIED:20251027T164423Z
UID:10000242-1790658000-1790663400@crossfitchaparral.com
SUMMARY:AoG
DESCRIPTION:
URL:https://crossfitchaparral.com/event/aog/2026-09-29/
LOCATION:CrossFit Chaparral\, 6451 E Shea Blvd\, Scottsdale\, AZ\, 85254\, United States
CATEGORIES:AoG
END:VEVENT
BEGIN:VEVENT
DTSTART;TZID=UTC:20260930T050000
DTEND;TZID=UTC:20260930T063000
DTSTAMP:20260423T164511
CREATED:20251027T163822Z
LAST-MODIFIED:20251027T164423Z
UID:10000243-1790744400-1790749800@crossfitchaparral.com
SUMMARY:AoG
DESCRIPTION:
URL:https://crossfitchaparral.com/event/aog/2026-09-30/
LOCATION:CrossFit Chaparral\, 6451 E Shea Blvd\, Scottsdale\, AZ\, 85254\, United States
CATEGORIES:AoG
END:VEVENT
BEGIN:VEVENT
DTSTART;TZID=UTC:20261001T050000
DTEND;TZID=UTC:20261001T063000
DTSTAMP:20260423T164511
CREATED:20251027T163822Z
LAST-MODIFIED:20251027T164423Z
UID:10000244-1790830800-1790836200@crossfitchaparral.com
SUMMARY:AoG
DESCRIPTION:
URL:https://crossfitchaparral.com/event/aog/2026-10-01/
LOCATION:CrossFit Chaparral\, 6451 E Shea Blvd\, Scottsdale\, AZ\, 85254\, United States
CATEGORIES:AoG
END:VEVENT
BEGIN:VEVENT
DTSTART;TZID=UTC:20261002T050000
DTEND;TZID=UTC:20261002T063000
DTSTAMP:20260423T164511
CREATED:20251027T163822Z
LAST-MODIFIED:20251027T164423Z
UID:10000245-1790917200-1790922600@crossfitchaparral.com
SUMMARY:AoG
DESCRIPTION:
URL:https://crossfitchaparral.com/event/aog/2026-10-02/
LOCATION:CrossFit Chaparral\, 6451 E Shea Blvd\, Scottsdale\, AZ\, 85254\, United States
CATEGORIES:AoG
END:VEVENT
BEGIN:VEVENT
DTSTART;TZID=UTC:20261005T050000
DTEND;TZID=UTC:20261005T063000
DTSTAMP:20260423T164511
CREATED:20251027T163822Z
LAST-MODIFIED:20251027T164423Z
UID:10000246-1791176400-1791181800@crossfitchaparral.com
SUMMARY:AoG
DESCRIPTION:
URL:https://crossfitchaparral.com/event/aog/2026-10-05/
LOCATION:CrossFit Chaparral\, 6451 E Shea Blvd\, Scottsdale\, AZ\, 85254\, United States
CATEGORIES:AoG
END:VEVENT
BEGIN:VEVENT
DTSTART;TZID=UTC:20261006T050000
DTEND;TZID=UTC:20261006T063000
DTSTAMP:20260423T164511
CREATED:20251027T163822Z
LAST-MODIFIED:20251027T164423Z
UID:10000247-1791262800-1791268200@crossfitchaparral.com
SUMMARY:AoG
DESCRIPTION:
URL:https://crossfitchaparral.com/event/aog/2026-10-06/
LOCATION:CrossFit Chaparral\, 6451 E Shea Blvd\, Scottsdale\, AZ\, 85254\, United States
CATEGORIES:AoG
END:VEVENT
BEGIN:VEVENT
DTSTART;TZID=UTC:20261007T050000
DTEND;TZID=UTC:20261007T063000
DTSTAMP:20260423T164511
CREATED:20251027T163822Z
LAST-MODIFIED:20251027T164423Z
UID:10000248-1791349200-1791354600@crossfitchaparral.com
SUMMARY:AoG
DESCRIPTION:
URL:https://crossfitchaparral.com/event/aog/2026-10-07/
LOCATION:CrossFit Chaparral\, 6451 E Shea Blvd\, Scottsdale\, AZ\, 85254\, United States
CATEGORIES:AoG
END:VEVENT
BEGIN:VEVENT
DTSTART;TZID=UTC:20261008T050000
DTEND;TZID=UTC:20261008T063000
DTSTAMP:20260423T164511
CREATED:20251027T163822Z
LAST-MODIFIED:20251027T164423Z
UID:10000249-1791435600-1791441000@crossfitchaparral.com
SUMMARY:AoG
DESCRIPTION:
URL:https://crossfitchaparral.com/event/aog/2026-10-08/
LOCATION:CrossFit Chaparral\, 6451 E Shea Blvd\, Scottsdale\, AZ\, 85254\, United States
CATEGORIES:AoG
END:VEVENT
BEGIN:VEVENT
DTSTART;TZID=UTC:20261009T050000
DTEND;TZID=UTC:20261009T063000
DTSTAMP:20260423T164511
CREATED:20251027T163822Z
LAST-MODIFIED:20251027T164423Z
UID:10000250-1791522000-1791527400@crossfitchaparral.com
SUMMARY:AoG
DESCRIPTION:
URL:https://crossfitchaparral.com/event/aog/2026-10-09/
LOCATION:CrossFit Chaparral\, 6451 E Shea Blvd\, Scottsdale\, AZ\, 85254\, United States
CATEGORIES:AoG
END:VEVENT
BEGIN:VEVENT
DTSTART;TZID=UTC:20261012T050000
DTEND;TZID=UTC:20261012T063000
DTSTAMP:20260423T164511
CREATED:20251027T163822Z
LAST-MODIFIED:20251027T164423Z
UID:10000251-1791781200-1791786600@crossfitchaparral.com
SUMMARY:AoG
DESCRIPTION:
URL:https://crossfitchaparral.com/event/aog/2026-10-12/
LOCATION:CrossFit Chaparral\, 6451 E Shea Blvd\, Scottsdale\, AZ\, 85254\, United States
CATEGORIES:AoG
END:VEVENT
BEGIN:VEVENT
DTSTART;TZID=UTC:20261013T050000
DTEND;TZID=UTC:20261013T063000
DTSTAMP:20260423T164511
CREATED:20251027T163822Z
LAST-MODIFIED:20251027T164423Z
UID:10000252-1791867600-1791873000@crossfitchaparral.com
SUMMARY:AoG
DESCRIPTION:
URL:https://crossfitchaparral.com/event/aog/2026-10-13/
LOCATION:CrossFit Chaparral\, 6451 E Shea Blvd\, Scottsdale\, AZ\, 85254\, United States
CATEGORIES:AoG
END:VEVENT
BEGIN:VEVENT
DTSTART;TZID=UTC:20261014T050000
DTEND;TZID=UTC:20261014T063000
DTSTAMP:20260423T164511
CREATED:20251027T163822Z
LAST-MODIFIED:20251027T164423Z
UID:10000253-1791954000-1791959400@crossfitchaparral.com
SUMMARY:AoG
DESCRIPTION:
URL:https://crossfitchaparral.com/event/aog/2026-10-14/
LOCATION:CrossFit Chaparral\, 6451 E Shea Blvd\, Scottsdale\, AZ\, 85254\, United States
CATEGORIES:AoG
END:VEVENT
BEGIN:VEVENT
DTSTART;TZID=UTC:20261015T050000
DTEND;TZID=UTC:20261015T063000
DTSTAMP:20260423T164511
CREATED:20251027T163822Z
LAST-MODIFIED:20251027T164423Z
UID:10000254-1792040400-1792045800@crossfitchaparral.com
SUMMARY:AoG
DESCRIPTION:
URL:https://crossfitchaparral.com/event/aog/2026-10-15/
LOCATION:CrossFit Chaparral\, 6451 E Shea Blvd\, Scottsdale\, AZ\, 85254\, United States
CATEGORIES:AoG
END:VEVENT
BEGIN:VEVENT
DTSTART;TZID=UTC:20261016T050000
DTEND;TZID=UTC:20261016T063000
DTSTAMP:20260423T164511
CREATED:20251027T163822Z
LAST-MODIFIED:20251027T164423Z
UID:10000255-1792126800-1792132200@crossfitchaparral.com
SUMMARY:AoG
DESCRIPTION:
URL:https://crossfitchaparral.com/event/aog/2026-10-16/
LOCATION:CrossFit Chaparral\, 6451 E Shea Blvd\, Scottsdale\, AZ\, 85254\, United States
CATEGORIES:AoG
END:VEVENT
END:VCALENDAR