BEGIN:VCALENDAR
VERSION:2.0
PRODID:-//CrossFit Chaparral - ECPv6.15.10//NONSGML v1.0//EN
CALSCALE:GREGORIAN
METHOD:PUBLISH
X-WR-CALNAME:CrossFit Chaparral
X-ORIGINAL-URL:https://crossfitchaparral.com
X-WR-CALDESC:Events for CrossFit Chaparral
REFRESH-INTERVAL;VALUE=DURATION:PT1H
X-Robots-Tag:noindex
X-PUBLISHED-TTL:PT1H
BEGIN:VTIMEZONE
TZID:UTC
BEGIN:STANDARD
TZOFFSETFROM:+0000
TZOFFSETTO:+0000
TZNAME:UTC
DTSTART:20260101T000000
END:STANDARD
END:VTIMEZONE
BEGIN:VEVENT
DTSTART;TZID=UTC:20270201T053000
DTEND;TZID=UTC:20270201T063000
DTSTAMP:20260424T103330
CREATED:20251027T164919Z
LAST-MODIFIED:20251027T164919Z
UID:10001636-1801459800-1801463400@crossfitchaparral.com
SUMMARY:CrossFit Class
DESCRIPTION:
URL:https://crossfitchaparral.com/event/crossfit-class/2027-02-01/
CATEGORIES:CrossFit Class
END:VEVENT
BEGIN:VEVENT
DTSTART;TZID=UTC:20270201T063000
DTEND;TZID=UTC:20270201T193000
DTSTAMP:20260424T103330
CREATED:20251027T165009Z
LAST-MODIFIED:20251027T165009Z
UID:10002941-1801463400-1801510200@crossfitchaparral.com
SUMMARY:CrossFit Class
DESCRIPTION:
URL:https://crossfitchaparral.com/event/crossfit-class-2/2027-02-01/
CATEGORIES:CrossFit Class
END:VEVENT
BEGIN:VEVENT
DTSTART;TZID=UTC:20270201T163000
DTEND;TZID=UTC:20270201T173000
DTSTAMP:20260424T103330
CREATED:20251027T165935Z
LAST-MODIFIED:20251027T165935Z
UID:10007117-1801499400-1801503000@crossfitchaparral.com
SUMMARY:CrossFit Class
DESCRIPTION:
URL:https://crossfitchaparral.com/event/crossfit-class-5/2027-02-01/
CATEGORIES:CrossFit Class
END:VEVENT
BEGIN:VEVENT
DTSTART;TZID=UTC:20270201T173000
DTEND;TZID=UTC:20270201T183000
DTSTAMP:20260424T103330
CREATED:20251027T170752Z
LAST-MODIFIED:20251027T170752Z
UID:10008422-1801503000-1801506600@crossfitchaparral.com
SUMMARY:CrossFit Class
DESCRIPTION:
URL:https://crossfitchaparral.com/event/crossfit-class-6/2027-02-01/
CATEGORIES:CrossFit Class
END:VEVENT
BEGIN:VEVENT
DTSTART;TZID=UTC:20270201T183000
DTEND;TZID=UTC:20270201T193000
DTSTAMP:20260424T103330
CREATED:20251027T170840Z
LAST-MODIFIED:20251027T170858Z
UID:10009661-1801506600-1801510200@crossfitchaparral.com
SUMMARY:CrossFit Class
DESCRIPTION:
URL:https://crossfitchaparral.com/event/crossfit-class-7/2027-02-01/
CATEGORIES:CrossFit Class
END:VEVENT
BEGIN:VEVENT
DTSTART;TZID=UTC:20270202T053000
DTEND;TZID=UTC:20270202T063000
DTSTAMP:20260424T103330
CREATED:20251027T164919Z
LAST-MODIFIED:20251027T164919Z
UID:10001637-1801546200-1801549800@crossfitchaparral.com
SUMMARY:CrossFit Class
DESCRIPTION:
URL:https://crossfitchaparral.com/event/crossfit-class/2027-02-02/
CATEGORIES:CrossFit Class
END:VEVENT
BEGIN:VEVENT
DTSTART;TZID=UTC:20270202T063000
DTEND;TZID=UTC:20270202T193000
DTSTAMP:20260424T103330
CREATED:20251027T165009Z
LAST-MODIFIED:20251027T165009Z
UID:10002942-1801549800-1801596600@crossfitchaparral.com
SUMMARY:CrossFit Class
DESCRIPTION:
URL:https://crossfitchaparral.com/event/crossfit-class-2/2027-02-02/
CATEGORIES:CrossFit Class
END:VEVENT
BEGIN:VEVENT
DTSTART;TZID=UTC:20270202T163000
DTEND;TZID=UTC:20270202T173000
DTSTAMP:20260424T103330
CREATED:20251027T165935Z
LAST-MODIFIED:20251027T165935Z
UID:10007118-1801585800-1801589400@crossfitchaparral.com
SUMMARY:CrossFit Class
DESCRIPTION:
URL:https://crossfitchaparral.com/event/crossfit-class-5/2027-02-02/
CATEGORIES:CrossFit Class
END:VEVENT
BEGIN:VEVENT
DTSTART;TZID=UTC:20270202T173000
DTEND;TZID=UTC:20270202T183000
DTSTAMP:20260424T103330
CREATED:20251027T170752Z
LAST-MODIFIED:20251027T170752Z
UID:10008423-1801589400-1801593000@crossfitchaparral.com
SUMMARY:CrossFit Class
DESCRIPTION:
URL:https://crossfitchaparral.com/event/crossfit-class-6/2027-02-02/
CATEGORIES:CrossFit Class
END:VEVENT
BEGIN:VEVENT
DTSTART;TZID=UTC:20270202T183000
DTEND;TZID=UTC:20270202T193000
DTSTAMP:20260424T103330
CREATED:20251027T170840Z
LAST-MODIFIED:20251027T170858Z
UID:10009662-1801593000-1801596600@crossfitchaparral.com
SUMMARY:CrossFit Class
DESCRIPTION:
URL:https://crossfitchaparral.com/event/crossfit-class-7/2027-02-02/
CATEGORIES:CrossFit Class
END:VEVENT
BEGIN:VEVENT
DTSTART;TZID=UTC:20270203T053000
DTEND;TZID=UTC:20270203T063000
DTSTAMP:20260424T103330
CREATED:20251027T164919Z
LAST-MODIFIED:20251027T164919Z
UID:10001638-1801632600-1801636200@crossfitchaparral.com
SUMMARY:CrossFit Class
DESCRIPTION:
URL:https://crossfitchaparral.com/event/crossfit-class/2027-02-03/
CATEGORIES:CrossFit Class
END:VEVENT
BEGIN:VEVENT
DTSTART;TZID=UTC:20270203T063000
DTEND;TZID=UTC:20270203T193000
DTSTAMP:20260424T103330
CREATED:20251027T165009Z
LAST-MODIFIED:20251027T165009Z
UID:10002943-1801636200-1801683000@crossfitchaparral.com
SUMMARY:CrossFit Class
DESCRIPTION:
URL:https://crossfitchaparral.com/event/crossfit-class-2/2027-02-03/
CATEGORIES:CrossFit Class
END:VEVENT
BEGIN:VEVENT
DTSTART;TZID=UTC:20270203T163000
DTEND;TZID=UTC:20270203T173000
DTSTAMP:20260424T103330
CREATED:20251027T165935Z
LAST-MODIFIED:20251027T165935Z
UID:10007119-1801672200-1801675800@crossfitchaparral.com
SUMMARY:CrossFit Class
DESCRIPTION:
URL:https://crossfitchaparral.com/event/crossfit-class-5/2027-02-03/
CATEGORIES:CrossFit Class
END:VEVENT
BEGIN:VEVENT
DTSTART;TZID=UTC:20270203T173000
DTEND;TZID=UTC:20270203T183000
DTSTAMP:20260424T103330
CREATED:20251027T170752Z
LAST-MODIFIED:20251027T170752Z
UID:10008424-1801675800-1801679400@crossfitchaparral.com
SUMMARY:CrossFit Class
DESCRIPTION:
URL:https://crossfitchaparral.com/event/crossfit-class-6/2027-02-03/
CATEGORIES:CrossFit Class
END:VEVENT
BEGIN:VEVENT
DTSTART;TZID=UTC:20270203T183000
DTEND;TZID=UTC:20270203T193000
DTSTAMP:20260424T103330
CREATED:20251027T170840Z
LAST-MODIFIED:20251027T170858Z
UID:10009663-1801679400-1801683000@crossfitchaparral.com
SUMMARY:CrossFit Class
DESCRIPTION:
URL:https://crossfitchaparral.com/event/crossfit-class-7/2027-02-03/
CATEGORIES:CrossFit Class
END:VEVENT
BEGIN:VEVENT
DTSTART;TZID=UTC:20270204T053000
DTEND;TZID=UTC:20270204T063000
DTSTAMP:20260424T103330
CREATED:20251027T164919Z
LAST-MODIFIED:20251027T164919Z
UID:10001639-1801719000-1801722600@crossfitchaparral.com
SUMMARY:CrossFit Class
DESCRIPTION:
URL:https://crossfitchaparral.com/event/crossfit-class/2027-02-04/
CATEGORIES:CrossFit Class
END:VEVENT
BEGIN:VEVENT
DTSTART;TZID=UTC:20270204T063000
DTEND;TZID=UTC:20270204T193000
DTSTAMP:20260424T103330
CREATED:20251027T165009Z
LAST-MODIFIED:20251027T165009Z
UID:10002944-1801722600-1801769400@crossfitchaparral.com
SUMMARY:CrossFit Class
DESCRIPTION:
URL:https://crossfitchaparral.com/event/crossfit-class-2/2027-02-04/
CATEGORIES:CrossFit Class
END:VEVENT
BEGIN:VEVENT
DTSTART;TZID=UTC:20270204T163000
DTEND;TZID=UTC:20270204T173000
DTSTAMP:20260424T103330
CREATED:20251027T165935Z
LAST-MODIFIED:20251027T165935Z
UID:10007120-1801758600-1801762200@crossfitchaparral.com
SUMMARY:CrossFit Class
DESCRIPTION:
URL:https://crossfitchaparral.com/event/crossfit-class-5/2027-02-04/
CATEGORIES:CrossFit Class
END:VEVENT
BEGIN:VEVENT
DTSTART;TZID=UTC:20270204T173000
DTEND;TZID=UTC:20270204T183000
DTSTAMP:20260424T103330
CREATED:20251027T170752Z
LAST-MODIFIED:20251027T170752Z
UID:10008425-1801762200-1801765800@crossfitchaparral.com
SUMMARY:CrossFit Class
DESCRIPTION:
URL:https://crossfitchaparral.com/event/crossfit-class-6/2027-02-04/
CATEGORIES:CrossFit Class
END:VEVENT
BEGIN:VEVENT
DTSTART;TZID=UTC:20270204T183000
DTEND;TZID=UTC:20270204T193000
DTSTAMP:20260424T103330
CREATED:20251027T170840Z
LAST-MODIFIED:20251027T170858Z
UID:10009664-1801765800-1801769400@crossfitchaparral.com
SUMMARY:CrossFit Class
DESCRIPTION:
URL:https://crossfitchaparral.com/event/crossfit-class-7/2027-02-04/
CATEGORIES:CrossFit Class
END:VEVENT
BEGIN:VEVENT
DTSTART;TZID=UTC:20270205T053000
DTEND;TZID=UTC:20270205T063000
DTSTAMP:20260424T103330
CREATED:20251027T164919Z
LAST-MODIFIED:20251027T164919Z
UID:10001640-1801805400-1801809000@crossfitchaparral.com
SUMMARY:CrossFit Class
DESCRIPTION:
URL:https://crossfitchaparral.com/event/crossfit-class/2027-02-05/
CATEGORIES:CrossFit Class
END:VEVENT
BEGIN:VEVENT
DTSTART;TZID=UTC:20270205T063000
DTEND;TZID=UTC:20270205T193000
DTSTAMP:20260424T103330
CREATED:20251027T165009Z
LAST-MODIFIED:20251027T165009Z
UID:10002945-1801809000-1801855800@crossfitchaparral.com
SUMMARY:CrossFit Class
DESCRIPTION:
URL:https://crossfitchaparral.com/event/crossfit-class-2/2027-02-05/
CATEGORIES:CrossFit Class
END:VEVENT
BEGIN:VEVENT
DTSTART;TZID=UTC:20270205T083000
DTEND;TZID=UTC:20270205T093000
DTSTAMP:20260424T103330
CREATED:20251027T165257Z
LAST-MODIFIED:20251027T165257Z
UID:10005287-1801816200-1801819800@crossfitchaparral.com
SUMMARY:CrossFit Class
DESCRIPTION:
URL:https://crossfitchaparral.com/event/crossfit-class-3/2027-02-05/
CATEGORIES:CrossFit Class
END:VEVENT
BEGIN:VEVENT
DTSTART;TZID=UTC:20270205T163000
DTEND;TZID=UTC:20270205T173000
DTSTAMP:20260424T103331
CREATED:20251027T165935Z
LAST-MODIFIED:20251027T165935Z
UID:10007121-1801845000-1801848600@crossfitchaparral.com
SUMMARY:CrossFit Class
DESCRIPTION:
URL:https://crossfitchaparral.com/event/crossfit-class-5/2027-02-05/
CATEGORIES:CrossFit Class
END:VEVENT
BEGIN:VEVENT
DTSTART;TZID=UTC:20270205T173000
DTEND;TZID=UTC:20270205T183000
DTSTAMP:20260424T103331
CREATED:20251027T170752Z
LAST-MODIFIED:20251027T170752Z
UID:10008426-1801848600-1801852200@crossfitchaparral.com
SUMMARY:CrossFit Class
DESCRIPTION:
URL:https://crossfitchaparral.com/event/crossfit-class-6/2027-02-05/
CATEGORIES:CrossFit Class
END:VEVENT
BEGIN:VEVENT
DTSTART;TZID=UTC:20270206T080000
DTEND;TZID=UTC:20270206T090000
DTSTAMP:20260424T103331
CREATED:20251027T165352Z
LAST-MODIFIED:20251027T165352Z
UID:10005548-1801900800-1801904400@crossfitchaparral.com
SUMMARY:CrossFit Class
DESCRIPTION:
URL:https://crossfitchaparral.com/event/crossfit-class-4/2027-02-06/
CATEGORIES:CrossFit Class
END:VEVENT
BEGIN:VEVENT
DTSTART;TZID=UTC:20270208T053000
DTEND;TZID=UTC:20270208T063000
DTSTAMP:20260424T103331
CREATED:20251027T164919Z
LAST-MODIFIED:20251027T164919Z
UID:10001641-1802064600-1802068200@crossfitchaparral.com
SUMMARY:CrossFit Class
DESCRIPTION:
URL:https://crossfitchaparral.com/event/crossfit-class/2027-02-08/
CATEGORIES:CrossFit Class
END:VEVENT
BEGIN:VEVENT
DTSTART;TZID=UTC:20270208T063000
DTEND;TZID=UTC:20270208T193000
DTSTAMP:20260424T103331
CREATED:20251027T165009Z
LAST-MODIFIED:20251027T165009Z
UID:10002946-1802068200-1802115000@crossfitchaparral.com
SUMMARY:CrossFit Class
DESCRIPTION:
URL:https://crossfitchaparral.com/event/crossfit-class-2/2027-02-08/
CATEGORIES:CrossFit Class
END:VEVENT
BEGIN:VEVENT
DTSTART;TZID=UTC:20270208T163000
DTEND;TZID=UTC:20270208T173000
DTSTAMP:20260424T103331
CREATED:20251027T165935Z
LAST-MODIFIED:20251027T165935Z
UID:10007122-1802104200-1802107800@crossfitchaparral.com
SUMMARY:CrossFit Class
DESCRIPTION:
URL:https://crossfitchaparral.com/event/crossfit-class-5/2027-02-08/
CATEGORIES:CrossFit Class
END:VEVENT
BEGIN:VEVENT
DTSTART;TZID=UTC:20270208T173000
DTEND;TZID=UTC:20270208T183000
DTSTAMP:20260424T103331
CREATED:20251027T170752Z
LAST-MODIFIED:20251027T170752Z
UID:10008427-1802107800-1802111400@crossfitchaparral.com
SUMMARY:CrossFit Class
DESCRIPTION:
URL:https://crossfitchaparral.com/event/crossfit-class-6/2027-02-08/
CATEGORIES:CrossFit Class
END:VEVENT
END:VCALENDAR