BEGIN:VCALENDAR
VERSION:2.0
PRODID:-//CrossFit Chaparral - ECPv6.15.10//NONSGML v1.0//EN
CALSCALE:GREGORIAN
METHOD:PUBLISH
X-WR-CALNAME:CrossFit Chaparral
X-ORIGINAL-URL:https://crossfitchaparral.com
X-WR-CALDESC:Events for CrossFit Chaparral
REFRESH-INTERVAL;VALUE=DURATION:PT1H
X-Robots-Tag:noindex
X-PUBLISHED-TTL:PT1H
BEGIN:VTIMEZONE
TZID:UTC
BEGIN:STANDARD
TZOFFSETFROM:+0000
TZOFFSETTO:+0000
TZNAME:UTC
DTSTART:20260101T000000
END:STANDARD
END:VTIMEZONE
BEGIN:VEVENT
DTSTART;TZID=UTC:20270301T053000
DTEND;TZID=UTC:20270301T063000
DTSTAMP:20260424T144929
CREATED:20251027T164919Z
LAST-MODIFIED:20251027T164919Z
UID:10001656-1803879000-1803882600@crossfitchaparral.com
SUMMARY:CrossFit Class
DESCRIPTION:
URL:https://crossfitchaparral.com/event/crossfit-class/2027-03-01/
CATEGORIES:CrossFit Class
END:VEVENT
BEGIN:VEVENT
DTSTART;TZID=UTC:20270301T063000
DTEND;TZID=UTC:20270301T193000
DTSTAMP:20260424T144929
CREATED:20251027T165009Z
LAST-MODIFIED:20251027T165009Z
UID:10002961-1803882600-1803929400@crossfitchaparral.com
SUMMARY:CrossFit Class
DESCRIPTION:
URL:https://crossfitchaparral.com/event/crossfit-class-2/2027-03-01/
CATEGORIES:CrossFit Class
END:VEVENT
BEGIN:VEVENT
DTSTART;TZID=UTC:20270301T163000
DTEND;TZID=UTC:20270301T173000
DTSTAMP:20260424T144929
CREATED:20251027T165935Z
LAST-MODIFIED:20251027T165935Z
UID:10007137-1803918600-1803922200@crossfitchaparral.com
SUMMARY:CrossFit Class
DESCRIPTION:
URL:https://crossfitchaparral.com/event/crossfit-class-5/2027-03-01/
CATEGORIES:CrossFit Class
END:VEVENT
BEGIN:VEVENT
DTSTART;TZID=UTC:20270301T173000
DTEND;TZID=UTC:20270301T183000
DTSTAMP:20260424T144929
CREATED:20251027T170752Z
LAST-MODIFIED:20251027T170752Z
UID:10008442-1803922200-1803925800@crossfitchaparral.com
SUMMARY:CrossFit Class
DESCRIPTION:
URL:https://crossfitchaparral.com/event/crossfit-class-6/2027-03-01/
CATEGORIES:CrossFit Class
END:VEVENT
BEGIN:VEVENT
DTSTART;TZID=UTC:20270301T183000
DTEND;TZID=UTC:20270301T193000
DTSTAMP:20260424T144929
CREATED:20251027T170840Z
LAST-MODIFIED:20251027T170858Z
UID:10009677-1803925800-1803929400@crossfitchaparral.com
SUMMARY:CrossFit Class
DESCRIPTION:
URL:https://crossfitchaparral.com/event/crossfit-class-7/2027-03-01/
CATEGORIES:CrossFit Class
END:VEVENT
BEGIN:VEVENT
DTSTART;TZID=UTC:20270302T053000
DTEND;TZID=UTC:20270302T063000
DTSTAMP:20260424T144929
CREATED:20251027T164919Z
LAST-MODIFIED:20251027T164919Z
UID:10001657-1803965400-1803969000@crossfitchaparral.com
SUMMARY:CrossFit Class
DESCRIPTION:
URL:https://crossfitchaparral.com/event/crossfit-class/2027-03-02/
CATEGORIES:CrossFit Class
END:VEVENT
BEGIN:VEVENT
DTSTART;TZID=UTC:20270302T063000
DTEND;TZID=UTC:20270302T193000
DTSTAMP:20260424T144929
CREATED:20251027T165009Z
LAST-MODIFIED:20251027T165009Z
UID:10002962-1803969000-1804015800@crossfitchaparral.com
SUMMARY:CrossFit Class
DESCRIPTION:
URL:https://crossfitchaparral.com/event/crossfit-class-2/2027-03-02/
CATEGORIES:CrossFit Class
END:VEVENT
BEGIN:VEVENT
DTSTART;TZID=UTC:20270302T163000
DTEND;TZID=UTC:20270302T173000
DTSTAMP:20260424T144929
CREATED:20251027T165935Z
LAST-MODIFIED:20251027T165935Z
UID:10007138-1804005000-1804008600@crossfitchaparral.com
SUMMARY:CrossFit Class
DESCRIPTION:
URL:https://crossfitchaparral.com/event/crossfit-class-5/2027-03-02/
CATEGORIES:CrossFit Class
END:VEVENT
BEGIN:VEVENT
DTSTART;TZID=UTC:20270302T173000
DTEND;TZID=UTC:20270302T183000
DTSTAMP:20260424T144929
CREATED:20251027T170752Z
LAST-MODIFIED:20251027T170752Z
UID:10008443-1804008600-1804012200@crossfitchaparral.com
SUMMARY:CrossFit Class
DESCRIPTION:
URL:https://crossfitchaparral.com/event/crossfit-class-6/2027-03-02/
CATEGORIES:CrossFit Class
END:VEVENT
BEGIN:VEVENT
DTSTART;TZID=UTC:20270302T183000
DTEND;TZID=UTC:20270302T193000
DTSTAMP:20260424T144929
CREATED:20251027T170840Z
LAST-MODIFIED:20251027T170858Z
UID:10009678-1804012200-1804015800@crossfitchaparral.com
SUMMARY:CrossFit Class
DESCRIPTION:
URL:https://crossfitchaparral.com/event/crossfit-class-7/2027-03-02/
CATEGORIES:CrossFit Class
END:VEVENT
BEGIN:VEVENT
DTSTART;TZID=UTC:20270303T053000
DTEND;TZID=UTC:20270303T063000
DTSTAMP:20260424T144929
CREATED:20251027T164919Z
LAST-MODIFIED:20251027T164919Z
UID:10001658-1804051800-1804055400@crossfitchaparral.com
SUMMARY:CrossFit Class
DESCRIPTION:
URL:https://crossfitchaparral.com/event/crossfit-class/2027-03-03/
CATEGORIES:CrossFit Class
END:VEVENT
BEGIN:VEVENT
DTSTART;TZID=UTC:20270303T063000
DTEND;TZID=UTC:20270303T193000
DTSTAMP:20260424T144929
CREATED:20251027T165009Z
LAST-MODIFIED:20251027T165009Z
UID:10002963-1804055400-1804102200@crossfitchaparral.com
SUMMARY:CrossFit Class
DESCRIPTION:
URL:https://crossfitchaparral.com/event/crossfit-class-2/2027-03-03/
CATEGORIES:CrossFit Class
END:VEVENT
BEGIN:VEVENT
DTSTART;TZID=UTC:20270303T163000
DTEND;TZID=UTC:20270303T173000
DTSTAMP:20260424T144929
CREATED:20251027T165935Z
LAST-MODIFIED:20251027T165935Z
UID:10007139-1804091400-1804095000@crossfitchaparral.com
SUMMARY:CrossFit Class
DESCRIPTION:
URL:https://crossfitchaparral.com/event/crossfit-class-5/2027-03-03/
CATEGORIES:CrossFit Class
END:VEVENT
BEGIN:VEVENT
DTSTART;TZID=UTC:20270303T173000
DTEND;TZID=UTC:20270303T183000
DTSTAMP:20260424T144929
CREATED:20251027T170752Z
LAST-MODIFIED:20251027T170752Z
UID:10008444-1804095000-1804098600@crossfitchaparral.com
SUMMARY:CrossFit Class
DESCRIPTION:
URL:https://crossfitchaparral.com/event/crossfit-class-6/2027-03-03/
CATEGORIES:CrossFit Class
END:VEVENT
BEGIN:VEVENT
DTSTART;TZID=UTC:20270303T183000
DTEND;TZID=UTC:20270303T193000
DTSTAMP:20260424T144929
CREATED:20251027T170840Z
LAST-MODIFIED:20251027T170858Z
UID:10009679-1804098600-1804102200@crossfitchaparral.com
SUMMARY:CrossFit Class
DESCRIPTION:
URL:https://crossfitchaparral.com/event/crossfit-class-7/2027-03-03/
CATEGORIES:CrossFit Class
END:VEVENT
BEGIN:VEVENT
DTSTART;TZID=UTC:20270304T053000
DTEND;TZID=UTC:20270304T063000
DTSTAMP:20260424T144929
CREATED:20251027T164919Z
LAST-MODIFIED:20251027T164919Z
UID:10001659-1804138200-1804141800@crossfitchaparral.com
SUMMARY:CrossFit Class
DESCRIPTION:
URL:https://crossfitchaparral.com/event/crossfit-class/2027-03-04/
CATEGORIES:CrossFit Class
END:VEVENT
BEGIN:VEVENT
DTSTART;TZID=UTC:20270304T063000
DTEND;TZID=UTC:20270304T193000
DTSTAMP:20260424T144929
CREATED:20251027T165009Z
LAST-MODIFIED:20251027T165009Z
UID:10002964-1804141800-1804188600@crossfitchaparral.com
SUMMARY:CrossFit Class
DESCRIPTION:
URL:https://crossfitchaparral.com/event/crossfit-class-2/2027-03-04/
CATEGORIES:CrossFit Class
END:VEVENT
BEGIN:VEVENT
DTSTART;TZID=UTC:20270304T163000
DTEND;TZID=UTC:20270304T173000
DTSTAMP:20260424T144929
CREATED:20251027T165935Z
LAST-MODIFIED:20251027T165935Z
UID:10007140-1804177800-1804181400@crossfitchaparral.com
SUMMARY:CrossFit Class
DESCRIPTION:
URL:https://crossfitchaparral.com/event/crossfit-class-5/2027-03-04/
CATEGORIES:CrossFit Class
END:VEVENT
BEGIN:VEVENT
DTSTART;TZID=UTC:20270304T173000
DTEND;TZID=UTC:20270304T183000
DTSTAMP:20260424T144929
CREATED:20251027T170752Z
LAST-MODIFIED:20251027T170752Z
UID:10008445-1804181400-1804185000@crossfitchaparral.com
SUMMARY:CrossFit Class
DESCRIPTION:
URL:https://crossfitchaparral.com/event/crossfit-class-6/2027-03-04/
CATEGORIES:CrossFit Class
END:VEVENT
BEGIN:VEVENT
DTSTART;TZID=UTC:20270304T183000
DTEND;TZID=UTC:20270304T193000
DTSTAMP:20260424T144929
CREATED:20251027T170840Z
LAST-MODIFIED:20251027T170858Z
UID:10009680-1804185000-1804188600@crossfitchaparral.com
SUMMARY:CrossFit Class
DESCRIPTION:
URL:https://crossfitchaparral.com/event/crossfit-class-7/2027-03-04/
CATEGORIES:CrossFit Class
END:VEVENT
BEGIN:VEVENT
DTSTART;TZID=UTC:20270305T053000
DTEND;TZID=UTC:20270305T063000
DTSTAMP:20260424T144929
CREATED:20251027T164919Z
LAST-MODIFIED:20251027T164919Z
UID:10001660-1804224600-1804228200@crossfitchaparral.com
SUMMARY:CrossFit Class
DESCRIPTION:
URL:https://crossfitchaparral.com/event/crossfit-class/2027-03-05/
CATEGORIES:CrossFit Class
END:VEVENT
BEGIN:VEVENT
DTSTART;TZID=UTC:20270305T063000
DTEND;TZID=UTC:20270305T193000
DTSTAMP:20260424T144929
CREATED:20251027T165009Z
LAST-MODIFIED:20251027T165009Z
UID:10002965-1804228200-1804275000@crossfitchaparral.com
SUMMARY:CrossFit Class
DESCRIPTION:
URL:https://crossfitchaparral.com/event/crossfit-class-2/2027-03-05/
CATEGORIES:CrossFit Class
END:VEVENT
BEGIN:VEVENT
DTSTART;TZID=UTC:20270305T083000
DTEND;TZID=UTC:20270305T093000
DTSTAMP:20260424T144929
CREATED:20251027T165257Z
LAST-MODIFIED:20251027T165257Z
UID:10005291-1804235400-1804239000@crossfitchaparral.com
SUMMARY:CrossFit Class
DESCRIPTION:
URL:https://crossfitchaparral.com/event/crossfit-class-3/2027-03-05/
CATEGORIES:CrossFit Class
END:VEVENT
BEGIN:VEVENT
DTSTART;TZID=UTC:20270305T163000
DTEND;TZID=UTC:20270305T173000
DTSTAMP:20260424T144929
CREATED:20251027T165935Z
LAST-MODIFIED:20251027T165935Z
UID:10007141-1804264200-1804267800@crossfitchaparral.com
SUMMARY:CrossFit Class
DESCRIPTION:
URL:https://crossfitchaparral.com/event/crossfit-class-5/2027-03-05/
CATEGORIES:CrossFit Class
END:VEVENT
BEGIN:VEVENT
DTSTART;TZID=UTC:20270305T173000
DTEND;TZID=UTC:20270305T183000
DTSTAMP:20260424T144929
CREATED:20251027T170752Z
LAST-MODIFIED:20251027T170752Z
UID:10008446-1804267800-1804271400@crossfitchaparral.com
SUMMARY:CrossFit Class
DESCRIPTION:
URL:https://crossfitchaparral.com/event/crossfit-class-6/2027-03-05/
CATEGORIES:CrossFit Class
END:VEVENT
BEGIN:VEVENT
DTSTART;TZID=UTC:20270306T080000
DTEND;TZID=UTC:20270306T090000
DTSTAMP:20260424T144929
CREATED:20251027T165352Z
LAST-MODIFIED:20251027T165352Z
UID:10005552-1804320000-1804323600@crossfitchaparral.com
SUMMARY:CrossFit Class
DESCRIPTION:
URL:https://crossfitchaparral.com/event/crossfit-class-4/2027-03-06/
CATEGORIES:CrossFit Class
END:VEVENT
BEGIN:VEVENT
DTSTART;TZID=UTC:20270308T053000
DTEND;TZID=UTC:20270308T063000
DTSTAMP:20260424T144929
CREATED:20251027T164919Z
LAST-MODIFIED:20251027T164919Z
UID:10001661-1804483800-1804487400@crossfitchaparral.com
SUMMARY:CrossFit Class
DESCRIPTION:
URL:https://crossfitchaparral.com/event/crossfit-class/2027-03-08/
CATEGORIES:CrossFit Class
END:VEVENT
BEGIN:VEVENT
DTSTART;TZID=UTC:20270308T063000
DTEND;TZID=UTC:20270308T193000
DTSTAMP:20260424T144929
CREATED:20251027T165009Z
LAST-MODIFIED:20251027T165009Z
UID:10002966-1804487400-1804534200@crossfitchaparral.com
SUMMARY:CrossFit Class
DESCRIPTION:
URL:https://crossfitchaparral.com/event/crossfit-class-2/2027-03-08/
CATEGORIES:CrossFit Class
END:VEVENT
BEGIN:VEVENT
DTSTART;TZID=UTC:20270308T163000
DTEND;TZID=UTC:20270308T173000
DTSTAMP:20260424T144929
CREATED:20251027T165935Z
LAST-MODIFIED:20251027T165935Z
UID:10007142-1804523400-1804527000@crossfitchaparral.com
SUMMARY:CrossFit Class
DESCRIPTION:
URL:https://crossfitchaparral.com/event/crossfit-class-5/2027-03-08/
CATEGORIES:CrossFit Class
END:VEVENT
BEGIN:VEVENT
DTSTART;TZID=UTC:20270308T173000
DTEND;TZID=UTC:20270308T183000
DTSTAMP:20260424T144929
CREATED:20251027T170752Z
LAST-MODIFIED:20251027T170752Z
UID:10008447-1804527000-1804530600@crossfitchaparral.com
SUMMARY:CrossFit Class
DESCRIPTION:
URL:https://crossfitchaparral.com/event/crossfit-class-6/2027-03-08/
CATEGORIES:CrossFit Class
END:VEVENT
END:VCALENDAR