BEGIN:VCALENDAR
VERSION:2.0
PRODID:-//CrossFit Chaparral - ECPv6.15.10//NONSGML v1.0//EN
CALSCALE:GREGORIAN
METHOD:PUBLISH
X-WR-CALNAME:CrossFit Chaparral
X-ORIGINAL-URL:https://crossfitchaparral.com
X-WR-CALDESC:Events for CrossFit Chaparral
REFRESH-INTERVAL;VALUE=DURATION:PT1H
X-Robots-Tag:noindex
X-PUBLISHED-TTL:PT1H
BEGIN:VTIMEZONE
TZID:UTC
BEGIN:STANDARD
TZOFFSETFROM:+0000
TZOFFSETTO:+0000
TZNAME:UTC
DTSTART:20250101T000000
END:STANDARD
END:VTIMEZONE
BEGIN:VEVENT
DTSTART;TZID=UTC:20260904T053000
DTEND;TZID=UTC:20260904T063000
DTSTAMP:20260423T222036
CREATED:20251027T164919Z
LAST-MODIFIED:20251027T164919Z
UID:10001530-1788499800-1788503400@crossfitchaparral.com
SUMMARY:CrossFit Class
DESCRIPTION:
URL:https://crossfitchaparral.com/event/crossfit-class/2026-09-04/
CATEGORIES:CrossFit Class
END:VEVENT
BEGIN:VEVENT
DTSTART;TZID=UTC:20260904T063000
DTEND;TZID=UTC:20260904T193000
DTSTAMP:20260423T222036
CREATED:20251027T165009Z
LAST-MODIFIED:20251027T165009Z
UID:10002835-1788503400-1788550200@crossfitchaparral.com
SUMMARY:CrossFit Class
DESCRIPTION:
URL:https://crossfitchaparral.com/event/crossfit-class-2/2026-09-04/
CATEGORIES:CrossFit Class
END:VEVENT
BEGIN:VEVENT
DTSTART;TZID=UTC:20260904T083000
DTEND;TZID=UTC:20260904T093000
DTSTAMP:20260423T222036
CREATED:20251027T165257Z
LAST-MODIFIED:20251027T165257Z
UID:10005265-1788510600-1788514200@crossfitchaparral.com
SUMMARY:CrossFit Class
DESCRIPTION:
URL:https://crossfitchaparral.com/event/crossfit-class-3/2026-09-04/
CATEGORIES:CrossFit Class
END:VEVENT
BEGIN:VEVENT
DTSTART;TZID=UTC:20260904T163000
DTEND;TZID=UTC:20260904T173000
DTSTAMP:20260423T222036
CREATED:20251027T165935Z
LAST-MODIFIED:20251027T165935Z
UID:10007011-1788539400-1788543000@crossfitchaparral.com
SUMMARY:CrossFit Class
DESCRIPTION:
URL:https://crossfitchaparral.com/event/crossfit-class-5/2026-09-04/
CATEGORIES:CrossFit Class
END:VEVENT
BEGIN:VEVENT
DTSTART;TZID=UTC:20260904T173000
DTEND;TZID=UTC:20260904T183000
DTSTAMP:20260423T222036
CREATED:20251027T170752Z
LAST-MODIFIED:20251027T170752Z
UID:10008316-1788543000-1788546600@crossfitchaparral.com
SUMMARY:CrossFit Class
DESCRIPTION:
URL:https://crossfitchaparral.com/event/crossfit-class-6/2026-09-04/
CATEGORIES:CrossFit Class
END:VEVENT
END:VCALENDAR