BEGIN:VCALENDAR
VERSION:2.0
PRODID:-//CrossFit Chaparral - ECPv6.15.10//NONSGML v1.0//EN
CALSCALE:GREGORIAN
METHOD:PUBLISH
X-WR-CALNAME:CrossFit Chaparral
X-ORIGINAL-URL:https://crossfitchaparral.com
X-WR-CALDESC:Events for CrossFit Chaparral
REFRESH-INTERVAL;VALUE=DURATION:PT1H
X-Robots-Tag:noindex
X-PUBLISHED-TTL:PT1H
BEGIN:VTIMEZONE
TZID:UTC
BEGIN:STANDARD
TZOFFSETFROM:+0000
TZOFFSETTO:+0000
TZNAME:UTC
DTSTART:20250101T000000
END:STANDARD
END:VTIMEZONE
BEGIN:VEVENT
DTSTART;TZID=UTC:20260923T053000
DTEND;TZID=UTC:20260923T063000
DTSTAMP:20260421T212225
CREATED:20251027T164919Z
LAST-MODIFIED:20251027T164919Z
UID:10001543-1790141400-1790145000@crossfitchaparral.com
SUMMARY:CrossFit Class
DESCRIPTION:
URL:https://crossfitchaparral.com/event/crossfit-class/2026-09-23/
CATEGORIES:CrossFit Class
END:VEVENT
BEGIN:VEVENT
DTSTART;TZID=UTC:20260923T063000
DTEND;TZID=UTC:20260923T193000
DTSTAMP:20260421T212225
CREATED:20251027T165009Z
LAST-MODIFIED:20251027T165009Z
UID:10002848-1790145000-1790191800@crossfitchaparral.com
SUMMARY:CrossFit Class
DESCRIPTION:
URL:https://crossfitchaparral.com/event/crossfit-class-2/2026-09-23/
CATEGORIES:CrossFit Class
END:VEVENT
BEGIN:VEVENT
DTSTART;TZID=UTC:20260923T163000
DTEND;TZID=UTC:20260923T173000
DTSTAMP:20260421T212225
CREATED:20251027T165935Z
LAST-MODIFIED:20251027T165935Z
UID:10007024-1790181000-1790184600@crossfitchaparral.com
SUMMARY:CrossFit Class
DESCRIPTION:
URL:https://crossfitchaparral.com/event/crossfit-class-5/2026-09-23/
CATEGORIES:CrossFit Class
END:VEVENT
BEGIN:VEVENT
DTSTART;TZID=UTC:20260923T173000
DTEND;TZID=UTC:20260923T183000
DTSTAMP:20260421T212225
CREATED:20251027T170752Z
LAST-MODIFIED:20251027T170752Z
UID:10008329-1790184600-1790188200@crossfitchaparral.com
SUMMARY:CrossFit Class
DESCRIPTION:
URL:https://crossfitchaparral.com/event/crossfit-class-6/2026-09-23/
CATEGORIES:CrossFit Class
END:VEVENT
BEGIN:VEVENT
DTSTART;TZID=UTC:20260923T183000
DTEND;TZID=UTC:20260923T193000
DTSTAMP:20260421T212225
CREATED:20251027T170840Z
LAST-MODIFIED:20251027T170858Z
UID:10009587-1790188200-1790191800@crossfitchaparral.com
SUMMARY:CrossFit Class
DESCRIPTION:
URL:https://crossfitchaparral.com/event/crossfit-class-7/2026-09-23/
CATEGORIES:CrossFit Class
END:VEVENT
END:VCALENDAR