BEGIN:VCALENDAR
VERSION:2.0
PRODID:-//CrossFit Chaparral - ECPv6.15.10//NONSGML v1.0//EN
CALSCALE:GREGORIAN
METHOD:PUBLISH
X-WR-CALNAME:CrossFit Chaparral
X-ORIGINAL-URL:https://crossfitchaparral.com
X-WR-CALDESC:Events for CrossFit Chaparral
REFRESH-INTERVAL;VALUE=DURATION:PT1H
X-Robots-Tag:noindex
X-PUBLISHED-TTL:PT1H
BEGIN:VTIMEZONE
TZID:UTC
BEGIN:STANDARD
TZOFFSETFROM:+0000
TZOFFSETTO:+0000
TZNAME:UTC
DTSTART:20250101T000000
END:STANDARD
END:VTIMEZONE
BEGIN:VEVENT
DTSTART;TZID=UTC:20261001T053000
DTEND;TZID=UTC:20261001T063000
DTSTAMP:20260421T183907
CREATED:20251027T164919Z
LAST-MODIFIED:20251027T164919Z
UID:10001549-1790832600-1790836200@crossfitchaparral.com
SUMMARY:CrossFit Class
DESCRIPTION:
URL:https://crossfitchaparral.com/event/crossfit-class/2026-10-01/
CATEGORIES:CrossFit Class
END:VEVENT
BEGIN:VEVENT
DTSTART;TZID=UTC:20261001T063000
DTEND;TZID=UTC:20261001T193000
DTSTAMP:20260421T183907
CREATED:20251027T165009Z
LAST-MODIFIED:20251027T165009Z
UID:10002854-1790836200-1790883000@crossfitchaparral.com
SUMMARY:CrossFit Class
DESCRIPTION:
URL:https://crossfitchaparral.com/event/crossfit-class-2/2026-10-01/
CATEGORIES:CrossFit Class
END:VEVENT
BEGIN:VEVENT
DTSTART;TZID=UTC:20261001T163000
DTEND;TZID=UTC:20261001T173000
DTSTAMP:20260421T183907
CREATED:20251027T165935Z
LAST-MODIFIED:20251027T165935Z
UID:10007030-1790872200-1790875800@crossfitchaparral.com
SUMMARY:CrossFit Class
DESCRIPTION:
URL:https://crossfitchaparral.com/event/crossfit-class-5/2026-10-01/
CATEGORIES:CrossFit Class
END:VEVENT
BEGIN:VEVENT
DTSTART;TZID=UTC:20261001T173000
DTEND;TZID=UTC:20261001T183000
DTSTAMP:20260421T183907
CREATED:20251027T170752Z
LAST-MODIFIED:20251027T170752Z
UID:10008335-1790875800-1790879400@crossfitchaparral.com
SUMMARY:CrossFit Class
DESCRIPTION:
URL:https://crossfitchaparral.com/event/crossfit-class-6/2026-10-01/
CATEGORIES:CrossFit Class
END:VEVENT
BEGIN:VEVENT
DTSTART;TZID=UTC:20261001T183000
DTEND;TZID=UTC:20261001T193000
DTSTAMP:20260421T183907
CREATED:20251027T170840Z
LAST-MODIFIED:20251027T170858Z
UID:10009592-1790879400-1790883000@crossfitchaparral.com
SUMMARY:CrossFit Class
DESCRIPTION:
URL:https://crossfitchaparral.com/event/crossfit-class-7/2026-10-01/
CATEGORIES:CrossFit Class
END:VEVENT
END:VCALENDAR