BEGIN:VCALENDAR
VERSION:2.0
PRODID:-//CrossFit Chaparral - ECPv6.15.10//NONSGML v1.0//EN
CALSCALE:GREGORIAN
METHOD:PUBLISH
X-ORIGINAL-URL:https://crossfitchaparral.com
X-WR-CALDESC:Events for CrossFit Chaparral
REFRESH-INTERVAL;VALUE=DURATION:PT1H
X-Robots-Tag:noindex
X-PUBLISHED-TTL:PT1H
BEGIN:VTIMEZONE
TZID:UTC
BEGIN:STANDARD
TZOFFSETFROM:+0000
TZOFFSETTO:+0000
TZNAME:UTC
DTSTART:20250101T000000
END:STANDARD
END:VTIMEZONE
BEGIN:VEVENT
DTSTART;TZID=UTC:20261009T053000
DTEND;TZID=UTC:20261009T063000
DTSTAMP:20260424T101311
CREATED:20251027T164919Z
LAST-MODIFIED:20251027T164919Z
UID:10001555-1791523800-1791527400@crossfitchaparral.com
SUMMARY:CrossFit Class
DESCRIPTION:
URL:https://crossfitchaparral.com/event/crossfit-class/2026-10-09/
CATEGORIES:CrossFit Class
END:VEVENT
BEGIN:VEVENT
DTSTART;TZID=UTC:20261009T063000
DTEND;TZID=UTC:20261009T193000
DTSTAMP:20260424T101311
CREATED:20251027T165009Z
LAST-MODIFIED:20251027T165009Z
UID:10002860-1791527400-1791574200@crossfitchaparral.com
SUMMARY:CrossFit Class
DESCRIPTION:
URL:https://crossfitchaparral.com/event/crossfit-class-2/2026-10-09/
CATEGORIES:CrossFit Class
END:VEVENT
BEGIN:VEVENT
DTSTART;TZID=UTC:20261009T083000
DTEND;TZID=UTC:20261009T093000
DTSTAMP:20260424T101311
CREATED:20251027T165257Z
LAST-MODIFIED:20251027T165257Z
UID:10005270-1791534600-1791538200@crossfitchaparral.com
SUMMARY:CrossFit Class
DESCRIPTION:
URL:https://crossfitchaparral.com/event/crossfit-class-3/2026-10-09/
CATEGORIES:CrossFit Class
END:VEVENT
BEGIN:VEVENT
DTSTART;TZID=UTC:20261009T163000
DTEND;TZID=UTC:20261009T173000
DTSTAMP:20260424T101311
CREATED:20251027T165935Z
LAST-MODIFIED:20251027T165935Z
UID:10007036-1791563400-1791567000@crossfitchaparral.com
SUMMARY:CrossFit Class
DESCRIPTION:
URL:https://crossfitchaparral.com/event/crossfit-class-5/2026-10-09/
CATEGORIES:CrossFit Class
END:VEVENT
BEGIN:VEVENT
DTSTART;TZID=UTC:20261009T173000
DTEND;TZID=UTC:20261009T183000
DTSTAMP:20260424T101311
CREATED:20251027T170752Z
LAST-MODIFIED:20251027T170752Z
UID:10008341-1791567000-1791570600@crossfitchaparral.com
SUMMARY:CrossFit Class
DESCRIPTION:
URL:https://crossfitchaparral.com/event/crossfit-class-6/2026-10-09/
CATEGORIES:CrossFit Class
END:VEVENT
END:VCALENDAR