BEGIN:VCALENDAR
VERSION:2.0
PRODID:-//CrossFit Chaparral - ECPv6.15.10//NONSGML v1.0//EN
CALSCALE:GREGORIAN
METHOD:PUBLISH
X-WR-CALNAME:CrossFit Chaparral
X-ORIGINAL-URL:https://crossfitchaparral.com
X-WR-CALDESC:Events for CrossFit Chaparral
REFRESH-INTERVAL;VALUE=DURATION:PT1H
X-Robots-Tag:noindex
X-PUBLISHED-TTL:PT1H
BEGIN:VTIMEZONE
TZID:UTC
BEGIN:STANDARD
TZOFFSETFROM:+0000
TZOFFSETTO:+0000
TZNAME:UTC
DTSTART:20250101T000000
END:STANDARD
END:VTIMEZONE
BEGIN:VEVENT
DTSTART;TZID=UTC:20261019T053000
DTEND;TZID=UTC:20261019T063000
DTSTAMP:20260424T010533
CREATED:20251027T164919Z
LAST-MODIFIED:20251027T164919Z
UID:10001561-1792387800-1792391400@crossfitchaparral.com
SUMMARY:CrossFit Class
DESCRIPTION:
URL:https://crossfitchaparral.com/event/crossfit-class/2026-10-19/
CATEGORIES:CrossFit Class
END:VEVENT
BEGIN:VEVENT
DTSTART;TZID=UTC:20261019T063000
DTEND;TZID=UTC:20261019T193000
DTSTAMP:20260424T010533
CREATED:20251027T165009Z
LAST-MODIFIED:20251027T165009Z
UID:10002866-1792391400-1792438200@crossfitchaparral.com
SUMMARY:CrossFit Class
DESCRIPTION:
URL:https://crossfitchaparral.com/event/crossfit-class-2/2026-10-19/
CATEGORIES:CrossFit Class
END:VEVENT
BEGIN:VEVENT
DTSTART;TZID=UTC:20261019T163000
DTEND;TZID=UTC:20261019T173000
DTSTAMP:20260424T010533
CREATED:20251027T165935Z
LAST-MODIFIED:20251027T165935Z
UID:10007042-1792427400-1792431000@crossfitchaparral.com
SUMMARY:CrossFit Class
DESCRIPTION:
URL:https://crossfitchaparral.com/event/crossfit-class-5/2026-10-19/
CATEGORIES:CrossFit Class
END:VEVENT
BEGIN:VEVENT
DTSTART;TZID=UTC:20261019T173000
DTEND;TZID=UTC:20261019T183000
DTSTAMP:20260424T010533
CREATED:20251027T170752Z
LAST-MODIFIED:20251027T170752Z
UID:10008347-1792431000-1792434600@crossfitchaparral.com
SUMMARY:CrossFit Class
DESCRIPTION:
URL:https://crossfitchaparral.com/event/crossfit-class-6/2026-10-19/
CATEGORIES:CrossFit Class
END:VEVENT
BEGIN:VEVENT
DTSTART;TZID=UTC:20261019T183000
DTEND;TZID=UTC:20261019T193000
DTSTAMP:20260424T010533
CREATED:20251027T170840Z
LAST-MODIFIED:20251027T170858Z
UID:10009601-1792434600-1792438200@crossfitchaparral.com
SUMMARY:CrossFit Class
DESCRIPTION:
URL:https://crossfitchaparral.com/event/crossfit-class-7/2026-10-19/
CATEGORIES:CrossFit Class
END:VEVENT
END:VCALENDAR