BEGIN:VCALENDAR
VERSION:2.0
PRODID:-//CrossFit Chaparral - ECPv6.15.10//NONSGML v1.0//EN
CALSCALE:GREGORIAN
METHOD:PUBLISH
X-WR-CALNAME:CrossFit Chaparral
X-ORIGINAL-URL:https://crossfitchaparral.com
X-WR-CALDESC:Events for CrossFit Chaparral
REFRESH-INTERVAL;VALUE=DURATION:PT1H
X-Robots-Tag:noindex
X-PUBLISHED-TTL:PT1H
BEGIN:VTIMEZONE
TZID:UTC
BEGIN:STANDARD
TZOFFSETFROM:+0000
TZOFFSETTO:+0000
TZNAME:UTC
DTSTART:20250101T000000
END:STANDARD
END:VTIMEZONE
BEGIN:VEVENT
DTSTART;TZID=UTC:20261021T053000
DTEND;TZID=UTC:20261021T063000
DTSTAMP:20260425T150552
CREATED:20251027T164919Z
LAST-MODIFIED:20251027T164919Z
UID:10001563-1792560600-1792564200@crossfitchaparral.com
SUMMARY:CrossFit Class
DESCRIPTION:
URL:https://crossfitchaparral.com/event/crossfit-class/2026-10-21/
CATEGORIES:CrossFit Class
END:VEVENT
BEGIN:VEVENT
DTSTART;TZID=UTC:20261021T063000
DTEND;TZID=UTC:20261021T193000
DTSTAMP:20260425T150552
CREATED:20251027T165009Z
LAST-MODIFIED:20251027T165009Z
UID:10002868-1792564200-1792611000@crossfitchaparral.com
SUMMARY:CrossFit Class
DESCRIPTION:
URL:https://crossfitchaparral.com/event/crossfit-class-2/2026-10-21/
CATEGORIES:CrossFit Class
END:VEVENT
BEGIN:VEVENT
DTSTART;TZID=UTC:20261021T163000
DTEND;TZID=UTC:20261021T173000
DTSTAMP:20260425T150552
CREATED:20251027T165935Z
LAST-MODIFIED:20251027T165935Z
UID:10007044-1792600200-1792603800@crossfitchaparral.com
SUMMARY:CrossFit Class
DESCRIPTION:
URL:https://crossfitchaparral.com/event/crossfit-class-5/2026-10-21/
CATEGORIES:CrossFit Class
END:VEVENT
BEGIN:VEVENT
DTSTART;TZID=UTC:20261021T173000
DTEND;TZID=UTC:20261021T183000
DTSTAMP:20260425T150552
CREATED:20251027T170752Z
LAST-MODIFIED:20251027T170752Z
UID:10008349-1792603800-1792607400@crossfitchaparral.com
SUMMARY:CrossFit Class
DESCRIPTION:
URL:https://crossfitchaparral.com/event/crossfit-class-6/2026-10-21/
CATEGORIES:CrossFit Class
END:VEVENT
BEGIN:VEVENT
DTSTART;TZID=UTC:20261021T183000
DTEND;TZID=UTC:20261021T193000
DTSTAMP:20260425T150552
CREATED:20251027T170840Z
LAST-MODIFIED:20251027T170858Z
UID:10009603-1792607400-1792611000@crossfitchaparral.com
SUMMARY:CrossFit Class
DESCRIPTION:
URL:https://crossfitchaparral.com/event/crossfit-class-7/2026-10-21/
CATEGORIES:CrossFit Class
END:VEVENT
END:VCALENDAR