BEGIN:VCALENDAR
VERSION:2.0
PRODID:-//CrossFit Chaparral - ECPv6.15.10//NONSGML v1.0//EN
CALSCALE:GREGORIAN
METHOD:PUBLISH
X-ORIGINAL-URL:https://crossfitchaparral.com
X-WR-CALDESC:Events for CrossFit Chaparral
REFRESH-INTERVAL;VALUE=DURATION:PT1H
X-Robots-Tag:noindex
X-PUBLISHED-TTL:PT1H
BEGIN:VTIMEZONE
TZID:UTC
BEGIN:STANDARD
TZOFFSETFROM:+0000
TZOFFSETTO:+0000
TZNAME:UTC
DTSTART:20260101T000000
END:STANDARD
END:VTIMEZONE
BEGIN:VEVENT
DTSTART;TZID=UTC:20270219T053000
DTEND;TZID=UTC:20270219T063000
DTSTAMP:20260424T133704
CREATED:20251027T164919Z
LAST-MODIFIED:20251027T164919Z
UID:10001650-1803015000-1803018600@crossfitchaparral.com
SUMMARY:CrossFit Class
DESCRIPTION:
URL:https://crossfitchaparral.com/event/crossfit-class/2027-02-19/
CATEGORIES:CrossFit Class
END:VEVENT
BEGIN:VEVENT
DTSTART;TZID=UTC:20270219T063000
DTEND;TZID=UTC:20270219T193000
DTSTAMP:20260424T133704
CREATED:20251027T165009Z
LAST-MODIFIED:20251027T165009Z
UID:10002955-1803018600-1803065400@crossfitchaparral.com
SUMMARY:CrossFit Class
DESCRIPTION:
URL:https://crossfitchaparral.com/event/crossfit-class-2/2027-02-19/
CATEGORIES:CrossFit Class
END:VEVENT
BEGIN:VEVENT
DTSTART;TZID=UTC:20270219T083000
DTEND;TZID=UTC:20270219T093000
DTSTAMP:20260424T133704
CREATED:20251027T165257Z
LAST-MODIFIED:20251027T165257Z
UID:10005289-1803025800-1803029400@crossfitchaparral.com
SUMMARY:CrossFit Class
DESCRIPTION:
URL:https://crossfitchaparral.com/event/crossfit-class-3/2027-02-19/
CATEGORIES:CrossFit Class
END:VEVENT
BEGIN:VEVENT
DTSTART;TZID=UTC:20270219T163000
DTEND;TZID=UTC:20270219T173000
DTSTAMP:20260424T133704
CREATED:20251027T165935Z
LAST-MODIFIED:20251027T165935Z
UID:10007131-1803054600-1803058200@crossfitchaparral.com
SUMMARY:CrossFit Class
DESCRIPTION:
URL:https://crossfitchaparral.com/event/crossfit-class-5/2027-02-19/
CATEGORIES:CrossFit Class
END:VEVENT
BEGIN:VEVENT
DTSTART;TZID=UTC:20270219T173000
DTEND;TZID=UTC:20270219T183000
DTSTAMP:20260424T133704
CREATED:20251027T170752Z
LAST-MODIFIED:20251027T170752Z
UID:10008436-1803058200-1803061800@crossfitchaparral.com
SUMMARY:CrossFit Class
DESCRIPTION:
URL:https://crossfitchaparral.com/event/crossfit-class-6/2027-02-19/
CATEGORIES:CrossFit Class
END:VEVENT
END:VCALENDAR