BEGIN:VCALENDAR
VERSION:2.0
PRODID:-//CrossFit Chaparral - ECPv6.15.10//NONSGML v1.0//EN
CALSCALE:GREGORIAN
METHOD:PUBLISH
X-WR-CALNAME:CrossFit Chaparral
X-ORIGINAL-URL:https://crossfitchaparral.com
X-WR-CALDESC:Events for CrossFit Chaparral
REFRESH-INTERVAL;VALUE=DURATION:PT1H
X-Robots-Tag:noindex
X-PUBLISHED-TTL:PT1H
BEGIN:VTIMEZONE
TZID:UTC
BEGIN:STANDARD
TZOFFSETFROM:+0000
TZOFFSETTO:+0000
TZNAME:UTC
DTSTART:20260101T000000
END:STANDARD
END:VTIMEZONE
BEGIN:VEVENT
DTSTART;TZID=UTC:20270330T053000
DTEND;TZID=UTC:20270330T063000
DTSTAMP:20260424T143716
CREATED:20251027T164919Z
LAST-MODIFIED:20251027T164919Z
UID:10001677-1806384600-1806388200@crossfitchaparral.com
SUMMARY:CrossFit Class
DESCRIPTION:
URL:https://crossfitchaparral.com/event/crossfit-class/2027-03-30/
CATEGORIES:CrossFit Class
END:VEVENT
BEGIN:VEVENT
DTSTART;TZID=UTC:20270330T063000
DTEND;TZID=UTC:20270330T193000
DTSTAMP:20260424T143716
CREATED:20251027T165009Z
LAST-MODIFIED:20251027T165009Z
UID:10002982-1806388200-1806435000@crossfitchaparral.com
SUMMARY:CrossFit Class
DESCRIPTION:
URL:https://crossfitchaparral.com/event/crossfit-class-2/2027-03-30/
CATEGORIES:CrossFit Class
END:VEVENT
BEGIN:VEVENT
DTSTART;TZID=UTC:20270330T163000
DTEND;TZID=UTC:20270330T173000
DTSTAMP:20260424T143716
CREATED:20251027T165935Z
LAST-MODIFIED:20251027T165935Z
UID:10007158-1806424200-1806427800@crossfitchaparral.com
SUMMARY:CrossFit Class
DESCRIPTION:
URL:https://crossfitchaparral.com/event/crossfit-class-5/2027-03-30/
CATEGORIES:CrossFit Class
END:VEVENT
BEGIN:VEVENT
DTSTART;TZID=UTC:20270330T173000
DTEND;TZID=UTC:20270330T183000
DTSTAMP:20260424T143716
CREATED:20251027T170752Z
LAST-MODIFIED:20251027T170752Z
UID:10008463-1806427800-1806431400@crossfitchaparral.com
SUMMARY:CrossFit Class
DESCRIPTION:
URL:https://crossfitchaparral.com/event/crossfit-class-6/2027-03-30/
CATEGORIES:CrossFit Class
END:VEVENT
BEGIN:VEVENT
DTSTART;TZID=UTC:20270330T183000
DTEND;TZID=UTC:20270330T193000
DTSTAMP:20260424T143716
CREATED:20251027T170840Z
LAST-MODIFIED:20251027T170858Z
UID:10009694-1806431400-1806435000@crossfitchaparral.com
SUMMARY:CrossFit Class
DESCRIPTION:
URL:https://crossfitchaparral.com/event/crossfit-class-7/2027-03-30/
CATEGORIES:CrossFit Class
END:VEVENT
END:VCALENDAR