BEGIN:VCALENDAR
VERSION:2.0
PRODID:-//CrossFit Chaparral - ECPv6.15.10//NONSGML v1.0//EN
CALSCALE:GREGORIAN
METHOD:PUBLISH
X-WR-CALNAME:CrossFit Chaparral
X-ORIGINAL-URL:https://crossfitchaparral.com
X-WR-CALDESC:Events for CrossFit Chaparral
REFRESH-INTERVAL;VALUE=DURATION:PT1H
X-Robots-Tag:noindex
X-PUBLISHED-TTL:PT1H
BEGIN:VTIMEZONE
TZID:UTC
BEGIN:STANDARD
TZOFFSETFROM:+0000
TZOFFSETTO:+0000
TZNAME:UTC
DTSTART:20250101T000000
END:STANDARD
END:VTIMEZONE
BEGIN:VEVENT
DTSTART;TZID=UTC:20261110T063000
DTEND;TZID=UTC:20261110T193000
DTSTAMP:20260424T094817
CREATED:20251027T165009Z
LAST-MODIFIED:20251027T165009Z
UID:10002882-1794292200-1794339000@crossfitchaparral.com
SUMMARY:CrossFit Class
DESCRIPTION:
URL:https://crossfitchaparral.com/event/crossfit-class-2/2026-11-10/
CATEGORIES:CrossFit Class
END:VEVENT
BEGIN:VEVENT
DTSTART;TZID=UTC:20261110T163000
DTEND;TZID=UTC:20261110T173000
DTSTAMP:20260424T094817
CREATED:20251027T165935Z
LAST-MODIFIED:20251027T165935Z
UID:10007058-1794328200-1794331800@crossfitchaparral.com
SUMMARY:CrossFit Class
DESCRIPTION:
URL:https://crossfitchaparral.com/event/crossfit-class-5/2026-11-10/
CATEGORIES:CrossFit Class
END:VEVENT
BEGIN:VEVENT
DTSTART;TZID=UTC:20261110T173000
DTEND;TZID=UTC:20261110T183000
DTSTAMP:20260424T094817
CREATED:20251027T170752Z
LAST-MODIFIED:20251027T170752Z
UID:10008363-1794331800-1794335400@crossfitchaparral.com
SUMMARY:CrossFit Class
DESCRIPTION:
URL:https://crossfitchaparral.com/event/crossfit-class-6/2026-11-10/
CATEGORIES:CrossFit Class
END:VEVENT
BEGIN:VEVENT
DTSTART;TZID=UTC:20261110T183000
DTEND;TZID=UTC:20261110T193000
DTSTAMP:20260424T094817
CREATED:20251027T170840Z
LAST-MODIFIED:20251027T170858Z
UID:10009614-1794335400-1794339000@crossfitchaparral.com
SUMMARY:CrossFit Class
DESCRIPTION:
URL:https://crossfitchaparral.com/event/crossfit-class-7/2026-11-10/
CATEGORIES:CrossFit Class
END:VEVENT
BEGIN:VEVENT
DTSTART;TZID=UTC:20261111T053000
DTEND;TZID=UTC:20261111T063000
DTSTAMP:20260424T094817
CREATED:20251027T164919Z
LAST-MODIFIED:20251027T164919Z
UID:10001578-1794375000-1794378600@crossfitchaparral.com
SUMMARY:CrossFit Class
DESCRIPTION:
URL:https://crossfitchaparral.com/event/crossfit-class/2026-11-11/
CATEGORIES:CrossFit Class
END:VEVENT
BEGIN:VEVENT
DTSTART;TZID=UTC:20261111T063000
DTEND;TZID=UTC:20261111T193000
DTSTAMP:20260424T094817
CREATED:20251027T165009Z
LAST-MODIFIED:20251027T165009Z
UID:10002883-1794378600-1794425400@crossfitchaparral.com
SUMMARY:CrossFit Class
DESCRIPTION:
URL:https://crossfitchaparral.com/event/crossfit-class-2/2026-11-11/
CATEGORIES:CrossFit Class
END:VEVENT
BEGIN:VEVENT
DTSTART;TZID=UTC:20261111T163000
DTEND;TZID=UTC:20261111T173000
DTSTAMP:20260424T094817
CREATED:20251027T165935Z
LAST-MODIFIED:20251027T165935Z
UID:10007059-1794414600-1794418200@crossfitchaparral.com
SUMMARY:CrossFit Class
DESCRIPTION:
URL:https://crossfitchaparral.com/event/crossfit-class-5/2026-11-11/
CATEGORIES:CrossFit Class
END:VEVENT
BEGIN:VEVENT
DTSTART;TZID=UTC:20261111T173000
DTEND;TZID=UTC:20261111T183000
DTSTAMP:20260424T094817
CREATED:20251027T170752Z
LAST-MODIFIED:20251027T170752Z
UID:10008364-1794418200-1794421800@crossfitchaparral.com
SUMMARY:CrossFit Class
DESCRIPTION:
URL:https://crossfitchaparral.com/event/crossfit-class-6/2026-11-11/
CATEGORIES:CrossFit Class
END:VEVENT
BEGIN:VEVENT
DTSTART;TZID=UTC:20261111T183000
DTEND;TZID=UTC:20261111T193000
DTSTAMP:20260424T094817
CREATED:20251027T170840Z
LAST-MODIFIED:20251027T170858Z
UID:10009615-1794421800-1794425400@crossfitchaparral.com
SUMMARY:CrossFit Class
DESCRIPTION:
URL:https://crossfitchaparral.com/event/crossfit-class-7/2026-11-11/
CATEGORIES:CrossFit Class
END:VEVENT
BEGIN:VEVENT
DTSTART;TZID=UTC:20261112T053000
DTEND;TZID=UTC:20261112T063000
DTSTAMP:20260424T094817
CREATED:20251027T164919Z
LAST-MODIFIED:20251027T164919Z
UID:10001579-1794461400-1794465000@crossfitchaparral.com
SUMMARY:CrossFit Class
DESCRIPTION:
URL:https://crossfitchaparral.com/event/crossfit-class/2026-11-12/
CATEGORIES:CrossFit Class
END:VEVENT
BEGIN:VEVENT
DTSTART;TZID=UTC:20261112T063000
DTEND;TZID=UTC:20261112T193000
DTSTAMP:20260424T094817
CREATED:20251027T165009Z
LAST-MODIFIED:20251027T165009Z
UID:10002884-1794465000-1794511800@crossfitchaparral.com
SUMMARY:CrossFit Class
DESCRIPTION:
URL:https://crossfitchaparral.com/event/crossfit-class-2/2026-11-12/
CATEGORIES:CrossFit Class
END:VEVENT
BEGIN:VEVENT
DTSTART;TZID=UTC:20261112T163000
DTEND;TZID=UTC:20261112T173000
DTSTAMP:20260424T094817
CREATED:20251027T165935Z
LAST-MODIFIED:20251027T165935Z
UID:10007060-1794501000-1794504600@crossfitchaparral.com
SUMMARY:CrossFit Class
DESCRIPTION:
URL:https://crossfitchaparral.com/event/crossfit-class-5/2026-11-12/
CATEGORIES:CrossFit Class
END:VEVENT
BEGIN:VEVENT
DTSTART;TZID=UTC:20261112T173000
DTEND;TZID=UTC:20261112T183000
DTSTAMP:20260424T094817
CREATED:20251027T170752Z
LAST-MODIFIED:20251027T170752Z
UID:10008365-1794504600-1794508200@crossfitchaparral.com
SUMMARY:CrossFit Class
DESCRIPTION:
URL:https://crossfitchaparral.com/event/crossfit-class-6/2026-11-12/
CATEGORIES:CrossFit Class
END:VEVENT
BEGIN:VEVENT
DTSTART;TZID=UTC:20261112T183000
DTEND;TZID=UTC:20261112T193000
DTSTAMP:20260424T094817
CREATED:20251027T170840Z
LAST-MODIFIED:20251027T170858Z
UID:10009616-1794508200-1794511800@crossfitchaparral.com
SUMMARY:CrossFit Class
DESCRIPTION:
URL:https://crossfitchaparral.com/event/crossfit-class-7/2026-11-12/
CATEGORIES:CrossFit Class
END:VEVENT
BEGIN:VEVENT
DTSTART;TZID=UTC:20261113T053000
DTEND;TZID=UTC:20261113T063000
DTSTAMP:20260424T094817
CREATED:20251027T164919Z
LAST-MODIFIED:20251027T164919Z
UID:10001580-1794547800-1794551400@crossfitchaparral.com
SUMMARY:CrossFit Class
DESCRIPTION:
URL:https://crossfitchaparral.com/event/crossfit-class/2026-11-13/
CATEGORIES:CrossFit Class
END:VEVENT
BEGIN:VEVENT
DTSTART;TZID=UTC:20261113T063000
DTEND;TZID=UTC:20261113T193000
DTSTAMP:20260424T094817
CREATED:20251027T165009Z
LAST-MODIFIED:20251027T165009Z
UID:10002885-1794551400-1794598200@crossfitchaparral.com
SUMMARY:CrossFit Class
DESCRIPTION:
URL:https://crossfitchaparral.com/event/crossfit-class-2/2026-11-13/
CATEGORIES:CrossFit Class
END:VEVENT
BEGIN:VEVENT
DTSTART;TZID=UTC:20261113T083000
DTEND;TZID=UTC:20261113T093000
DTSTAMP:20260424T094817
CREATED:20251027T165257Z
LAST-MODIFIED:20251027T165257Z
UID:10005275-1794558600-1794562200@crossfitchaparral.com
SUMMARY:CrossFit Class
DESCRIPTION:
URL:https://crossfitchaparral.com/event/crossfit-class-3/2026-11-13/
CATEGORIES:CrossFit Class
END:VEVENT
BEGIN:VEVENT
DTSTART;TZID=UTC:20261113T163000
DTEND;TZID=UTC:20261113T173000
DTSTAMP:20260424T094817
CREATED:20251027T165935Z
LAST-MODIFIED:20251027T165935Z
UID:10007061-1794587400-1794591000@crossfitchaparral.com
SUMMARY:CrossFit Class
DESCRIPTION:
URL:https://crossfitchaparral.com/event/crossfit-class-5/2026-11-13/
CATEGORIES:CrossFit Class
END:VEVENT
BEGIN:VEVENT
DTSTART;TZID=UTC:20261113T173000
DTEND;TZID=UTC:20261113T183000
DTSTAMP:20260424T094817
CREATED:20251027T170752Z
LAST-MODIFIED:20251027T170752Z
UID:10008366-1794591000-1794594600@crossfitchaparral.com
SUMMARY:CrossFit Class
DESCRIPTION:
URL:https://crossfitchaparral.com/event/crossfit-class-6/2026-11-13/
CATEGORIES:CrossFit Class
END:VEVENT
BEGIN:VEVENT
DTSTART;TZID=UTC:20261114T080000
DTEND;TZID=UTC:20261114T090000
DTSTAMP:20260424T094817
CREATED:20251027T165352Z
LAST-MODIFIED:20251027T165352Z
UID:10005536-1794643200-1794646800@crossfitchaparral.com
SUMMARY:CrossFit Class
DESCRIPTION:
URL:https://crossfitchaparral.com/event/crossfit-class-4/2026-11-14/
CATEGORIES:CrossFit Class
END:VEVENT
BEGIN:VEVENT
DTSTART;TZID=UTC:20261116T053000
DTEND;TZID=UTC:20261116T063000
DTSTAMP:20260424T094817
CREATED:20251027T164919Z
LAST-MODIFIED:20251027T164919Z
UID:10001581-1794807000-1794810600@crossfitchaparral.com
SUMMARY:CrossFit Class
DESCRIPTION:
URL:https://crossfitchaparral.com/event/crossfit-class/2026-11-16/
CATEGORIES:CrossFit Class
END:VEVENT
BEGIN:VEVENT
DTSTART;TZID=UTC:20261116T063000
DTEND;TZID=UTC:20261116T193000
DTSTAMP:20260424T094817
CREATED:20251027T165009Z
LAST-MODIFIED:20251027T165009Z
UID:10002886-1794810600-1794857400@crossfitchaparral.com
SUMMARY:CrossFit Class
DESCRIPTION:
URL:https://crossfitchaparral.com/event/crossfit-class-2/2026-11-16/
CATEGORIES:CrossFit Class
END:VEVENT
BEGIN:VEVENT
DTSTART;TZID=UTC:20261116T163000
DTEND;TZID=UTC:20261116T173000
DTSTAMP:20260424T094817
CREATED:20251027T165935Z
LAST-MODIFIED:20251027T165935Z
UID:10007062-1794846600-1794850200@crossfitchaparral.com
SUMMARY:CrossFit Class
DESCRIPTION:
URL:https://crossfitchaparral.com/event/crossfit-class-5/2026-11-16/
CATEGORIES:CrossFit Class
END:VEVENT
BEGIN:VEVENT
DTSTART;TZID=UTC:20261116T173000
DTEND;TZID=UTC:20261116T183000
DTSTAMP:20260424T094817
CREATED:20251027T170752Z
LAST-MODIFIED:20251027T170752Z
UID:10008367-1794850200-1794853800@crossfitchaparral.com
SUMMARY:CrossFit Class
DESCRIPTION:
URL:https://crossfitchaparral.com/event/crossfit-class-6/2026-11-16/
CATEGORIES:CrossFit Class
END:VEVENT
BEGIN:VEVENT
DTSTART;TZID=UTC:20261116T183000
DTEND;TZID=UTC:20261116T193000
DTSTAMP:20260424T094817
CREATED:20251027T170840Z
LAST-MODIFIED:20251027T170858Z
UID:10009617-1794853800-1794857400@crossfitchaparral.com
SUMMARY:CrossFit Class
DESCRIPTION:
URL:https://crossfitchaparral.com/event/crossfit-class-7/2026-11-16/
CATEGORIES:CrossFit Class
END:VEVENT
BEGIN:VEVENT
DTSTART;TZID=UTC:20261117T053000
DTEND;TZID=UTC:20261117T063000
DTSTAMP:20260424T094817
CREATED:20251027T164919Z
LAST-MODIFIED:20251027T164919Z
UID:10001582-1794893400-1794897000@crossfitchaparral.com
SUMMARY:CrossFit Class
DESCRIPTION:
URL:https://crossfitchaparral.com/event/crossfit-class/2026-11-17/
CATEGORIES:CrossFit Class
END:VEVENT
BEGIN:VEVENT
DTSTART;TZID=UTC:20261117T063000
DTEND;TZID=UTC:20261117T193000
DTSTAMP:20260424T094817
CREATED:20251027T165009Z
LAST-MODIFIED:20251027T165009Z
UID:10002887-1794897000-1794943800@crossfitchaparral.com
SUMMARY:CrossFit Class
DESCRIPTION:
URL:https://crossfitchaparral.com/event/crossfit-class-2/2026-11-17/
CATEGORIES:CrossFit Class
END:VEVENT
BEGIN:VEVENT
DTSTART;TZID=UTC:20261117T163000
DTEND;TZID=UTC:20261117T173000
DTSTAMP:20260424T094817
CREATED:20251027T165935Z
LAST-MODIFIED:20251027T165935Z
UID:10007063-1794933000-1794936600@crossfitchaparral.com
SUMMARY:CrossFit Class
DESCRIPTION:
URL:https://crossfitchaparral.com/event/crossfit-class-5/2026-11-17/
CATEGORIES:CrossFit Class
END:VEVENT
BEGIN:VEVENT
DTSTART;TZID=UTC:20261117T173000
DTEND;TZID=UTC:20261117T183000
DTSTAMP:20260424T094817
CREATED:20251027T170752Z
LAST-MODIFIED:20251027T170752Z
UID:10008368-1794936600-1794940200@crossfitchaparral.com
SUMMARY:CrossFit Class
DESCRIPTION:
URL:https://crossfitchaparral.com/event/crossfit-class-6/2026-11-17/
CATEGORIES:CrossFit Class
END:VEVENT
BEGIN:VEVENT
DTSTART;TZID=UTC:20261117T183000
DTEND;TZID=UTC:20261117T193000
DTSTAMP:20260424T094817
CREATED:20251027T170840Z
LAST-MODIFIED:20251027T170858Z
UID:10009618-1794940200-1794943800@crossfitchaparral.com
SUMMARY:CrossFit Class
DESCRIPTION:
URL:https://crossfitchaparral.com/event/crossfit-class-7/2026-11-17/
CATEGORIES:CrossFit Class
END:VEVENT
END:VCALENDAR