BEGIN:VCALENDAR
VERSION:2.0
PRODID:-//CrossFit Chaparral - ECPv6.15.10//NONSGML v1.0//EN
CALSCALE:GREGORIAN
METHOD:PUBLISH
X-WR-CALNAME:CrossFit Chaparral
X-ORIGINAL-URL:https://crossfitchaparral.com
X-WR-CALDESC:Events for CrossFit Chaparral
REFRESH-INTERVAL;VALUE=DURATION:PT1H
X-Robots-Tag:noindex
X-PUBLISHED-TTL:PT1H
BEGIN:VTIMEZONE
TZID:UTC
BEGIN:STANDARD
TZOFFSETFROM:+0000
TZOFFSETTO:+0000
TZNAME:UTC
DTSTART:20250101T000000
END:STANDARD
END:VTIMEZONE
BEGIN:VEVENT
DTSTART;TZID=UTC:20261218T083000
DTEND;TZID=UTC:20261218T093000
DTSTAMP:20260424T135340
CREATED:20251027T165257Z
LAST-MODIFIED:20251027T165257Z
UID:10005280-1797582600-1797586200@crossfitchaparral.com
SUMMARY:CrossFit Class
DESCRIPTION:
URL:https://crossfitchaparral.com/event/crossfit-class-3/2026-12-18/
CATEGORIES:CrossFit Class
END:VEVENT
BEGIN:VEVENT
DTSTART;TZID=UTC:20261218T163000
DTEND;TZID=UTC:20261218T173000
DTSTAMP:20260424T135340
CREATED:20251027T165935Z
LAST-MODIFIED:20251027T165935Z
UID:10007086-1797611400-1797615000@crossfitchaparral.com
SUMMARY:CrossFit Class
DESCRIPTION:
URL:https://crossfitchaparral.com/event/crossfit-class-5/2026-12-18/
CATEGORIES:CrossFit Class
END:VEVENT
BEGIN:VEVENT
DTSTART;TZID=UTC:20261218T173000
DTEND;TZID=UTC:20261218T183000
DTSTAMP:20260424T135340
CREATED:20251027T170752Z
LAST-MODIFIED:20251027T170752Z
UID:10008391-1797615000-1797618600@crossfitchaparral.com
SUMMARY:CrossFit Class
DESCRIPTION:
URL:https://crossfitchaparral.com/event/crossfit-class-6/2026-12-18/
CATEGORIES:CrossFit Class
END:VEVENT
BEGIN:VEVENT
DTSTART;TZID=UTC:20261219T080000
DTEND;TZID=UTC:20261219T090000
DTSTAMP:20260424T135340
CREATED:20251027T165352Z
LAST-MODIFIED:20251027T165352Z
UID:10005541-1797667200-1797670800@crossfitchaparral.com
SUMMARY:CrossFit Class
DESCRIPTION:
URL:https://crossfitchaparral.com/event/crossfit-class-4/2026-12-19/
CATEGORIES:CrossFit Class
END:VEVENT
BEGIN:VEVENT
DTSTART;TZID=UTC:20261221T053000
DTEND;TZID=UTC:20261221T063000
DTSTAMP:20260424T135340
CREATED:20251027T164919Z
LAST-MODIFIED:20251027T164919Z
UID:10001606-1797831000-1797834600@crossfitchaparral.com
SUMMARY:CrossFit Class
DESCRIPTION:
URL:https://crossfitchaparral.com/event/crossfit-class/2026-12-21/
CATEGORIES:CrossFit Class
END:VEVENT
BEGIN:VEVENT
DTSTART;TZID=UTC:20261221T063000
DTEND;TZID=UTC:20261221T193000
DTSTAMP:20260424T135340
CREATED:20251027T165009Z
LAST-MODIFIED:20251027T165009Z
UID:10002911-1797834600-1797881400@crossfitchaparral.com
SUMMARY:CrossFit Class
DESCRIPTION:
URL:https://crossfitchaparral.com/event/crossfit-class-2/2026-12-21/
CATEGORIES:CrossFit Class
END:VEVENT
BEGIN:VEVENT
DTSTART;TZID=UTC:20261221T163000
DTEND;TZID=UTC:20261221T173000
DTSTAMP:20260424T135340
CREATED:20251027T165935Z
LAST-MODIFIED:20251027T165935Z
UID:10007087-1797870600-1797874200@crossfitchaparral.com
SUMMARY:CrossFit Class
DESCRIPTION:
URL:https://crossfitchaparral.com/event/crossfit-class-5/2026-12-21/
CATEGORIES:CrossFit Class
END:VEVENT
BEGIN:VEVENT
DTSTART;TZID=UTC:20261221T173000
DTEND;TZID=UTC:20261221T183000
DTSTAMP:20260424T135340
CREATED:20251027T170752Z
LAST-MODIFIED:20251027T170752Z
UID:10008392-1797874200-1797877800@crossfitchaparral.com
SUMMARY:CrossFit Class
DESCRIPTION:
URL:https://crossfitchaparral.com/event/crossfit-class-6/2026-12-21/
CATEGORIES:CrossFit Class
END:VEVENT
BEGIN:VEVENT
DTSTART;TZID=UTC:20261221T183000
DTEND;TZID=UTC:20261221T193000
DTSTAMP:20260424T135340
CREATED:20251027T170840Z
LAST-MODIFIED:20251027T170858Z
UID:10009637-1797877800-1797881400@crossfitchaparral.com
SUMMARY:CrossFit Class
DESCRIPTION:
URL:https://crossfitchaparral.com/event/crossfit-class-7/2026-12-21/
CATEGORIES:CrossFit Class
END:VEVENT
BEGIN:VEVENT
DTSTART;TZID=UTC:20261222T053000
DTEND;TZID=UTC:20261222T063000
DTSTAMP:20260424T135340
CREATED:20251027T164919Z
LAST-MODIFIED:20251027T164919Z
UID:10001607-1797917400-1797921000@crossfitchaparral.com
SUMMARY:CrossFit Class
DESCRIPTION:
URL:https://crossfitchaparral.com/event/crossfit-class/2026-12-22/
CATEGORIES:CrossFit Class
END:VEVENT
BEGIN:VEVENT
DTSTART;TZID=UTC:20261222T063000
DTEND;TZID=UTC:20261222T193000
DTSTAMP:20260424T135340
CREATED:20251027T165009Z
LAST-MODIFIED:20251027T165009Z
UID:10002912-1797921000-1797967800@crossfitchaparral.com
SUMMARY:CrossFit Class
DESCRIPTION:
URL:https://crossfitchaparral.com/event/crossfit-class-2/2026-12-22/
CATEGORIES:CrossFit Class
END:VEVENT
BEGIN:VEVENT
DTSTART;TZID=UTC:20261222T163000
DTEND;TZID=UTC:20261222T173000
DTSTAMP:20260424T135340
CREATED:20251027T165935Z
LAST-MODIFIED:20251027T165935Z
UID:10007088-1797957000-1797960600@crossfitchaparral.com
SUMMARY:CrossFit Class
DESCRIPTION:
URL:https://crossfitchaparral.com/event/crossfit-class-5/2026-12-22/
CATEGORIES:CrossFit Class
END:VEVENT
BEGIN:VEVENT
DTSTART;TZID=UTC:20261222T173000
DTEND;TZID=UTC:20261222T183000
DTSTAMP:20260424T135340
CREATED:20251027T170752Z
LAST-MODIFIED:20251027T170752Z
UID:10008393-1797960600-1797964200@crossfitchaparral.com
SUMMARY:CrossFit Class
DESCRIPTION:
URL:https://crossfitchaparral.com/event/crossfit-class-6/2026-12-22/
CATEGORIES:CrossFit Class
END:VEVENT
BEGIN:VEVENT
DTSTART;TZID=UTC:20261222T183000
DTEND;TZID=UTC:20261222T193000
DTSTAMP:20260424T135340
CREATED:20251027T170840Z
LAST-MODIFIED:20251027T170858Z
UID:10009638-1797964200-1797967800@crossfitchaparral.com
SUMMARY:CrossFit Class
DESCRIPTION:
URL:https://crossfitchaparral.com/event/crossfit-class-7/2026-12-22/
CATEGORIES:CrossFit Class
END:VEVENT
BEGIN:VEVENT
DTSTART;TZID=UTC:20261223T053000
DTEND;TZID=UTC:20261223T063000
DTSTAMP:20260424T135340
CREATED:20251027T164919Z
LAST-MODIFIED:20251027T164919Z
UID:10001608-1798003800-1798007400@crossfitchaparral.com
SUMMARY:CrossFit Class
DESCRIPTION:
URL:https://crossfitchaparral.com/event/crossfit-class/2026-12-23/
CATEGORIES:CrossFit Class
END:VEVENT
BEGIN:VEVENT
DTSTART;TZID=UTC:20261223T063000
DTEND;TZID=UTC:20261223T193000
DTSTAMP:20260424T135340
CREATED:20251027T165009Z
LAST-MODIFIED:20251027T165009Z
UID:10002913-1798007400-1798054200@crossfitchaparral.com
SUMMARY:CrossFit Class
DESCRIPTION:
URL:https://crossfitchaparral.com/event/crossfit-class-2/2026-12-23/
CATEGORIES:CrossFit Class
END:VEVENT
BEGIN:VEVENT
DTSTART;TZID=UTC:20261223T163000
DTEND;TZID=UTC:20261223T173000
DTSTAMP:20260424T135340
CREATED:20251027T165935Z
LAST-MODIFIED:20251027T165935Z
UID:10007089-1798043400-1798047000@crossfitchaparral.com
SUMMARY:CrossFit Class
DESCRIPTION:
URL:https://crossfitchaparral.com/event/crossfit-class-5/2026-12-23/
CATEGORIES:CrossFit Class
END:VEVENT
BEGIN:VEVENT
DTSTART;TZID=UTC:20261223T173000
DTEND;TZID=UTC:20261223T183000
DTSTAMP:20260424T135340
CREATED:20251027T170752Z
LAST-MODIFIED:20251027T170752Z
UID:10008394-1798047000-1798050600@crossfitchaparral.com
SUMMARY:CrossFit Class
DESCRIPTION:
URL:https://crossfitchaparral.com/event/crossfit-class-6/2026-12-23/
CATEGORIES:CrossFit Class
END:VEVENT
BEGIN:VEVENT
DTSTART;TZID=UTC:20261223T183000
DTEND;TZID=UTC:20261223T193000
DTSTAMP:20260424T135340
CREATED:20251027T170840Z
LAST-MODIFIED:20251027T170858Z
UID:10009639-1798050600-1798054200@crossfitchaparral.com
SUMMARY:CrossFit Class
DESCRIPTION:
URL:https://crossfitchaparral.com/event/crossfit-class-7/2026-12-23/
CATEGORIES:CrossFit Class
END:VEVENT
BEGIN:VEVENT
DTSTART;TZID=UTC:20261224T053000
DTEND;TZID=UTC:20261224T063000
DTSTAMP:20260424T135340
CREATED:20251027T164919Z
LAST-MODIFIED:20251027T164919Z
UID:10001609-1798090200-1798093800@crossfitchaparral.com
SUMMARY:CrossFit Class
DESCRIPTION:
URL:https://crossfitchaparral.com/event/crossfit-class/2026-12-24/
CATEGORIES:CrossFit Class
END:VEVENT
BEGIN:VEVENT
DTSTART;TZID=UTC:20261224T063000
DTEND;TZID=UTC:20261224T193000
DTSTAMP:20260424T135340
CREATED:20251027T165009Z
LAST-MODIFIED:20251027T165009Z
UID:10002914-1798093800-1798140600@crossfitchaparral.com
SUMMARY:CrossFit Class
DESCRIPTION:
URL:https://crossfitchaparral.com/event/crossfit-class-2/2026-12-24/
CATEGORIES:CrossFit Class
END:VEVENT
BEGIN:VEVENT
DTSTART;TZID=UTC:20261224T163000
DTEND;TZID=UTC:20261224T173000
DTSTAMP:20260424T135340
CREATED:20251027T165935Z
LAST-MODIFIED:20251027T165935Z
UID:10007090-1798129800-1798133400@crossfitchaparral.com
SUMMARY:CrossFit Class
DESCRIPTION:
URL:https://crossfitchaparral.com/event/crossfit-class-5/2026-12-24/
CATEGORIES:CrossFit Class
END:VEVENT
BEGIN:VEVENT
DTSTART;TZID=UTC:20261224T173000
DTEND;TZID=UTC:20261224T183000
DTSTAMP:20260424T135340
CREATED:20251027T170752Z
LAST-MODIFIED:20251027T170752Z
UID:10008395-1798133400-1798137000@crossfitchaparral.com
SUMMARY:CrossFit Class
DESCRIPTION:
URL:https://crossfitchaparral.com/event/crossfit-class-6/2026-12-24/
CATEGORIES:CrossFit Class
END:VEVENT
BEGIN:VEVENT
DTSTART;TZID=UTC:20261224T183000
DTEND;TZID=UTC:20261224T193000
DTSTAMP:20260424T135340
CREATED:20251027T170840Z
LAST-MODIFIED:20251027T170858Z
UID:10009640-1798137000-1798140600@crossfitchaparral.com
SUMMARY:CrossFit Class
DESCRIPTION:
URL:https://crossfitchaparral.com/event/crossfit-class-7/2026-12-24/
CATEGORIES:CrossFit Class
END:VEVENT
BEGIN:VEVENT
DTSTART;TZID=UTC:20261225T053000
DTEND;TZID=UTC:20261225T063000
DTSTAMP:20260424T135340
CREATED:20251027T164919Z
LAST-MODIFIED:20251027T164919Z
UID:10001610-1798176600-1798180200@crossfitchaparral.com
SUMMARY:CrossFit Class
DESCRIPTION:
URL:https://crossfitchaparral.com/event/crossfit-class/2026-12-25/
CATEGORIES:CrossFit Class
END:VEVENT
BEGIN:VEVENT
DTSTART;TZID=UTC:20261225T063000
DTEND;TZID=UTC:20261225T193000
DTSTAMP:20260424T135340
CREATED:20251027T165009Z
LAST-MODIFIED:20251027T165009Z
UID:10002915-1798180200-1798227000@crossfitchaparral.com
SUMMARY:CrossFit Class
DESCRIPTION:
URL:https://crossfitchaparral.com/event/crossfit-class-2/2026-12-25/
CATEGORIES:CrossFit Class
END:VEVENT
BEGIN:VEVENT
DTSTART;TZID=UTC:20261225T083000
DTEND;TZID=UTC:20261225T093000
DTSTAMP:20260424T135340
CREATED:20251027T165257Z
LAST-MODIFIED:20251027T165257Z
UID:10005281-1798187400-1798191000@crossfitchaparral.com
SUMMARY:CrossFit Class
DESCRIPTION:
URL:https://crossfitchaparral.com/event/crossfit-class-3/2026-12-25/
CATEGORIES:CrossFit Class
END:VEVENT
BEGIN:VEVENT
DTSTART;TZID=UTC:20261225T163000
DTEND;TZID=UTC:20261225T173000
DTSTAMP:20260424T135340
CREATED:20251027T165935Z
LAST-MODIFIED:20251027T165935Z
UID:10007091-1798216200-1798219800@crossfitchaparral.com
SUMMARY:CrossFit Class
DESCRIPTION:
URL:https://crossfitchaparral.com/event/crossfit-class-5/2026-12-25/
CATEGORIES:CrossFit Class
END:VEVENT
BEGIN:VEVENT
DTSTART;TZID=UTC:20261225T173000
DTEND;TZID=UTC:20261225T183000
DTSTAMP:20260424T135340
CREATED:20251027T170752Z
LAST-MODIFIED:20251027T170752Z
UID:10008396-1798219800-1798223400@crossfitchaparral.com
SUMMARY:CrossFit Class
DESCRIPTION:
URL:https://crossfitchaparral.com/event/crossfit-class-6/2026-12-25/
CATEGORIES:CrossFit Class
END:VEVENT
BEGIN:VEVENT
DTSTART;TZID=UTC:20261226T080000
DTEND;TZID=UTC:20261226T090000
DTSTAMP:20260424T135340
CREATED:20251027T165352Z
LAST-MODIFIED:20251027T165352Z
UID:10005542-1798272000-1798275600@crossfitchaparral.com
SUMMARY:CrossFit Class
DESCRIPTION:
URL:https://crossfitchaparral.com/event/crossfit-class-4/2026-12-26/
CATEGORIES:CrossFit Class
END:VEVENT
END:VCALENDAR