BEGIN:VCALENDAR
VERSION:2.0
PRODID:-//CrossFit Chaparral - ECPv6.15.10//NONSGML v1.0//EN
CALSCALE:GREGORIAN
METHOD:PUBLISH
X-WR-CALNAME:CrossFit Chaparral
X-ORIGINAL-URL:https://crossfitchaparral.com
X-WR-CALDESC:Events for CrossFit Chaparral
REFRESH-INTERVAL;VALUE=DURATION:PT1H
X-Robots-Tag:noindex
X-PUBLISHED-TTL:PT1H
BEGIN:VTIMEZONE
TZID:UTC
BEGIN:STANDARD
TZOFFSETFROM:+0000
TZOFFSETTO:+0000
TZNAME:UTC
DTSTART:20260101T000000
END:STANDARD
END:VTIMEZONE
BEGIN:VEVENT
DTSTART;TZID=UTC:20270324T163000
DTEND;TZID=UTC:20270324T173000
DTSTAMP:20260424T192454
CREATED:20251027T165935Z
LAST-MODIFIED:20251027T165935Z
UID:10007154-1805905800-1805909400@crossfitchaparral.com
SUMMARY:CrossFit Class
DESCRIPTION:
URL:https://crossfitchaparral.com/event/crossfit-class-5/2027-03-24/
CATEGORIES:CrossFit Class
END:VEVENT
BEGIN:VEVENT
DTSTART;TZID=UTC:20270324T173000
DTEND;TZID=UTC:20270324T183000
DTSTAMP:20260424T192454
CREATED:20251027T170752Z
LAST-MODIFIED:20251027T170752Z
UID:10008459-1805909400-1805913000@crossfitchaparral.com
SUMMARY:CrossFit Class
DESCRIPTION:
URL:https://crossfitchaparral.com/event/crossfit-class-6/2027-03-24/
CATEGORIES:CrossFit Class
END:VEVENT
BEGIN:VEVENT
DTSTART;TZID=UTC:20270324T183000
DTEND;TZID=UTC:20270324T193000
DTSTAMP:20260424T192454
CREATED:20251027T170840Z
LAST-MODIFIED:20251027T170858Z
UID:10009691-1805913000-1805916600@crossfitchaparral.com
SUMMARY:CrossFit Class
DESCRIPTION:
URL:https://crossfitchaparral.com/event/crossfit-class-7/2027-03-24/
CATEGORIES:CrossFit Class
END:VEVENT
BEGIN:VEVENT
DTSTART;TZID=UTC:20270325T053000
DTEND;TZID=UTC:20270325T063000
DTSTAMP:20260424T192454
CREATED:20251027T164919Z
LAST-MODIFIED:20251027T164919Z
UID:10001674-1805952600-1805956200@crossfitchaparral.com
SUMMARY:CrossFit Class
DESCRIPTION:
URL:https://crossfitchaparral.com/event/crossfit-class/2027-03-25/
CATEGORIES:CrossFit Class
END:VEVENT
BEGIN:VEVENT
DTSTART;TZID=UTC:20270325T063000
DTEND;TZID=UTC:20270325T193000
DTSTAMP:20260424T192454
CREATED:20251027T165009Z
LAST-MODIFIED:20251027T165009Z
UID:10002979-1805956200-1806003000@crossfitchaparral.com
SUMMARY:CrossFit Class
DESCRIPTION:
URL:https://crossfitchaparral.com/event/crossfit-class-2/2027-03-25/
CATEGORIES:CrossFit Class
END:VEVENT
BEGIN:VEVENT
DTSTART;TZID=UTC:20270325T163000
DTEND;TZID=UTC:20270325T173000
DTSTAMP:20260424T192454
CREATED:20251027T165935Z
LAST-MODIFIED:20251027T165935Z
UID:10007155-1805992200-1805995800@crossfitchaparral.com
SUMMARY:CrossFit Class
DESCRIPTION:
URL:https://crossfitchaparral.com/event/crossfit-class-5/2027-03-25/
CATEGORIES:CrossFit Class
END:VEVENT
BEGIN:VEVENT
DTSTART;TZID=UTC:20270325T173000
DTEND;TZID=UTC:20270325T183000
DTSTAMP:20260424T192454
CREATED:20251027T170752Z
LAST-MODIFIED:20251027T170752Z
UID:10008460-1805995800-1805999400@crossfitchaparral.com
SUMMARY:CrossFit Class
DESCRIPTION:
URL:https://crossfitchaparral.com/event/crossfit-class-6/2027-03-25/
CATEGORIES:CrossFit Class
END:VEVENT
BEGIN:VEVENT
DTSTART;TZID=UTC:20270325T183000
DTEND;TZID=UTC:20270325T193000
DTSTAMP:20260424T192454
CREATED:20251027T170840Z
LAST-MODIFIED:20251027T170858Z
UID:10009692-1805999400-1806003000@crossfitchaparral.com
SUMMARY:CrossFit Class
DESCRIPTION:
URL:https://crossfitchaparral.com/event/crossfit-class-7/2027-03-25/
CATEGORIES:CrossFit Class
END:VEVENT
BEGIN:VEVENT
DTSTART;TZID=UTC:20270326T053000
DTEND;TZID=UTC:20270326T063000
DTSTAMP:20260424T192454
CREATED:20251027T164919Z
LAST-MODIFIED:20251027T164919Z
UID:10001675-1806039000-1806042600@crossfitchaparral.com
SUMMARY:CrossFit Class
DESCRIPTION:
URL:https://crossfitchaparral.com/event/crossfit-class/2027-03-26/
CATEGORIES:CrossFit Class
END:VEVENT
BEGIN:VEVENT
DTSTART;TZID=UTC:20270326T063000
DTEND;TZID=UTC:20270326T193000
DTSTAMP:20260424T192454
CREATED:20251027T165009Z
LAST-MODIFIED:20251027T165009Z
UID:10002980-1806042600-1806089400@crossfitchaparral.com
SUMMARY:CrossFit Class
DESCRIPTION:
URL:https://crossfitchaparral.com/event/crossfit-class-2/2027-03-26/
CATEGORIES:CrossFit Class
END:VEVENT
BEGIN:VEVENT
DTSTART;TZID=UTC:20270326T083000
DTEND;TZID=UTC:20270326T093000
DTSTAMP:20260424T192454
CREATED:20251027T165257Z
LAST-MODIFIED:20251027T165257Z
UID:10005294-1806049800-1806053400@crossfitchaparral.com
SUMMARY:CrossFit Class
DESCRIPTION:
URL:https://crossfitchaparral.com/event/crossfit-class-3/2027-03-26/
CATEGORIES:CrossFit Class
END:VEVENT
BEGIN:VEVENT
DTSTART;TZID=UTC:20270326T163000
DTEND;TZID=UTC:20270326T173000
DTSTAMP:20260424T192454
CREATED:20251027T165935Z
LAST-MODIFIED:20251027T165935Z
UID:10007156-1806078600-1806082200@crossfitchaparral.com
SUMMARY:CrossFit Class
DESCRIPTION:
URL:https://crossfitchaparral.com/event/crossfit-class-5/2027-03-26/
CATEGORIES:CrossFit Class
END:VEVENT
BEGIN:VEVENT
DTSTART;TZID=UTC:20270326T173000
DTEND;TZID=UTC:20270326T183000
DTSTAMP:20260424T192454
CREATED:20251027T170752Z
LAST-MODIFIED:20251027T170752Z
UID:10008461-1806082200-1806085800@crossfitchaparral.com
SUMMARY:CrossFit Class
DESCRIPTION:
URL:https://crossfitchaparral.com/event/crossfit-class-6/2027-03-26/
CATEGORIES:CrossFit Class
END:VEVENT
BEGIN:VEVENT
DTSTART;TZID=UTC:20270327T080000
DTEND;TZID=UTC:20270327T090000
DTSTAMP:20260424T192454
CREATED:20251027T165352Z
LAST-MODIFIED:20251027T165352Z
UID:10005555-1806134400-1806138000@crossfitchaparral.com
SUMMARY:CrossFit Class
DESCRIPTION:
URL:https://crossfitchaparral.com/event/crossfit-class-4/2027-03-27/
CATEGORIES:CrossFit Class
END:VEVENT
BEGIN:VEVENT
DTSTART;TZID=UTC:20270329T053000
DTEND;TZID=UTC:20270329T063000
DTSTAMP:20260424T192454
CREATED:20251027T164919Z
LAST-MODIFIED:20251027T164919Z
UID:10001676-1806298200-1806301800@crossfitchaparral.com
SUMMARY:CrossFit Class
DESCRIPTION:
URL:https://crossfitchaparral.com/event/crossfit-class/2027-03-29/
CATEGORIES:CrossFit Class
END:VEVENT
BEGIN:VEVENT
DTSTART;TZID=UTC:20270329T063000
DTEND;TZID=UTC:20270329T193000
DTSTAMP:20260424T192454
CREATED:20251027T165009Z
LAST-MODIFIED:20251027T165009Z
UID:10002981-1806301800-1806348600@crossfitchaparral.com
SUMMARY:CrossFit Class
DESCRIPTION:
URL:https://crossfitchaparral.com/event/crossfit-class-2/2027-03-29/
CATEGORIES:CrossFit Class
END:VEVENT
BEGIN:VEVENT
DTSTART;TZID=UTC:20270329T163000
DTEND;TZID=UTC:20270329T173000
DTSTAMP:20260424T192454
CREATED:20251027T165935Z
LAST-MODIFIED:20251027T165935Z
UID:10007157-1806337800-1806341400@crossfitchaparral.com
SUMMARY:CrossFit Class
DESCRIPTION:
URL:https://crossfitchaparral.com/event/crossfit-class-5/2027-03-29/
CATEGORIES:CrossFit Class
END:VEVENT
BEGIN:VEVENT
DTSTART;TZID=UTC:20270329T173000
DTEND;TZID=UTC:20270329T183000
DTSTAMP:20260424T192454
CREATED:20251027T170752Z
LAST-MODIFIED:20251027T170752Z
UID:10008462-1806341400-1806345000@crossfitchaparral.com
SUMMARY:CrossFit Class
DESCRIPTION:
URL:https://crossfitchaparral.com/event/crossfit-class-6/2027-03-29/
CATEGORIES:CrossFit Class
END:VEVENT
BEGIN:VEVENT
DTSTART;TZID=UTC:20270329T183000
DTEND;TZID=UTC:20270329T193000
DTSTAMP:20260424T192454
CREATED:20251027T170840Z
LAST-MODIFIED:20251027T170858Z
UID:10009693-1806345000-1806348600@crossfitchaparral.com
SUMMARY:CrossFit Class
DESCRIPTION:
URL:https://crossfitchaparral.com/event/crossfit-class-7/2027-03-29/
CATEGORIES:CrossFit Class
END:VEVENT
BEGIN:VEVENT
DTSTART;TZID=UTC:20270330T053000
DTEND;TZID=UTC:20270330T063000
DTSTAMP:20260424T192454
CREATED:20251027T164919Z
LAST-MODIFIED:20251027T164919Z
UID:10001677-1806384600-1806388200@crossfitchaparral.com
SUMMARY:CrossFit Class
DESCRIPTION:
URL:https://crossfitchaparral.com/event/crossfit-class/2027-03-30/
CATEGORIES:CrossFit Class
END:VEVENT
BEGIN:VEVENT
DTSTART;TZID=UTC:20270330T063000
DTEND;TZID=UTC:20270330T193000
DTSTAMP:20260424T192454
CREATED:20251027T165009Z
LAST-MODIFIED:20251027T165009Z
UID:10002982-1806388200-1806435000@crossfitchaparral.com
SUMMARY:CrossFit Class
DESCRIPTION:
URL:https://crossfitchaparral.com/event/crossfit-class-2/2027-03-30/
CATEGORIES:CrossFit Class
END:VEVENT
BEGIN:VEVENT
DTSTART;TZID=UTC:20270330T163000
DTEND;TZID=UTC:20270330T173000
DTSTAMP:20260424T192454
CREATED:20251027T165935Z
LAST-MODIFIED:20251027T165935Z
UID:10007158-1806424200-1806427800@crossfitchaparral.com
SUMMARY:CrossFit Class
DESCRIPTION:
URL:https://crossfitchaparral.com/event/crossfit-class-5/2027-03-30/
CATEGORIES:CrossFit Class
END:VEVENT
BEGIN:VEVENT
DTSTART;TZID=UTC:20270330T173000
DTEND;TZID=UTC:20270330T183000
DTSTAMP:20260424T192454
CREATED:20251027T170752Z
LAST-MODIFIED:20251027T170752Z
UID:10008463-1806427800-1806431400@crossfitchaparral.com
SUMMARY:CrossFit Class
DESCRIPTION:
URL:https://crossfitchaparral.com/event/crossfit-class-6/2027-03-30/
CATEGORIES:CrossFit Class
END:VEVENT
BEGIN:VEVENT
DTSTART;TZID=UTC:20270330T183000
DTEND;TZID=UTC:20270330T193000
DTSTAMP:20260424T192454
CREATED:20251027T170840Z
LAST-MODIFIED:20251027T170858Z
UID:10009694-1806431400-1806435000@crossfitchaparral.com
SUMMARY:CrossFit Class
DESCRIPTION:
URL:https://crossfitchaparral.com/event/crossfit-class-7/2027-03-30/
CATEGORIES:CrossFit Class
END:VEVENT
BEGIN:VEVENT
DTSTART;TZID=UTC:20270331T053000
DTEND;TZID=UTC:20270331T063000
DTSTAMP:20260424T192454
CREATED:20251027T164919Z
LAST-MODIFIED:20251027T164919Z
UID:10001678-1806471000-1806474600@crossfitchaparral.com
SUMMARY:CrossFit Class
DESCRIPTION:
URL:https://crossfitchaparral.com/event/crossfit-class/2027-03-31/
CATEGORIES:CrossFit Class
END:VEVENT
BEGIN:VEVENT
DTSTART;TZID=UTC:20270331T063000
DTEND;TZID=UTC:20270331T193000
DTSTAMP:20260424T192454
CREATED:20251027T165009Z
LAST-MODIFIED:20251027T165009Z
UID:10002983-1806474600-1806521400@crossfitchaparral.com
SUMMARY:CrossFit Class
DESCRIPTION:
URL:https://crossfitchaparral.com/event/crossfit-class-2/2027-03-31/
CATEGORIES:CrossFit Class
END:VEVENT
BEGIN:VEVENT
DTSTART;TZID=UTC:20270331T163000
DTEND;TZID=UTC:20270331T173000
DTSTAMP:20260424T192454
CREATED:20251027T165935Z
LAST-MODIFIED:20251027T165935Z
UID:10007159-1806510600-1806514200@crossfitchaparral.com
SUMMARY:CrossFit Class
DESCRIPTION:
URL:https://crossfitchaparral.com/event/crossfit-class-5/2027-03-31/
CATEGORIES:CrossFit Class
END:VEVENT
BEGIN:VEVENT
DTSTART;TZID=UTC:20270331T173000
DTEND;TZID=UTC:20270331T183000
DTSTAMP:20260424T192454
CREATED:20251027T170752Z
LAST-MODIFIED:20251027T170752Z
UID:10008464-1806514200-1806517800@crossfitchaparral.com
SUMMARY:CrossFit Class
DESCRIPTION:
URL:https://crossfitchaparral.com/event/crossfit-class-6/2027-03-31/
CATEGORIES:CrossFit Class
END:VEVENT
BEGIN:VEVENT
DTSTART;TZID=UTC:20270331T183000
DTEND;TZID=UTC:20270331T193000
DTSTAMP:20260424T192454
CREATED:20251027T170840Z
LAST-MODIFIED:20251027T170858Z
UID:10009695-1806517800-1806521400@crossfitchaparral.com
SUMMARY:CrossFit Class
DESCRIPTION:
URL:https://crossfitchaparral.com/event/crossfit-class-7/2027-03-31/
CATEGORIES:CrossFit Class
END:VEVENT
BEGIN:VEVENT
DTSTART;TZID=UTC:20270401T053000
DTEND;TZID=UTC:20270401T063000
DTSTAMP:20260424T192454
CREATED:20251027T164919Z
LAST-MODIFIED:20251027T164919Z
UID:10001679-1806557400-1806561000@crossfitchaparral.com
SUMMARY:CrossFit Class
DESCRIPTION:
URL:https://crossfitchaparral.com/event/crossfit-class/2027-04-01/
CATEGORIES:CrossFit Class
END:VEVENT
END:VCALENDAR