BEGIN:VCALENDAR
VERSION:2.0
PRODID:-//CrossFit Chaparral - ECPv6.15.10//NONSGML v1.0//EN
CALSCALE:GREGORIAN
METHOD:PUBLISH
X-ORIGINAL-URL:https://crossfitchaparral.com
X-WR-CALDESC:Events for CrossFit Chaparral
REFRESH-INTERVAL;VALUE=DURATION:PT1H
X-Robots-Tag:noindex
X-PUBLISHED-TTL:PT1H
BEGIN:VTIMEZONE
TZID:UTC
BEGIN:STANDARD
TZOFFSETFROM:+0000
TZOFFSETTO:+0000
TZNAME:UTC
DTSTART:20250101T000000
END:STANDARD
END:VTIMEZONE
BEGIN:VEVENT
DTSTART;TZID=UTC:20260914T063000
DTEND;TZID=UTC:20260914T193000
DTSTAMP:20260422T001019
CREATED:20251027T165009Z
LAST-MODIFIED:20251027T165009Z
UID:10002841-1789367400-1789414200@crossfitchaparral.com
SUMMARY:CrossFit Class
DESCRIPTION:
URL:https://crossfitchaparral.com/event/crossfit-class-2/2026-09-14/
CATEGORIES:CrossFit Class
END:VEVENT
BEGIN:VEVENT
DTSTART;TZID=UTC:20260914T163000
DTEND;TZID=UTC:20260914T173000
DTSTAMP:20260422T001019
CREATED:20251027T165935Z
LAST-MODIFIED:20251027T165935Z
UID:10007017-1789403400-1789407000@crossfitchaparral.com
SUMMARY:CrossFit Class
DESCRIPTION:
URL:https://crossfitchaparral.com/event/crossfit-class-5/2026-09-14/
CATEGORIES:CrossFit Class
END:VEVENT
BEGIN:VEVENT
DTSTART;TZID=UTC:20260914T173000
DTEND;TZID=UTC:20260914T183000
DTSTAMP:20260422T001019
CREATED:20251027T170752Z
LAST-MODIFIED:20251027T170752Z
UID:10008322-1789407000-1789410600@crossfitchaparral.com
SUMMARY:CrossFit Class
DESCRIPTION:
URL:https://crossfitchaparral.com/event/crossfit-class-6/2026-09-14/
CATEGORIES:CrossFit Class
END:VEVENT
BEGIN:VEVENT
DTSTART;TZID=UTC:20260914T183000
DTEND;TZID=UTC:20260914T193000
DTSTAMP:20260422T001019
CREATED:20251027T170840Z
LAST-MODIFIED:20251027T170858Z
UID:10009581-1789410600-1789414200@crossfitchaparral.com
SUMMARY:CrossFit Class
DESCRIPTION:
URL:https://crossfitchaparral.com/event/crossfit-class-7/2026-09-14/
CATEGORIES:CrossFit Class
END:VEVENT
BEGIN:VEVENT
DTSTART;TZID=UTC:20260915T053000
DTEND;TZID=UTC:20260915T063000
DTSTAMP:20260422T001019
CREATED:20251027T164919Z
LAST-MODIFIED:20251027T164919Z
UID:10001537-1789450200-1789453800@crossfitchaparral.com
SUMMARY:CrossFit Class
DESCRIPTION:
URL:https://crossfitchaparral.com/event/crossfit-class/2026-09-15/
CATEGORIES:CrossFit Class
END:VEVENT
BEGIN:VEVENT
DTSTART;TZID=UTC:20260915T063000
DTEND;TZID=UTC:20260915T193000
DTSTAMP:20260422T001019
CREATED:20251027T165009Z
LAST-MODIFIED:20251027T165009Z
UID:10002842-1789453800-1789500600@crossfitchaparral.com
SUMMARY:CrossFit Class
DESCRIPTION:
URL:https://crossfitchaparral.com/event/crossfit-class-2/2026-09-15/
CATEGORIES:CrossFit Class
END:VEVENT
BEGIN:VEVENT
DTSTART;TZID=UTC:20260915T163000
DTEND;TZID=UTC:20260915T173000
DTSTAMP:20260422T001019
CREATED:20251027T165935Z
LAST-MODIFIED:20251027T165935Z
UID:10007018-1789489800-1789493400@crossfitchaparral.com
SUMMARY:CrossFit Class
DESCRIPTION:
URL:https://crossfitchaparral.com/event/crossfit-class-5/2026-09-15/
CATEGORIES:CrossFit Class
END:VEVENT
BEGIN:VEVENT
DTSTART;TZID=UTC:20260915T173000
DTEND;TZID=UTC:20260915T183000
DTSTAMP:20260422T001019
CREATED:20251027T170752Z
LAST-MODIFIED:20251027T170752Z
UID:10008323-1789493400-1789497000@crossfitchaparral.com
SUMMARY:CrossFit Class
DESCRIPTION:
URL:https://crossfitchaparral.com/event/crossfit-class-6/2026-09-15/
CATEGORIES:CrossFit Class
END:VEVENT
BEGIN:VEVENT
DTSTART;TZID=UTC:20260915T183000
DTEND;TZID=UTC:20260915T193000
DTSTAMP:20260422T001019
CREATED:20251027T170840Z
LAST-MODIFIED:20251027T170858Z
UID:10009582-1789497000-1789500600@crossfitchaparral.com
SUMMARY:CrossFit Class
DESCRIPTION:
URL:https://crossfitchaparral.com/event/crossfit-class-7/2026-09-15/
CATEGORIES:CrossFit Class
END:VEVENT
BEGIN:VEVENT
DTSTART;TZID=UTC:20260916T053000
DTEND;TZID=UTC:20260916T063000
DTSTAMP:20260422T001019
CREATED:20251027T164919Z
LAST-MODIFIED:20251027T164919Z
UID:10001538-1789536600-1789540200@crossfitchaparral.com
SUMMARY:CrossFit Class
DESCRIPTION:
URL:https://crossfitchaparral.com/event/crossfit-class/2026-09-16/
CATEGORIES:CrossFit Class
END:VEVENT
BEGIN:VEVENT
DTSTART;TZID=UTC:20260916T063000
DTEND;TZID=UTC:20260916T193000
DTSTAMP:20260422T001019
CREATED:20251027T165009Z
LAST-MODIFIED:20251027T165009Z
UID:10002843-1789540200-1789587000@crossfitchaparral.com
SUMMARY:CrossFit Class
DESCRIPTION:
URL:https://crossfitchaparral.com/event/crossfit-class-2/2026-09-16/
CATEGORIES:CrossFit Class
END:VEVENT
BEGIN:VEVENT
DTSTART;TZID=UTC:20260916T163000
DTEND;TZID=UTC:20260916T173000
DTSTAMP:20260422T001019
CREATED:20251027T165935Z
LAST-MODIFIED:20251027T165935Z
UID:10007019-1789576200-1789579800@crossfitchaparral.com
SUMMARY:CrossFit Class
DESCRIPTION:
URL:https://crossfitchaparral.com/event/crossfit-class-5/2026-09-16/
CATEGORIES:CrossFit Class
END:VEVENT
BEGIN:VEVENT
DTSTART;TZID=UTC:20260916T173000
DTEND;TZID=UTC:20260916T183000
DTSTAMP:20260422T001019
CREATED:20251027T170752Z
LAST-MODIFIED:20251027T170752Z
UID:10008324-1789579800-1789583400@crossfitchaparral.com
SUMMARY:CrossFit Class
DESCRIPTION:
URL:https://crossfitchaparral.com/event/crossfit-class-6/2026-09-16/
CATEGORIES:CrossFit Class
END:VEVENT
BEGIN:VEVENT
DTSTART;TZID=UTC:20260916T183000
DTEND;TZID=UTC:20260916T193000
DTSTAMP:20260422T001019
CREATED:20251027T170840Z
LAST-MODIFIED:20251027T170858Z
UID:10009583-1789583400-1789587000@crossfitchaparral.com
SUMMARY:CrossFit Class
DESCRIPTION:
URL:https://crossfitchaparral.com/event/crossfit-class-7/2026-09-16/
CATEGORIES:CrossFit Class
END:VEVENT
BEGIN:VEVENT
DTSTART;TZID=UTC:20260917T053000
DTEND;TZID=UTC:20260917T063000
DTSTAMP:20260422T001019
CREATED:20251027T164919Z
LAST-MODIFIED:20251027T164919Z
UID:10001539-1789623000-1789626600@crossfitchaparral.com
SUMMARY:CrossFit Class
DESCRIPTION:
URL:https://crossfitchaparral.com/event/crossfit-class/2026-09-17/
CATEGORIES:CrossFit Class
END:VEVENT
BEGIN:VEVENT
DTSTART;TZID=UTC:20260917T063000
DTEND;TZID=UTC:20260917T193000
DTSTAMP:20260422T001019
CREATED:20251027T165009Z
LAST-MODIFIED:20251027T165009Z
UID:10002844-1789626600-1789673400@crossfitchaparral.com
SUMMARY:CrossFit Class
DESCRIPTION:
URL:https://crossfitchaparral.com/event/crossfit-class-2/2026-09-17/
CATEGORIES:CrossFit Class
END:VEVENT
BEGIN:VEVENT
DTSTART;TZID=UTC:20260917T163000
DTEND;TZID=UTC:20260917T173000
DTSTAMP:20260422T001019
CREATED:20251027T165935Z
LAST-MODIFIED:20251027T165935Z
UID:10007020-1789662600-1789666200@crossfitchaparral.com
SUMMARY:CrossFit Class
DESCRIPTION:
URL:https://crossfitchaparral.com/event/crossfit-class-5/2026-09-17/
CATEGORIES:CrossFit Class
END:VEVENT
BEGIN:VEVENT
DTSTART;TZID=UTC:20260917T173000
DTEND;TZID=UTC:20260917T183000
DTSTAMP:20260422T001019
CREATED:20251027T170752Z
LAST-MODIFIED:20251027T170752Z
UID:10008325-1789666200-1789669800@crossfitchaparral.com
SUMMARY:CrossFit Class
DESCRIPTION:
URL:https://crossfitchaparral.com/event/crossfit-class-6/2026-09-17/
CATEGORIES:CrossFit Class
END:VEVENT
BEGIN:VEVENT
DTSTART;TZID=UTC:20260917T183000
DTEND;TZID=UTC:20260917T193000
DTSTAMP:20260422T001019
CREATED:20251027T170840Z
LAST-MODIFIED:20251027T170858Z
UID:10009584-1789669800-1789673400@crossfitchaparral.com
SUMMARY:CrossFit Class
DESCRIPTION:
URL:https://crossfitchaparral.com/event/crossfit-class-7/2026-09-17/
CATEGORIES:CrossFit Class
END:VEVENT
BEGIN:VEVENT
DTSTART;TZID=UTC:20260918T053000
DTEND;TZID=UTC:20260918T063000
DTSTAMP:20260422T001019
CREATED:20251027T164919Z
LAST-MODIFIED:20251027T164919Z
UID:10001540-1789709400-1789713000@crossfitchaparral.com
SUMMARY:CrossFit Class
DESCRIPTION:
URL:https://crossfitchaparral.com/event/crossfit-class/2026-09-18/
CATEGORIES:CrossFit Class
END:VEVENT
BEGIN:VEVENT
DTSTART;TZID=UTC:20260918T063000
DTEND;TZID=UTC:20260918T193000
DTSTAMP:20260422T001019
CREATED:20251027T165009Z
LAST-MODIFIED:20251027T165009Z
UID:10002845-1789713000-1789759800@crossfitchaparral.com
SUMMARY:CrossFit Class
DESCRIPTION:
URL:https://crossfitchaparral.com/event/crossfit-class-2/2026-09-18/
CATEGORIES:CrossFit Class
END:VEVENT
BEGIN:VEVENT
DTSTART;TZID=UTC:20260918T083000
DTEND;TZID=UTC:20260918T093000
DTSTAMP:20260422T001019
CREATED:20251027T165257Z
LAST-MODIFIED:20251027T165257Z
UID:10005267-1789720200-1789723800@crossfitchaparral.com
SUMMARY:CrossFit Class
DESCRIPTION:
URL:https://crossfitchaparral.com/event/crossfit-class-3/2026-09-18/
CATEGORIES:CrossFit Class
END:VEVENT
BEGIN:VEVENT
DTSTART;TZID=UTC:20260918T163000
DTEND;TZID=UTC:20260918T173000
DTSTAMP:20260422T001019
CREATED:20251027T165935Z
LAST-MODIFIED:20251027T165935Z
UID:10007021-1789749000-1789752600@crossfitchaparral.com
SUMMARY:CrossFit Class
DESCRIPTION:
URL:https://crossfitchaparral.com/event/crossfit-class-5/2026-09-18/
CATEGORIES:CrossFit Class
END:VEVENT
BEGIN:VEVENT
DTSTART;TZID=UTC:20260918T173000
DTEND;TZID=UTC:20260918T183000
DTSTAMP:20260422T001019
CREATED:20251027T170752Z
LAST-MODIFIED:20251027T170752Z
UID:10008326-1789752600-1789756200@crossfitchaparral.com
SUMMARY:CrossFit Class
DESCRIPTION:
URL:https://crossfitchaparral.com/event/crossfit-class-6/2026-09-18/
CATEGORIES:CrossFit Class
END:VEVENT
BEGIN:VEVENT
DTSTART;TZID=UTC:20260919T080000
DTEND;TZID=UTC:20260919T090000
DTSTAMP:20260422T001019
CREATED:20251027T165352Z
LAST-MODIFIED:20251027T165352Z
UID:10005528-1789804800-1789808400@crossfitchaparral.com
SUMMARY:CrossFit Class
DESCRIPTION:
URL:https://crossfitchaparral.com/event/crossfit-class-4/2026-09-19/
CATEGORIES:CrossFit Class
END:VEVENT
BEGIN:VEVENT
DTSTART;TZID=UTC:20260921T053000
DTEND;TZID=UTC:20260921T063000
DTSTAMP:20260422T001019
CREATED:20251027T164919Z
LAST-MODIFIED:20251027T164919Z
UID:10001541-1789968600-1789972200@crossfitchaparral.com
SUMMARY:CrossFit Class
DESCRIPTION:
URL:https://crossfitchaparral.com/event/crossfit-class/2026-09-21/
CATEGORIES:CrossFit Class
END:VEVENT
BEGIN:VEVENT
DTSTART;TZID=UTC:20260921T063000
DTEND;TZID=UTC:20260921T193000
DTSTAMP:20260422T001019
CREATED:20251027T165009Z
LAST-MODIFIED:20251027T165009Z
UID:10002846-1789972200-1790019000@crossfitchaparral.com
SUMMARY:CrossFit Class
DESCRIPTION:
URL:https://crossfitchaparral.com/event/crossfit-class-2/2026-09-21/
CATEGORIES:CrossFit Class
END:VEVENT
BEGIN:VEVENT
DTSTART;TZID=UTC:20260921T163000
DTEND;TZID=UTC:20260921T173000
DTSTAMP:20260422T001019
CREATED:20251027T165935Z
LAST-MODIFIED:20251027T165935Z
UID:10007022-1790008200-1790011800@crossfitchaparral.com
SUMMARY:CrossFit Class
DESCRIPTION:
URL:https://crossfitchaparral.com/event/crossfit-class-5/2026-09-21/
CATEGORIES:CrossFit Class
END:VEVENT
BEGIN:VEVENT
DTSTART;TZID=UTC:20260921T173000
DTEND;TZID=UTC:20260921T183000
DTSTAMP:20260422T001019
CREATED:20251027T170752Z
LAST-MODIFIED:20251027T170752Z
UID:10008327-1790011800-1790015400@crossfitchaparral.com
SUMMARY:CrossFit Class
DESCRIPTION:
URL:https://crossfitchaparral.com/event/crossfit-class-6/2026-09-21/
CATEGORIES:CrossFit Class
END:VEVENT
BEGIN:VEVENT
DTSTART;TZID=UTC:20260921T183000
DTEND;TZID=UTC:20260921T193000
DTSTAMP:20260422T001019
CREATED:20251027T170840Z
LAST-MODIFIED:20251027T170858Z
UID:10009585-1790015400-1790019000@crossfitchaparral.com
SUMMARY:CrossFit Class
DESCRIPTION:
URL:https://crossfitchaparral.com/event/crossfit-class-7/2026-09-21/
CATEGORIES:CrossFit Class
END:VEVENT
END:VCALENDAR