BEGIN:VCALENDAR
VERSION:2.0
PRODID:-//CrossFit Chaparral - ECPv6.15.10//NONSGML v1.0//EN
CALSCALE:GREGORIAN
METHOD:PUBLISH
X-ORIGINAL-URL:https://crossfitchaparral.com
X-WR-CALDESC:Events for CrossFit Chaparral
REFRESH-INTERVAL;VALUE=DURATION:PT1H
X-Robots-Tag:noindex
X-PUBLISHED-TTL:PT1H
BEGIN:VTIMEZONE
TZID:UTC
BEGIN:STANDARD
TZOFFSETFROM:+0000
TZOFFSETTO:+0000
TZNAME:UTC
DTSTART:20260101T000000
END:STANDARD
END:VTIMEZONE
BEGIN:VEVENT
DTSTART;TZID=UTC:20270217T163000
DTEND;TZID=UTC:20270217T173000
DTSTAMP:20260424T221309
CREATED:20251027T165935Z
LAST-MODIFIED:20251027T165935Z
UID:10007129-1802881800-1802885400@crossfitchaparral.com
SUMMARY:CrossFit Class
DESCRIPTION:
URL:https://crossfitchaparral.com/event/crossfit-class-5/2027-02-17/
CATEGORIES:CrossFit Class
END:VEVENT
BEGIN:VEVENT
DTSTART;TZID=UTC:20270217T173000
DTEND;TZID=UTC:20270217T183000
DTSTAMP:20260424T221309
CREATED:20251027T170752Z
LAST-MODIFIED:20251027T170752Z
UID:10008434-1802885400-1802889000@crossfitchaparral.com
SUMMARY:CrossFit Class
DESCRIPTION:
URL:https://crossfitchaparral.com/event/crossfit-class-6/2027-02-17/
CATEGORIES:CrossFit Class
END:VEVENT
BEGIN:VEVENT
DTSTART;TZID=UTC:20270217T183000
DTEND;TZID=UTC:20270217T193000
DTSTAMP:20260424T221309
CREATED:20251027T170840Z
LAST-MODIFIED:20251027T170858Z
UID:10009671-1802889000-1802892600@crossfitchaparral.com
SUMMARY:CrossFit Class
DESCRIPTION:
URL:https://crossfitchaparral.com/event/crossfit-class-7/2027-02-17/
CATEGORIES:CrossFit Class
END:VEVENT
BEGIN:VEVENT
DTSTART;TZID=UTC:20270218T053000
DTEND;TZID=UTC:20270218T063000
DTSTAMP:20260424T221309
CREATED:20251027T164919Z
LAST-MODIFIED:20251027T164919Z
UID:10001649-1802928600-1802932200@crossfitchaparral.com
SUMMARY:CrossFit Class
DESCRIPTION:
URL:https://crossfitchaparral.com/event/crossfit-class/2027-02-18/
CATEGORIES:CrossFit Class
END:VEVENT
BEGIN:VEVENT
DTSTART;TZID=UTC:20270218T063000
DTEND;TZID=UTC:20270218T193000
DTSTAMP:20260424T221309
CREATED:20251027T165009Z
LAST-MODIFIED:20251027T165009Z
UID:10002954-1802932200-1802979000@crossfitchaparral.com
SUMMARY:CrossFit Class
DESCRIPTION:
URL:https://crossfitchaparral.com/event/crossfit-class-2/2027-02-18/
CATEGORIES:CrossFit Class
END:VEVENT
BEGIN:VEVENT
DTSTART;TZID=UTC:20270218T163000
DTEND;TZID=UTC:20270218T173000
DTSTAMP:20260424T221309
CREATED:20251027T165935Z
LAST-MODIFIED:20251027T165935Z
UID:10007130-1802968200-1802971800@crossfitchaparral.com
SUMMARY:CrossFit Class
DESCRIPTION:
URL:https://crossfitchaparral.com/event/crossfit-class-5/2027-02-18/
CATEGORIES:CrossFit Class
END:VEVENT
BEGIN:VEVENT
DTSTART;TZID=UTC:20270218T173000
DTEND;TZID=UTC:20270218T183000
DTSTAMP:20260424T221309
CREATED:20251027T170752Z
LAST-MODIFIED:20251027T170752Z
UID:10008435-1802971800-1802975400@crossfitchaparral.com
SUMMARY:CrossFit Class
DESCRIPTION:
URL:https://crossfitchaparral.com/event/crossfit-class-6/2027-02-18/
CATEGORIES:CrossFit Class
END:VEVENT
BEGIN:VEVENT
DTSTART;TZID=UTC:20270218T183000
DTEND;TZID=UTC:20270218T193000
DTSTAMP:20260424T221309
CREATED:20251027T170840Z
LAST-MODIFIED:20251027T170858Z
UID:10009672-1802975400-1802979000@crossfitchaparral.com
SUMMARY:CrossFit Class
DESCRIPTION:
URL:https://crossfitchaparral.com/event/crossfit-class-7/2027-02-18/
CATEGORIES:CrossFit Class
END:VEVENT
BEGIN:VEVENT
DTSTART;TZID=UTC:20270219T053000
DTEND;TZID=UTC:20270219T063000
DTSTAMP:20260424T221309
CREATED:20251027T164919Z
LAST-MODIFIED:20251027T164919Z
UID:10001650-1803015000-1803018600@crossfitchaparral.com
SUMMARY:CrossFit Class
DESCRIPTION:
URL:https://crossfitchaparral.com/event/crossfit-class/2027-02-19/
CATEGORIES:CrossFit Class
END:VEVENT
BEGIN:VEVENT
DTSTART;TZID=UTC:20270219T063000
DTEND;TZID=UTC:20270219T193000
DTSTAMP:20260424T221309
CREATED:20251027T165009Z
LAST-MODIFIED:20251027T165009Z
UID:10002955-1803018600-1803065400@crossfitchaparral.com
SUMMARY:CrossFit Class
DESCRIPTION:
URL:https://crossfitchaparral.com/event/crossfit-class-2/2027-02-19/
CATEGORIES:CrossFit Class
END:VEVENT
BEGIN:VEVENT
DTSTART;TZID=UTC:20270219T083000
DTEND;TZID=UTC:20270219T093000
DTSTAMP:20260424T221309
CREATED:20251027T165257Z
LAST-MODIFIED:20251027T165257Z
UID:10005289-1803025800-1803029400@crossfitchaparral.com
SUMMARY:CrossFit Class
DESCRIPTION:
URL:https://crossfitchaparral.com/event/crossfit-class-3/2027-02-19/
CATEGORIES:CrossFit Class
END:VEVENT
BEGIN:VEVENT
DTSTART;TZID=UTC:20270219T163000
DTEND;TZID=UTC:20270219T173000
DTSTAMP:20260424T221309
CREATED:20251027T165935Z
LAST-MODIFIED:20251027T165935Z
UID:10007131-1803054600-1803058200@crossfitchaparral.com
SUMMARY:CrossFit Class
DESCRIPTION:
URL:https://crossfitchaparral.com/event/crossfit-class-5/2027-02-19/
CATEGORIES:CrossFit Class
END:VEVENT
BEGIN:VEVENT
DTSTART;TZID=UTC:20270219T173000
DTEND;TZID=UTC:20270219T183000
DTSTAMP:20260424T221309
CREATED:20251027T170752Z
LAST-MODIFIED:20251027T170752Z
UID:10008436-1803058200-1803061800@crossfitchaparral.com
SUMMARY:CrossFit Class
DESCRIPTION:
URL:https://crossfitchaparral.com/event/crossfit-class-6/2027-02-19/
CATEGORIES:CrossFit Class
END:VEVENT
BEGIN:VEVENT
DTSTART;TZID=UTC:20270220T080000
DTEND;TZID=UTC:20270220T090000
DTSTAMP:20260424T221309
CREATED:20251027T165352Z
LAST-MODIFIED:20251027T165352Z
UID:10005550-1803110400-1803114000@crossfitchaparral.com
SUMMARY:CrossFit Class
DESCRIPTION:
URL:https://crossfitchaparral.com/event/crossfit-class-4/2027-02-20/
CATEGORIES:CrossFit Class
END:VEVENT
BEGIN:VEVENT
DTSTART;TZID=UTC:20270222T053000
DTEND;TZID=UTC:20270222T063000
DTSTAMP:20260424T221309
CREATED:20251027T164919Z
LAST-MODIFIED:20251027T164919Z
UID:10001651-1803274200-1803277800@crossfitchaparral.com
SUMMARY:CrossFit Class
DESCRIPTION:
URL:https://crossfitchaparral.com/event/crossfit-class/2027-02-22/
CATEGORIES:CrossFit Class
END:VEVENT
BEGIN:VEVENT
DTSTART;TZID=UTC:20270222T063000
DTEND;TZID=UTC:20270222T193000
DTSTAMP:20260424T221309
CREATED:20251027T165009Z
LAST-MODIFIED:20251027T165009Z
UID:10002956-1803277800-1803324600@crossfitchaparral.com
SUMMARY:CrossFit Class
DESCRIPTION:
URL:https://crossfitchaparral.com/event/crossfit-class-2/2027-02-22/
CATEGORIES:CrossFit Class
END:VEVENT
BEGIN:VEVENT
DTSTART;TZID=UTC:20270222T163000
DTEND;TZID=UTC:20270222T173000
DTSTAMP:20260424T221309
CREATED:20251027T165935Z
LAST-MODIFIED:20251027T165935Z
UID:10007132-1803313800-1803317400@crossfitchaparral.com
SUMMARY:CrossFit Class
DESCRIPTION:
URL:https://crossfitchaparral.com/event/crossfit-class-5/2027-02-22/
CATEGORIES:CrossFit Class
END:VEVENT
BEGIN:VEVENT
DTSTART;TZID=UTC:20270222T173000
DTEND;TZID=UTC:20270222T183000
DTSTAMP:20260424T221309
CREATED:20251027T170752Z
LAST-MODIFIED:20251027T170752Z
UID:10008437-1803317400-1803321000@crossfitchaparral.com
SUMMARY:CrossFit Class
DESCRIPTION:
URL:https://crossfitchaparral.com/event/crossfit-class-6/2027-02-22/
CATEGORIES:CrossFit Class
END:VEVENT
BEGIN:VEVENT
DTSTART;TZID=UTC:20270222T183000
DTEND;TZID=UTC:20270222T193000
DTSTAMP:20260424T221309
CREATED:20251027T170840Z
LAST-MODIFIED:20251027T170858Z
UID:10009673-1803321000-1803324600@crossfitchaparral.com
SUMMARY:CrossFit Class
DESCRIPTION:
URL:https://crossfitchaparral.com/event/crossfit-class-7/2027-02-22/
CATEGORIES:CrossFit Class
END:VEVENT
BEGIN:VEVENT
DTSTART;TZID=UTC:20270223T053000
DTEND;TZID=UTC:20270223T063000
DTSTAMP:20260424T221309
CREATED:20251027T164919Z
LAST-MODIFIED:20251027T164919Z
UID:10001652-1803360600-1803364200@crossfitchaparral.com
SUMMARY:CrossFit Class
DESCRIPTION:
URL:https://crossfitchaparral.com/event/crossfit-class/2027-02-23/
CATEGORIES:CrossFit Class
END:VEVENT
BEGIN:VEVENT
DTSTART;TZID=UTC:20270223T063000
DTEND;TZID=UTC:20270223T193000
DTSTAMP:20260424T221309
CREATED:20251027T165009Z
LAST-MODIFIED:20251027T165009Z
UID:10002957-1803364200-1803411000@crossfitchaparral.com
SUMMARY:CrossFit Class
DESCRIPTION:
URL:https://crossfitchaparral.com/event/crossfit-class-2/2027-02-23/
CATEGORIES:CrossFit Class
END:VEVENT
BEGIN:VEVENT
DTSTART;TZID=UTC:20270223T163000
DTEND;TZID=UTC:20270223T173000
DTSTAMP:20260424T221309
CREATED:20251027T165935Z
LAST-MODIFIED:20251027T165935Z
UID:10007133-1803400200-1803403800@crossfitchaparral.com
SUMMARY:CrossFit Class
DESCRIPTION:
URL:https://crossfitchaparral.com/event/crossfit-class-5/2027-02-23/
CATEGORIES:CrossFit Class
END:VEVENT
BEGIN:VEVENT
DTSTART;TZID=UTC:20270223T173000
DTEND;TZID=UTC:20270223T183000
DTSTAMP:20260424T221309
CREATED:20251027T170752Z
LAST-MODIFIED:20251027T170752Z
UID:10008438-1803403800-1803407400@crossfitchaparral.com
SUMMARY:CrossFit Class
DESCRIPTION:
URL:https://crossfitchaparral.com/event/crossfit-class-6/2027-02-23/
CATEGORIES:CrossFit Class
END:VEVENT
BEGIN:VEVENT
DTSTART;TZID=UTC:20270223T183000
DTEND;TZID=UTC:20270223T193000
DTSTAMP:20260424T221310
CREATED:20251027T170840Z
LAST-MODIFIED:20251027T170858Z
UID:10009674-1803407400-1803411000@crossfitchaparral.com
SUMMARY:CrossFit Class
DESCRIPTION:
URL:https://crossfitchaparral.com/event/crossfit-class-7/2027-02-23/
CATEGORIES:CrossFit Class
END:VEVENT
BEGIN:VEVENT
DTSTART;TZID=UTC:20270224T053000
DTEND;TZID=UTC:20270224T063000
DTSTAMP:20260424T221310
CREATED:20251027T164919Z
LAST-MODIFIED:20251027T164919Z
UID:10001653-1803447000-1803450600@crossfitchaparral.com
SUMMARY:CrossFit Class
DESCRIPTION:
URL:https://crossfitchaparral.com/event/crossfit-class/2027-02-24/
CATEGORIES:CrossFit Class
END:VEVENT
BEGIN:VEVENT
DTSTART;TZID=UTC:20270224T063000
DTEND;TZID=UTC:20270224T193000
DTSTAMP:20260424T221310
CREATED:20251027T165009Z
LAST-MODIFIED:20251027T165009Z
UID:10002958-1803450600-1803497400@crossfitchaparral.com
SUMMARY:CrossFit Class
DESCRIPTION:
URL:https://crossfitchaparral.com/event/crossfit-class-2/2027-02-24/
CATEGORIES:CrossFit Class
END:VEVENT
BEGIN:VEVENT
DTSTART;TZID=UTC:20270224T163000
DTEND;TZID=UTC:20270224T173000
DTSTAMP:20260424T221310
CREATED:20251027T165935Z
LAST-MODIFIED:20251027T165935Z
UID:10007134-1803486600-1803490200@crossfitchaparral.com
SUMMARY:CrossFit Class
DESCRIPTION:
URL:https://crossfitchaparral.com/event/crossfit-class-5/2027-02-24/
CATEGORIES:CrossFit Class
END:VEVENT
BEGIN:VEVENT
DTSTART;TZID=UTC:20270224T173000
DTEND;TZID=UTC:20270224T183000
DTSTAMP:20260424T221310
CREATED:20251027T170752Z
LAST-MODIFIED:20251027T170752Z
UID:10008439-1803490200-1803493800@crossfitchaparral.com
SUMMARY:CrossFit Class
DESCRIPTION:
URL:https://crossfitchaparral.com/event/crossfit-class-6/2027-02-24/
CATEGORIES:CrossFit Class
END:VEVENT
BEGIN:VEVENT
DTSTART;TZID=UTC:20270224T183000
DTEND;TZID=UTC:20270224T193000
DTSTAMP:20260424T221310
CREATED:20251027T170840Z
LAST-MODIFIED:20251027T170858Z
UID:10009675-1803493800-1803497400@crossfitchaparral.com
SUMMARY:CrossFit Class
DESCRIPTION:
URL:https://crossfitchaparral.com/event/crossfit-class-7/2027-02-24/
CATEGORIES:CrossFit Class
END:VEVENT
BEGIN:VEVENT
DTSTART;TZID=UTC:20270225T053000
DTEND;TZID=UTC:20270225T063000
DTSTAMP:20260424T221310
CREATED:20251027T164919Z
LAST-MODIFIED:20251027T164919Z
UID:10001654-1803533400-1803537000@crossfitchaparral.com
SUMMARY:CrossFit Class
DESCRIPTION:
URL:https://crossfitchaparral.com/event/crossfit-class/2027-02-25/
CATEGORIES:CrossFit Class
END:VEVENT
END:VCALENDAR