BEGIN:VCALENDAR
VERSION:2.0
PRODID:-//CrossFit Chaparral - ECPv6.15.10//NONSGML v1.0//EN
CALSCALE:GREGORIAN
METHOD:PUBLISH
X-WR-CALNAME:CrossFit Chaparral
X-ORIGINAL-URL:https://crossfitchaparral.com
X-WR-CALDESC:Events for CrossFit Chaparral
REFRESH-INTERVAL;VALUE=DURATION:PT1H
X-Robots-Tag:noindex
X-PUBLISHED-TTL:PT1H
BEGIN:VTIMEZONE
TZID:UTC
BEGIN:STANDARD
TZOFFSETFROM:+0000
TZOFFSETTO:+0000
TZNAME:UTC
DTSTART:20260101T000000
END:STANDARD
END:VTIMEZONE
BEGIN:VEVENT
DTSTART;TZID=UTC:20270101T163000
DTEND;TZID=UTC:20270101T173000
DTSTAMP:20260424T081108
CREATED:20251027T165935Z
LAST-MODIFIED:20251027T165935Z
UID:10007096-1798821000-1798824600@crossfitchaparral.com
SUMMARY:CrossFit Class
DESCRIPTION:
URL:https://crossfitchaparral.com/event/crossfit-class-5/2027-01-01/
CATEGORIES:CrossFit Class
END:VEVENT
BEGIN:VEVENT
DTSTART;TZID=UTC:20270101T173000
DTEND;TZID=UTC:20270101T183000
DTSTAMP:20260424T081108
CREATED:20251027T170752Z
LAST-MODIFIED:20251027T170752Z
UID:10008401-1798824600-1798828200@crossfitchaparral.com
SUMMARY:CrossFit Class
DESCRIPTION:
URL:https://crossfitchaparral.com/event/crossfit-class-6/2027-01-01/
CATEGORIES:CrossFit Class
END:VEVENT
BEGIN:VEVENT
DTSTART;TZID=UTC:20270102T080000
DTEND;TZID=UTC:20270102T090000
DTSTAMP:20260424T081108
CREATED:20251027T165352Z
LAST-MODIFIED:20251027T165352Z
UID:10005543-1798876800-1798880400@crossfitchaparral.com
SUMMARY:CrossFit Class
DESCRIPTION:
URL:https://crossfitchaparral.com/event/crossfit-class-4/2027-01-02/
CATEGORIES:CrossFit Class
END:VEVENT
BEGIN:VEVENT
DTSTART;TZID=UTC:20270104T053000
DTEND;TZID=UTC:20270104T063000
DTSTAMP:20260424T081108
CREATED:20251027T164919Z
LAST-MODIFIED:20251027T164919Z
UID:10001616-1799040600-1799044200@crossfitchaparral.com
SUMMARY:CrossFit Class
DESCRIPTION:
URL:https://crossfitchaparral.com/event/crossfit-class/2027-01-04/
CATEGORIES:CrossFit Class
END:VEVENT
BEGIN:VEVENT
DTSTART;TZID=UTC:20270104T063000
DTEND;TZID=UTC:20270104T193000
DTSTAMP:20260424T081108
CREATED:20251027T165009Z
LAST-MODIFIED:20251027T165009Z
UID:10002921-1799044200-1799091000@crossfitchaparral.com
SUMMARY:CrossFit Class
DESCRIPTION:
URL:https://crossfitchaparral.com/event/crossfit-class-2/2027-01-04/
CATEGORIES:CrossFit Class
END:VEVENT
BEGIN:VEVENT
DTSTART;TZID=UTC:20270104T163000
DTEND;TZID=UTC:20270104T173000
DTSTAMP:20260424T081108
CREATED:20251027T165935Z
LAST-MODIFIED:20251027T165935Z
UID:10007097-1799080200-1799083800@crossfitchaparral.com
SUMMARY:CrossFit Class
DESCRIPTION:
URL:https://crossfitchaparral.com/event/crossfit-class-5/2027-01-04/
CATEGORIES:CrossFit Class
END:VEVENT
BEGIN:VEVENT
DTSTART;TZID=UTC:20270104T173000
DTEND;TZID=UTC:20270104T183000
DTSTAMP:20260424T081108
CREATED:20251027T170752Z
LAST-MODIFIED:20251027T170752Z
UID:10008402-1799083800-1799087400@crossfitchaparral.com
SUMMARY:CrossFit Class
DESCRIPTION:
URL:https://crossfitchaparral.com/event/crossfit-class-6/2027-01-04/
CATEGORIES:CrossFit Class
END:VEVENT
BEGIN:VEVENT
DTSTART;TZID=UTC:20270104T183000
DTEND;TZID=UTC:20270104T193000
DTSTAMP:20260424T081108
CREATED:20251027T170840Z
LAST-MODIFIED:20251027T170858Z
UID:10009645-1799087400-1799091000@crossfitchaparral.com
SUMMARY:CrossFit Class
DESCRIPTION:
URL:https://crossfitchaparral.com/event/crossfit-class-7/2027-01-04/
CATEGORIES:CrossFit Class
END:VEVENT
BEGIN:VEVENT
DTSTART;TZID=UTC:20270105T053000
DTEND;TZID=UTC:20270105T063000
DTSTAMP:20260424T081108
CREATED:20251027T164919Z
LAST-MODIFIED:20251027T164919Z
UID:10001617-1799127000-1799130600@crossfitchaparral.com
SUMMARY:CrossFit Class
DESCRIPTION:
URL:https://crossfitchaparral.com/event/crossfit-class/2027-01-05/
CATEGORIES:CrossFit Class
END:VEVENT
BEGIN:VEVENT
DTSTART;TZID=UTC:20270105T063000
DTEND;TZID=UTC:20270105T193000
DTSTAMP:20260424T081108
CREATED:20251027T165009Z
LAST-MODIFIED:20251027T165009Z
UID:10002922-1799130600-1799177400@crossfitchaparral.com
SUMMARY:CrossFit Class
DESCRIPTION:
URL:https://crossfitchaparral.com/event/crossfit-class-2/2027-01-05/
CATEGORIES:CrossFit Class
END:VEVENT
BEGIN:VEVENT
DTSTART;TZID=UTC:20270105T163000
DTEND;TZID=UTC:20270105T173000
DTSTAMP:20260424T081108
CREATED:20251027T165935Z
LAST-MODIFIED:20251027T165935Z
UID:10007098-1799166600-1799170200@crossfitchaparral.com
SUMMARY:CrossFit Class
DESCRIPTION:
URL:https://crossfitchaparral.com/event/crossfit-class-5/2027-01-05/
CATEGORIES:CrossFit Class
END:VEVENT
BEGIN:VEVENT
DTSTART;TZID=UTC:20270105T173000
DTEND;TZID=UTC:20270105T183000
DTSTAMP:20260424T081108
CREATED:20251027T170752Z
LAST-MODIFIED:20251027T170752Z
UID:10008403-1799170200-1799173800@crossfitchaparral.com
SUMMARY:CrossFit Class
DESCRIPTION:
URL:https://crossfitchaparral.com/event/crossfit-class-6/2027-01-05/
CATEGORIES:CrossFit Class
END:VEVENT
BEGIN:VEVENT
DTSTART;TZID=UTC:20270105T183000
DTEND;TZID=UTC:20270105T193000
DTSTAMP:20260424T081108
CREATED:20251027T170840Z
LAST-MODIFIED:20251027T170858Z
UID:10009646-1799173800-1799177400@crossfitchaparral.com
SUMMARY:CrossFit Class
DESCRIPTION:
URL:https://crossfitchaparral.com/event/crossfit-class-7/2027-01-05/
CATEGORIES:CrossFit Class
END:VEVENT
BEGIN:VEVENT
DTSTART;TZID=UTC:20270106T053000
DTEND;TZID=UTC:20270106T063000
DTSTAMP:20260424T081108
CREATED:20251027T164919Z
LAST-MODIFIED:20251027T164919Z
UID:10001618-1799213400-1799217000@crossfitchaparral.com
SUMMARY:CrossFit Class
DESCRIPTION:
URL:https://crossfitchaparral.com/event/crossfit-class/2027-01-06/
CATEGORIES:CrossFit Class
END:VEVENT
BEGIN:VEVENT
DTSTART;TZID=UTC:20270106T063000
DTEND;TZID=UTC:20270106T193000
DTSTAMP:20260424T081108
CREATED:20251027T165009Z
LAST-MODIFIED:20251027T165009Z
UID:10002923-1799217000-1799263800@crossfitchaparral.com
SUMMARY:CrossFit Class
DESCRIPTION:
URL:https://crossfitchaparral.com/event/crossfit-class-2/2027-01-06/
CATEGORIES:CrossFit Class
END:VEVENT
BEGIN:VEVENT
DTSTART;TZID=UTC:20270106T163000
DTEND;TZID=UTC:20270106T173000
DTSTAMP:20260424T081108
CREATED:20251027T165935Z
LAST-MODIFIED:20251027T165935Z
UID:10007099-1799253000-1799256600@crossfitchaparral.com
SUMMARY:CrossFit Class
DESCRIPTION:
URL:https://crossfitchaparral.com/event/crossfit-class-5/2027-01-06/
CATEGORIES:CrossFit Class
END:VEVENT
BEGIN:VEVENT
DTSTART;TZID=UTC:20270106T173000
DTEND;TZID=UTC:20270106T183000
DTSTAMP:20260424T081108
CREATED:20251027T170752Z
LAST-MODIFIED:20251027T170752Z
UID:10008404-1799256600-1799260200@crossfitchaparral.com
SUMMARY:CrossFit Class
DESCRIPTION:
URL:https://crossfitchaparral.com/event/crossfit-class-6/2027-01-06/
CATEGORIES:CrossFit Class
END:VEVENT
BEGIN:VEVENT
DTSTART;TZID=UTC:20270106T183000
DTEND;TZID=UTC:20270106T193000
DTSTAMP:20260424T081108
CREATED:20251027T170840Z
LAST-MODIFIED:20251027T170858Z
UID:10009647-1799260200-1799263800@crossfitchaparral.com
SUMMARY:CrossFit Class
DESCRIPTION:
URL:https://crossfitchaparral.com/event/crossfit-class-7/2027-01-06/
CATEGORIES:CrossFit Class
END:VEVENT
BEGIN:VEVENT
DTSTART;TZID=UTC:20270107T053000
DTEND;TZID=UTC:20270107T063000
DTSTAMP:20260424T081108
CREATED:20251027T164919Z
LAST-MODIFIED:20251027T164919Z
UID:10001619-1799299800-1799303400@crossfitchaparral.com
SUMMARY:CrossFit Class
DESCRIPTION:
URL:https://crossfitchaparral.com/event/crossfit-class/2027-01-07/
CATEGORIES:CrossFit Class
END:VEVENT
BEGIN:VEVENT
DTSTART;TZID=UTC:20270107T063000
DTEND;TZID=UTC:20270107T193000
DTSTAMP:20260424T081108
CREATED:20251027T165009Z
LAST-MODIFIED:20251027T165009Z
UID:10002924-1799303400-1799350200@crossfitchaparral.com
SUMMARY:CrossFit Class
DESCRIPTION:
URL:https://crossfitchaparral.com/event/crossfit-class-2/2027-01-07/
CATEGORIES:CrossFit Class
END:VEVENT
BEGIN:VEVENT
DTSTART;TZID=UTC:20270107T163000
DTEND;TZID=UTC:20270107T173000
DTSTAMP:20260424T081108
CREATED:20251027T165935Z
LAST-MODIFIED:20251027T165935Z
UID:10007100-1799339400-1799343000@crossfitchaparral.com
SUMMARY:CrossFit Class
DESCRIPTION:
URL:https://crossfitchaparral.com/event/crossfit-class-5/2027-01-07/
CATEGORIES:CrossFit Class
END:VEVENT
BEGIN:VEVENT
DTSTART;TZID=UTC:20270107T173000
DTEND;TZID=UTC:20270107T183000
DTSTAMP:20260424T081108
CREATED:20251027T170752Z
LAST-MODIFIED:20251027T170752Z
UID:10008405-1799343000-1799346600@crossfitchaparral.com
SUMMARY:CrossFit Class
DESCRIPTION:
URL:https://crossfitchaparral.com/event/crossfit-class-6/2027-01-07/
CATEGORIES:CrossFit Class
END:VEVENT
BEGIN:VEVENT
DTSTART;TZID=UTC:20270107T183000
DTEND;TZID=UTC:20270107T193000
DTSTAMP:20260424T081108
CREATED:20251027T170840Z
LAST-MODIFIED:20251027T170858Z
UID:10009648-1799346600-1799350200@crossfitchaparral.com
SUMMARY:CrossFit Class
DESCRIPTION:
URL:https://crossfitchaparral.com/event/crossfit-class-7/2027-01-07/
CATEGORIES:CrossFit Class
END:VEVENT
BEGIN:VEVENT
DTSTART;TZID=UTC:20270108T053000
DTEND;TZID=UTC:20270108T063000
DTSTAMP:20260424T081108
CREATED:20251027T164919Z
LAST-MODIFIED:20251027T164919Z
UID:10001620-1799386200-1799389800@crossfitchaparral.com
SUMMARY:CrossFit Class
DESCRIPTION:
URL:https://crossfitchaparral.com/event/crossfit-class/2027-01-08/
CATEGORIES:CrossFit Class
END:VEVENT
BEGIN:VEVENT
DTSTART;TZID=UTC:20270108T063000
DTEND;TZID=UTC:20270108T193000
DTSTAMP:20260424T081108
CREATED:20251027T165009Z
LAST-MODIFIED:20251027T165009Z
UID:10002925-1799389800-1799436600@crossfitchaparral.com
SUMMARY:CrossFit Class
DESCRIPTION:
URL:https://crossfitchaparral.com/event/crossfit-class-2/2027-01-08/
CATEGORIES:CrossFit Class
END:VEVENT
BEGIN:VEVENT
DTSTART;TZID=UTC:20270108T083000
DTEND;TZID=UTC:20270108T093000
DTSTAMP:20260424T081108
CREATED:20251027T165257Z
LAST-MODIFIED:20251027T165257Z
UID:10005283-1799397000-1799400600@crossfitchaparral.com
SUMMARY:CrossFit Class
DESCRIPTION:
URL:https://crossfitchaparral.com/event/crossfit-class-3/2027-01-08/
CATEGORIES:CrossFit Class
END:VEVENT
BEGIN:VEVENT
DTSTART;TZID=UTC:20270108T163000
DTEND;TZID=UTC:20270108T173000
DTSTAMP:20260424T081108
CREATED:20251027T165935Z
LAST-MODIFIED:20251027T165935Z
UID:10007101-1799425800-1799429400@crossfitchaparral.com
SUMMARY:CrossFit Class
DESCRIPTION:
URL:https://crossfitchaparral.com/event/crossfit-class-5/2027-01-08/
CATEGORIES:CrossFit Class
END:VEVENT
BEGIN:VEVENT
DTSTART;TZID=UTC:20270108T173000
DTEND;TZID=UTC:20270108T183000
DTSTAMP:20260424T081108
CREATED:20251027T170752Z
LAST-MODIFIED:20251027T170752Z
UID:10008406-1799429400-1799433000@crossfitchaparral.com
SUMMARY:CrossFit Class
DESCRIPTION:
URL:https://crossfitchaparral.com/event/crossfit-class-6/2027-01-08/
CATEGORIES:CrossFit Class
END:VEVENT
BEGIN:VEVENT
DTSTART;TZID=UTC:20270109T080000
DTEND;TZID=UTC:20270109T090000
DTSTAMP:20260424T081108
CREATED:20251027T165352Z
LAST-MODIFIED:20251027T165352Z
UID:10005544-1799481600-1799485200@crossfitchaparral.com
SUMMARY:CrossFit Class
DESCRIPTION:
URL:https://crossfitchaparral.com/event/crossfit-class-4/2027-01-09/
CATEGORIES:CrossFit Class
END:VEVENT
BEGIN:VEVENT
DTSTART;TZID=UTC:20270111T053000
DTEND;TZID=UTC:20270111T063000
DTSTAMP:20260424T081108
CREATED:20251027T164919Z
LAST-MODIFIED:20251027T164919Z
UID:10001621-1799645400-1799649000@crossfitchaparral.com
SUMMARY:CrossFit Class
DESCRIPTION:
URL:https://crossfitchaparral.com/event/crossfit-class/2027-01-11/
CATEGORIES:CrossFit Class
END:VEVENT
END:VCALENDAR